BEGIN:VCALENDAR
VERSION:2.0
PRODID:-//Jewish Senior Citizen’s Centre - ECPv6.15.17.1//NONSGML v1.0//EN
CALSCALE:GREGORIAN
METHOD:PUBLISH
X-WR-CALNAME:Jewish Senior Citizen’s Centre
X-ORIGINAL-URL:https://www.jdicseniors.ca
X-WR-CALDESC:Events for Jewish Senior Citizen’s Centre
REFRESH-INTERVAL;VALUE=DURATION:PT1H
X-Robots-Tag:noindex
X-PUBLISHED-TTL:PT1H
BEGIN:VTIMEZONE
TZID:America/Edmonton
BEGIN:DAYLIGHT
TZOFFSETFROM:-0700
TZOFFSETTO:-0600
TZNAME:MDT
DTSTART:20230312T090000
END:DAYLIGHT
BEGIN:STANDARD
TZOFFSETFROM:-0600
TZOFFSETTO:-0700
TZNAME:MST
DTSTART:20231105T080000
END:STANDARD
BEGIN:DAYLIGHT
TZOFFSETFROM:-0700
TZOFFSETTO:-0600
TZNAME:MDT
DTSTART:20240310T090000
END:DAYLIGHT
BEGIN:STANDARD
TZOFFSETFROM:-0600
TZOFFSETTO:-0700
TZNAME:MST
DTSTART:20241103T080000
END:STANDARD
BEGIN:DAYLIGHT
TZOFFSETFROM:-0700
TZOFFSETTO:-0600
TZNAME:MDT
DTSTART:20250309T090000
END:DAYLIGHT
BEGIN:STANDARD
TZOFFSETFROM:-0600
TZOFFSETTO:-0700
TZNAME:MST
DTSTART:20251102T080000
END:STANDARD
END:VTIMEZONE
BEGIN:VEVENT
DTSTART;VALUE=DATE:20240401
DTEND;VALUE=DATE:20240402
DTSTAMP:20260419T141339
CREATED:20240327T222943Z
LAST-MODIFIED:20240328T174631Z
UID:10002042-1711929600-1712015999@www.jdicseniors.ca
SUMMARY:CENTRE CLOSED
DESCRIPTION:
URL:https://www.jdicseniors.ca/event/centre-closed-4/
LOCATION:The Centre\, 10052-117 St. NW\, Edmonton\, Alberta\, T5K 1X2\, Canada
CATEGORIES:Closures
ORGANIZER;CN="JDIC":MAILTO:programmer@jdicseniors.ca
END:VEVENT
BEGIN:VEVENT
DTSTART;VALUE=DATE:20240402
DTEND;VALUE=DATE:20240403
DTSTAMP:20260419T141339
CREATED:20240327T194943Z
LAST-MODIFIED:20240327T194943Z
UID:10001810-1712016000-1712102399@www.jdicseniors.ca
SUMMARY:Lunch Menu | Apr 2
DESCRIPTION:BorschtBagels & Lox\nSalad/Dessert
URL:https://www.jdicseniors.ca/event/lunch-menu-apr-2/
LOCATION:The Centre\, 10052-117 St. NW\, Edmonton\, Alberta\, T5K 1X2\, Canada
CATEGORIES:Menu
ORGANIZER;CN="JDIC":MAILTO:programmer@jdicseniors.ca
END:VEVENT
BEGIN:VEVENT
DTSTART;TZID=America/Edmonton:20240402T104500
DTEND;TZID=America/Edmonton:20240402T114500
DTSTAMP:20260419T141339
CREATED:20231204T224310Z
LAST-MODIFIED:20240904T201856Z
UID:10000643-1712054700-1712058300@www.jdicseniors.ca
SUMMARY:Use it or Lose it With Bonnie Austen
DESCRIPTION:Use it or Lose it With Bonnie Austen\nCardio & Strength training\, Flexibility & Balance & Laugher \nTuesdays @10:45a.m.\nhttps://us02web.Zoom.us/j/89274775349 \nFee: $7 drop-in or card of 10 classes $60
URL:https://www.jdicseniors.ca/event/use-it-or-lose-it-with-bonnie-austen-2/2024-04-02/
LOCATION:Zoom
CATEGORIES:Health & Wellness
ATTACH;FMTTYPE=image/png:https://www.jdicseniors.ca/wp-content/uploads/2023/12/Screen-Shot-2023-12-04-at-4.45.12-PM.png
ORGANIZER;CN="JDIC":MAILTO:programmer@jdicseniors.ca
END:VEVENT
BEGIN:VEVENT
DTSTART;TZID=America/Edmonton:20240402T130000
DTEND;TZID=America/Edmonton:20240402T140000
DTSTAMP:20260419T141339
CREATED:20240327T212002Z
LAST-MODIFIED:20240327T212442Z
UID:10001982-1712062800-1712066400@www.jdicseniors.ca
SUMMARY:The History of Bollywood
DESCRIPTION:Tuesday\, April 2 at 1p.m.\nJoin our wonderful speaker Aashna from the Connecting Seniors with Care UAlberta to learn about the history of iconic Bollywood.  Expect to be surprised and inspired! 
URL:https://www.jdicseniors.ca/event/the-history-of-bollywood/
LOCATION:Alberta
CATEGORIES:Special Events & Presentations
ATTACH;FMTTYPE=image/jpeg:https://www.jdicseniors.ca/wp-content/uploads/2024/03/image13-2.jpg
END:VEVENT
BEGIN:VEVENT
DTSTART;VALUE=DATE:20240403
DTEND;VALUE=DATE:20240404
DTSTAMP:20260419T141339
CREATED:20240327T194943Z
LAST-MODIFIED:20240419T212001Z
UID:10001811-1712102400-1712188799@www.jdicseniors.ca
SUMMARY:Lunch Menu | Apr 3
DESCRIPTION:Surprise Lunch
URL:https://www.jdicseniors.ca/event/lunch-menu-apr-3/
LOCATION:The Centre\, 10052-117 St. NW\, Edmonton\, Alberta\, T5K 1X2\, Canada
CATEGORIES:Menu
ORGANIZER;CN="JDIC":MAILTO:programmer@jdicseniors.ca
END:VEVENT
BEGIN:VEVENT
DTSTART;TZID=America/Edmonton:20240403T130000
DTEND;TZID=America/Edmonton:20240403T140000
DTSTAMP:20260419T141339
CREATED:20240327T211919Z
LAST-MODIFIED:20240327T211919Z
UID:10001976-1712149200-1712152800@www.jdicseniors.ca
SUMMARY:Ikebana Classes
DESCRIPTION:The classes will resume  on Wednesday\, March 6 at 1p.m.  \nPlease contact our Ikebana Master Brenda for details \nikebanaclub@gmail.com\, 780-803-4481
URL:https://www.jdicseniors.ca/event/ikebana-classes/2024-04-03/
LOCATION:Alberta
CATEGORIES:Fun & Games
ATTACH;FMTTYPE=image/jpeg:https://www.jdicseniors.ca/wp-content/uploads/2024/03/image8-2.jpg
END:VEVENT
BEGIN:VEVENT
DTSTART;TZID=America/Edmonton:20240403T130000
DTEND;TZID=America/Edmonton:20240403T150000
DTSTAMP:20260419T141339
CREATED:20231204T221158Z
LAST-MODIFIED:20240904T201805Z
UID:10000378-1712149200-1712156400@www.jdicseniors.ca
SUMMARY:Whimsical Wednesdays
DESCRIPTION:Join a day of Fun\, Friendship & Craft!\nDo you play or want to play Canasta\, Cribbage\, Scrabble\, Mah Jongg or other card/board games?\nThis is a day when you can do whatever your heart desires! \nWhat’s more?\nWe offer a special light lunch that day for $10 only.\nPlease inform the Office about your game of choice!
URL:https://www.jdicseniors.ca/event/whimsical-wednesdays/2024-04-03/
LOCATION:The Centre\, 10052-117 St. NW\, Edmonton\, Alberta\, T5K 1X2\, Canada
CATEGORIES:Fun & Games
ATTACH;FMTTYPE=image/jpeg:https://www.jdicseniors.ca/wp-content/uploads/2023/12/pexels-kampus-production-6838584.jpg
ORGANIZER;CN="JDIC":MAILTO:programmer@jdicseniors.ca
END:VEVENT
BEGIN:VEVENT
DTSTART;VALUE=DATE:20240404
DTEND;VALUE=DATE:20240405
DTSTAMP:20260419T141339
CREATED:20240327T194943Z
LAST-MODIFIED:20240327T194943Z
UID:10001812-1712188800-1712275199@www.jdicseniors.ca
SUMMARY:Lunch Menu | Apr 4
DESCRIPTION:Carrot DillSavory Tarts\nSalad/Dessert
URL:https://www.jdicseniors.ca/event/lunch-menu-apr-4/
LOCATION:The Centre\, 10052-117 St. NW\, Edmonton\, Alberta\, T5K 1X2\, Canada
CATEGORIES:Menu
ORGANIZER;CN="JDIC":MAILTO:programmer@jdicseniors.ca
END:VEVENT
BEGIN:VEVENT
DTSTART;TZID=America/Edmonton:20240404T110000
DTEND;TZID=America/Edmonton:20240404T120000
DTSTAMP:20260419T141339
CREATED:20231204T224311Z
LAST-MODIFIED:20240904T200650Z
UID:10000113-1712228400-1712232000@www.jdicseniors.ca
SUMMARY:Muscle in Motion with Anna Kratochvil
DESCRIPTION:Use Balls\, Bands & Weights to Exercise & Laugh\nThursdays @ 11:00a.m. \nhttps://us02web.Zoom.us/j/82287922466 \nFee: $7 drop-in or card of 10 classes $60
URL:https://www.jdicseniors.ca/event/muscle-in-motion-with-anna-kratochvil-2-2-2-2-2-2-2-2-2-2/2024-04-04/
LOCATION:Zoom
CATEGORIES:Health & Wellness
ATTACH;FMTTYPE=image/jpeg:https://www.jdicseniors.ca/wp-content/uploads/2023/12/PHOTO-2024-03-01-21-56-45.jpg
ORGANIZER;CN="JDIC":MAILTO:programmer@jdicseniors.ca
END:VEVENT
BEGIN:VEVENT
DTSTART;TZID=America/Edmonton:20240404T130000
DTEND;TZID=America/Edmonton:20240404T150000
DTSTAMP:20260419T141339
CREATED:20240327T210036Z
LAST-MODIFIED:20240327T210036Z
UID:10001966-1712235600-1712242800@www.jdicseniors.ca
SUMMARY:Intergenerational Trauma
DESCRIPTION:Thursday\, April 4 1p.m. – 3p.m.\nAs a society we are not well educated in resolving trauma or even knowing that as individuals we may be traumatized. The predominant individualistic attitudes of our culture can prevent people asking for help\, often feeling ashamed. How can we help? \nJonathan Hooton\, PhD\, SEP\, PhC\, was trained as a biochemist and followed a career in research for many years. Over the past 30 years he has explored many healing modalities including healing (talking) circles and training in energy work\, Integrative Body Psychotherapy\, and many more.
URL:https://www.jdicseniors.ca/event/intergenerational-trauma/
LOCATION:Alberta
CATEGORIES:Special Events & Presentations
END:VEVENT
END:VCALENDAR