BEGIN:VCALENDAR
VERSION:2.0
PRODID:-//Jewish Senior Citizen’s Centre - ECPv6.15.17.1//NONSGML v1.0//EN
CALSCALE:GREGORIAN
METHOD:PUBLISH
X-WR-CALNAME:Jewish Senior Citizen’s Centre
X-ORIGINAL-URL:https://www.jdicseniors.ca
X-WR-CALDESC:Events for Jewish Senior Citizen’s Centre
REFRESH-INTERVAL;VALUE=DURATION:PT1H
X-Robots-Tag:noindex
X-PUBLISHED-TTL:PT1H
BEGIN:VTIMEZONE
TZID:America/Edmonton
BEGIN:DAYLIGHT
TZOFFSETFROM:-0700
TZOFFSETTO:-0600
TZNAME:MDT
DTSTART:20230312T090000
END:DAYLIGHT
BEGIN:STANDARD
TZOFFSETFROM:-0600
TZOFFSETTO:-0700
TZNAME:MST
DTSTART:20231105T080000
END:STANDARD
BEGIN:DAYLIGHT
TZOFFSETFROM:-0700
TZOFFSETTO:-0600
TZNAME:MDT
DTSTART:20240310T090000
END:DAYLIGHT
BEGIN:STANDARD
TZOFFSETFROM:-0600
TZOFFSETTO:-0700
TZNAME:MST
DTSTART:20241103T080000
END:STANDARD
BEGIN:DAYLIGHT
TZOFFSETFROM:-0700
TZOFFSETTO:-0600
TZNAME:MDT
DTSTART:20250309T090000
END:DAYLIGHT
BEGIN:STANDARD
TZOFFSETFROM:-0600
TZOFFSETTO:-0700
TZNAME:MST
DTSTART:20251102T080000
END:STANDARD
END:VTIMEZONE
BEGIN:VEVENT
DTSTART;VALUE=DATE:20240311
DTEND;VALUE=DATE:20240312
DTSTAMP:20260419T155223
CREATED:20240327T194858Z
LAST-MODIFIED:20240327T194858Z
UID:10001798-1710115200-1710201599@www.jdicseniors.ca
SUMMARY:Lunch Menu | Mar 11
DESCRIPTION:Miso SoupVeggies with Rice\nSalad/Dessert
URL:https://www.jdicseniors.ca/event/lunch-menu-mar-11/
LOCATION:The Centre\, 10052-117 St. NW\, Edmonton\, Alberta\, T5K 1X2\, Canada
CATEGORIES:Menu
ORGANIZER;CN="JDIC":MAILTO:programmer@jdicseniors.ca
END:VEVENT
BEGIN:VEVENT
DTSTART;TZID=America/Edmonton:20240311T100000
DTEND;TZID=America/Edmonton:20240311T110000
DTSTAMP:20260419T155223
CREATED:20231204T224311Z
LAST-MODIFIED:20240628T164344Z
UID:10001172-1710151200-1710154800@www.jdicseniors.ca
SUMMARY:Young At Heart Choir Rehersals
DESCRIPTION:Will start rehearsals on Mondays at 10am. \nPlease contact the office if you would like to join as the Choir Master is always looking for new talents! \nChoirs fee is $50 for this period (you will receive a $25 tax receipt). \nAll choir participants must be paid members of the Centre.
URL:https://www.jdicseniors.ca/event/young-at-heart-choir-rehersals/2024-03-11/
LOCATION:The Centre\, 10052-117 St. NW\, Edmonton\, Alberta\, T5K 1X2\, Canada
CATEGORIES:Fun & Games
ATTACH;FMTTYPE=image/jpeg:https://www.jdicseniors.ca/wp-content/uploads/2023/12/PHOTO-2023-11-02-14-44-45.jpg
ORGANIZER;CN="JDIC":MAILTO:programmer@jdicseniors.ca
END:VEVENT
BEGIN:VEVENT
DTSTART;TZID=America/Edmonton:20240311T100000
DTEND;TZID=America/Edmonton:20240311T110000
DTSTAMP:20260419T155223
CREATED:20231204T224311Z
LAST-MODIFIED:20240904T202256Z
UID:10001438-1710151200-1710154800@www.jdicseniors.ca
SUMMARY:YOGA Classes
DESCRIPTION:YOGA Classes\nWe are looking forward to seeing all of you on Monday mornings at 10:00am to 11:00am.  \nMonday mornings @ 10:00a.m.–11:00a.m.\nOld and new faces are very WELCOME in-person & via Zoom! \nPlease register\nhttps://tinyurl.com/297jwcb4\n \nFee: $7 drop-in or card of 10 classes $60
URL:https://www.jdicseniors.ca/event/yoga-classes-2-2-4-2-2/2024-03-11/
LOCATION:The Centre\, 10052-117 St. NW\, Edmonton\, Alberta\, T5K 1X2\, Canada
CATEGORIES:Health & Wellness
ATTACH;FMTTYPE=image/jpeg:https://www.jdicseniors.ca/wp-content/uploads/2023/12/pexels-mikhail-nilov-7530023.jpg
ORGANIZER;CN="JDIC":MAILTO:programmer@jdicseniors.ca
END:VEVENT
BEGIN:VEVENT
DTSTART;TZID=America/Edmonton:20240311T130000
DTEND;TZID=America/Edmonton:20240311T150000
DTSTAMP:20260419T155223
CREATED:20240327T204717Z
LAST-MODIFIED:20240327T204717Z
UID:10001898-1710162000-1710169200@www.jdicseniors.ca
SUMMARY:A White Woman’s Integration into the First Nations Community: “Two World views and why we clashed” with Rita Makkannaw.
DESCRIPTION:March 11 1:00pm – 3:00pm\nRita is a Danish woman who married a traditional Cree elder\, Raven Makkannaw. He was the teacher\, the doctor and the spiritual leader. Together they devoted their lives to creating harmony between our people. Living in both worlds gave her an insight into how we can live together in a good way through understanding our differences and taking the best of both world views into the future.
URL:https://www.jdicseniors.ca/event/870-2-4/
LOCATION:The Centre\, 10052-117 St. NW\, Edmonton\, Alberta\, T5K 1X2\, Canada
CATEGORIES:Special Events & Presentations
END:VEVENT
BEGIN:VEVENT
DTSTART;VALUE=DATE:20240312
DTEND;VALUE=DATE:20240313
DTSTAMP:20260419T155223
CREATED:20240327T194913Z
LAST-MODIFIED:20240327T194913Z
UID:10001799-1710201600-1710287999@www.jdicseniors.ca
SUMMARY:Lunch Menu | Mar 12
DESCRIPTION:Broccoli SoupBaked Potato\nSalad/Dessert
URL:https://www.jdicseniors.ca/event/lunch-menu-mar-12/
LOCATION:The Centre\, 10052-117 St. NW\, Edmonton\, Alberta\, T5K 1X2\, Canada
CATEGORIES:Menu
ORGANIZER;CN="JDIC":MAILTO:programmer@jdicseniors.ca
END:VEVENT
BEGIN:VEVENT
DTSTART;TZID=America/Edmonton:20240312T104500
DTEND;TZID=America/Edmonton:20240312T114500
DTSTAMP:20260419T155223
CREATED:20231204T224310Z
LAST-MODIFIED:20240904T201856Z
UID:10000640-1710240300-1710243900@www.jdicseniors.ca
SUMMARY:Use it or Lose it With Bonnie Austen
DESCRIPTION:Use it or Lose it With Bonnie Austen\nCardio & Strength training\, Flexibility & Balance & Laugher \nTuesdays @10:45a.m.\nhttps://us02web.Zoom.us/j/89274775349 \nFee: $7 drop-in or card of 10 classes $60
URL:https://www.jdicseniors.ca/event/use-it-or-lose-it-with-bonnie-austen-2/2024-03-12/
LOCATION:Zoom
CATEGORIES:Health & Wellness
ATTACH;FMTTYPE=image/png:https://www.jdicseniors.ca/wp-content/uploads/2023/12/Screen-Shot-2023-12-04-at-4.45.12-PM.png
ORGANIZER;CN="JDIC":MAILTO:programmer@jdicseniors.ca
END:VEVENT
BEGIN:VEVENT
DTSTART;VALUE=DATE:20240313
DTEND;VALUE=DATE:20240314
DTSTAMP:20260419T155223
CREATED:20240327T194913Z
LAST-MODIFIED:20240327T194913Z
UID:10001800-1710288000-1710374399@www.jdicseniors.ca
SUMMARY:Lunch Menu | Mar 13
DESCRIPTION:Surprised Lunch
URL:https://www.jdicseniors.ca/event/lunch-menu-mar-13/
LOCATION:The Centre\, 10052-117 St. NW\, Edmonton\, Alberta\, T5K 1X2\, Canada
CATEGORIES:Menu
ORGANIZER;CN="JDIC":MAILTO:programmer@jdicseniors.ca
END:VEVENT
BEGIN:VEVENT
DTSTART;TZID=America/Edmonton:20240313T130000
DTEND;TZID=America/Edmonton:20240313T150000
DTSTAMP:20260419T155223
CREATED:20231204T221158Z
LAST-MODIFIED:20240904T201805Z
UID:10000375-1710334800-1710342000@www.jdicseniors.ca
SUMMARY:Whimsical Wednesdays
DESCRIPTION:Join a day of Fun\, Friendship & Craft!\nDo you play or want to play Canasta\, Cribbage\, Scrabble\, Mah Jongg or other card/board games?\nThis is a day when you can do whatever your heart desires! \nWhat’s more?\nWe offer a special light lunch that day for $10 only.\nPlease inform the Office about your game of choice!
URL:https://www.jdicseniors.ca/event/whimsical-wednesdays/2024-03-13/
LOCATION:The Centre\, 10052-117 St. NW\, Edmonton\, Alberta\, T5K 1X2\, Canada
CATEGORIES:Fun & Games
ATTACH;FMTTYPE=image/jpeg:https://www.jdicseniors.ca/wp-content/uploads/2023/12/pexels-kampus-production-6838584.jpg
ORGANIZER;CN="JDIC":MAILTO:programmer@jdicseniors.ca
END:VEVENT
BEGIN:VEVENT
DTSTART;VALUE=DATE:20240314
DTEND;VALUE=DATE:20240315
DTSTAMP:20260419T155223
CREATED:20240327T194913Z
LAST-MODIFIED:20240327T194913Z
UID:10001801-1710374400-1710460799@www.jdicseniors.ca
SUMMARY:Lunch Menu | Mar 14
DESCRIPTION:Minestrone SoupMushroom Stroganoff\nSalad/Dessert
URL:https://www.jdicseniors.ca/event/lunch-menu-mar-14/
LOCATION:The Centre\, 10052-117 St. NW\, Edmonton\, Alberta\, T5K 1X2\, Canada
CATEGORIES:Menu
ORGANIZER;CN="JDIC":MAILTO:programmer@jdicseniors.ca
END:VEVENT
BEGIN:VEVENT
DTSTART;TZID=America/Edmonton:20240314T110000
DTEND;TZID=America/Edmonton:20240314T120000
DTSTAMP:20260419T155223
CREATED:20231204T224311Z
LAST-MODIFIED:20240904T200650Z
UID:10000110-1710414000-1710417600@www.jdicseniors.ca
SUMMARY:Muscle in Motion with Anna Kratochvil
DESCRIPTION:Use Balls\, Bands & Weights to Exercise & Laugh\nThursdays @ 11:00a.m. \nhttps://us02web.Zoom.us/j/82287922466 \nFee: $7 drop-in or card of 10 classes $60
URL:https://www.jdicseniors.ca/event/muscle-in-motion-with-anna-kratochvil-2-2-2-2-2-2-2-2-2-2/2024-03-14/
LOCATION:Zoom
CATEGORIES:Health & Wellness
ATTACH;FMTTYPE=image/jpeg:https://www.jdicseniors.ca/wp-content/uploads/2023/12/PHOTO-2024-03-01-21-56-45.jpg
ORGANIZER;CN="JDIC":MAILTO:programmer@jdicseniors.ca
END:VEVENT
BEGIN:VEVENT
DTSTART;TZID=America/Edmonton:20240314T120000
DTEND;TZID=America/Edmonton:20240314T130000
DTSTAMP:20260419T155223
CREATED:20240327T210556Z
LAST-MODIFIED:20240327T210556Z
UID:10001970-1710417600-1710421200@www.jdicseniors.ca
SUMMARY:Fraud Prevention with the Edmonton Neighborhood Watch (ENW).
DESCRIPTION:On Thursday\, March 14 at 12p.m.\nThe ENW aims to build safer communities by providing crime-related information and supporting neighbourhood-level programs encouraging awareness\, education\, inclusion\, and participation.
URL:https://www.jdicseniors.ca/event/fraud-prevention-with-the-edmonton-neighborhood-watch-enw/
LOCATION:Alberta
CATEGORIES:Lunch & Learn
ATTACH;FMTTYPE=image/png:https://www.jdicseniors.ca/wp-content/uploads/2024/03/enw-logo-flat.png
END:VEVENT
END:VCALENDAR