BEGIN:VCALENDAR
VERSION:2.0
PRODID:-//Jewish Senior Citizen’s Centre - ECPv6.15.17.1//NONSGML v1.0//EN
CALSCALE:GREGORIAN
METHOD:PUBLISH
X-WR-CALNAME:Jewish Senior Citizen’s Centre
X-ORIGINAL-URL:https://www.jdicseniors.ca
X-WR-CALDESC:Events for Jewish Senior Citizen’s Centre
REFRESH-INTERVAL;VALUE=DURATION:PT1H
X-Robots-Tag:noindex
X-PUBLISHED-TTL:PT1H
BEGIN:VTIMEZONE
TZID:America/Edmonton
BEGIN:DAYLIGHT
TZOFFSETFROM:-0700
TZOFFSETTO:-0600
TZNAME:MDT
DTSTART:20230312T090000
END:DAYLIGHT
BEGIN:STANDARD
TZOFFSETFROM:-0600
TZOFFSETTO:-0700
TZNAME:MST
DTSTART:20231105T080000
END:STANDARD
BEGIN:DAYLIGHT
TZOFFSETFROM:-0700
TZOFFSETTO:-0600
TZNAME:MDT
DTSTART:20240310T090000
END:DAYLIGHT
BEGIN:STANDARD
TZOFFSETFROM:-0600
TZOFFSETTO:-0700
TZNAME:MST
DTSTART:20241103T080000
END:STANDARD
BEGIN:DAYLIGHT
TZOFFSETFROM:-0700
TZOFFSETTO:-0600
TZNAME:MDT
DTSTART:20250309T090000
END:DAYLIGHT
BEGIN:STANDARD
TZOFFSETFROM:-0600
TZOFFSETTO:-0700
TZNAME:MST
DTSTART:20251102T080000
END:STANDARD
END:VTIMEZONE
BEGIN:VEVENT
DTSTART;TZID=America/Edmonton:20240619T120000
DTEND;TZID=America/Edmonton:20240619T140000
DTSTAMP:20260420T004609
CREATED:20240605T191723Z
LAST-MODIFIED:20240605T203130Z
UID:10002211-1718798400-1718805600@www.jdicseniors.ca
SUMMARY:Bees and Neighbours: A Talk on City Pollinators and Urban Prairies
DESCRIPTION:Jewish Senior Citizen’s Centre Presents\nBees and Neighbours\nA Talk on City Pollinators and Urban Prairies\nJoin us for the delicious lunch and stay for the presentation by ecology writer Stephen Humphrey\, author of Paths of Pollen. \nHe will present a talk\, with pictures\, about the diverse community of pollinators buzzing around cities and the plants they visit. He will discuss efforts by cities\, conservationists and scientists to create “pollination corridors\,” flower-filled expressways for urban pollinators. He will also talk about prairies\, and attempts to restore and preserve these threatened habitats in Canadian cities. \nStephen Humphrey is a writer\, radio contributor\, and citizen naturalist. He has worked on audio documentaries for CBC Radio’s IDEAS\, such as “Planet You\,” about the human microbiome\, “Generation Mars\,” and “Dancing In The Dark: The Intelligence of Bees\,” which was short-listed for the prestigious New York Festival Award. His five-line bee poems\, accompanied by videos and photos\, are part of the living art project\, Resonating Bodies. \nPlease register by Monday\, June 17 via phone 780-488-4241 or email programmer@jdicseniors.ca
URL:https://www.jdicseniors.ca/event/bees-and-neighbours-a-talk-on-city-pollinators-and-urban-prairies/
LOCATION:The Centre\, 10052-117 St. NW\, Edmonton\, Alberta\, T5K 1X2\, Canada
CATEGORIES:Lunch & Learn,Special Events & Presentations
ATTACH;FMTTYPE=image/jpeg:https://www.jdicseniors.ca/wp-content/uploads/2024/06/bees-and-neighbours.jpg
ORGANIZER;CN="JDIC":MAILTO:programmer@jdicseniors.ca
END:VEVENT
BEGIN:VEVENT
DTSTART;VALUE=DATE:20240619
DTEND;VALUE=DATE:20240620
DTSTAMP:20260420T004609
CREATED:20240509T195623Z
LAST-MODIFIED:20240509T195623Z
UID:10002052-1718755200-1718841599@www.jdicseniors.ca
SUMMARY:Lunch Menu | June 19
DESCRIPTION:Surprise Lunch
URL:https://www.jdicseniors.ca/event/lunch-menu-june-19/
LOCATION:Alberta
CATEGORIES:Menu
END:VEVENT
BEGIN:VEVENT
DTSTART;TZID=America/Edmonton:20240618T130000
DTEND;TZID=America/Edmonton:20240618T150000
DTSTAMP:20260420T004609
CREATED:20240509T203959Z
LAST-MODIFIED:20240509T203959Z
UID:10002086-1718715600-1718722800@www.jdicseniors.ca
SUMMARY:What’s for Supper?
DESCRIPTION:Simplify meal planning and save time and energy with Kristen’s expert knowledge. Tired of the same old recipes? Join this session for fresh ideas and healthy recipes to try at home. Participants will receive a tip sheet and new recipes\, with time for idea and recipe sharing.
URL:https://www.jdicseniors.ca/event/whats-for-supper/
LOCATION:The Centre\, 10052-117 St. NW\, Edmonton\, Alberta\, T5K 1X2\, Canada
CATEGORIES:Special Events & Presentations
ORGANIZER;CN="JDIC":MAILTO:programmer@jdicseniors.ca
END:VEVENT
BEGIN:VEVENT
DTSTART;TZID=America/Edmonton:20240618T104500
DTEND;TZID=America/Edmonton:20240618T114500
DTSTAMP:20260420T004609
CREATED:20231204T224310Z
LAST-MODIFIED:20240904T201856Z
UID:10000654-1718707500-1718711100@www.jdicseniors.ca
SUMMARY:Use it or Lose it With Bonnie Austen
DESCRIPTION:Use it or Lose it With Bonnie Austen\nCardio & Strength training\, Flexibility & Balance & Laugher \nTuesdays @10:45a.m.\nhttps://us02web.Zoom.us/j/89274775349 \nFee: $7 drop-in or card of 10 classes $60
URL:https://www.jdicseniors.ca/event/use-it-or-lose-it-with-bonnie-austen-2/2024-06-18/
LOCATION:Zoom
CATEGORIES:Health & Wellness
ATTACH;FMTTYPE=image/png:https://www.jdicseniors.ca/wp-content/uploads/2023/12/Screen-Shot-2023-12-04-at-4.45.12-PM.png
ORGANIZER;CN="JDIC":MAILTO:programmer@jdicseniors.ca
END:VEVENT
BEGIN:VEVENT
DTSTART;VALUE=DATE:20240618
DTEND;VALUE=DATE:20240619
DTSTAMP:20260420T004609
CREATED:20240509T195623Z
LAST-MODIFIED:20240509T195623Z
UID:10002053-1718668800-1718755199@www.jdicseniors.ca
SUMMARY:Lunch Menu | June 18
DESCRIPTION:Pickle SoupMushroom Stroganoff\nSalad/Dessert
URL:https://www.jdicseniors.ca/event/lunch-menu-june-18/
LOCATION:Alberta
CATEGORIES:Menu
END:VEVENT
BEGIN:VEVENT
DTSTART;TZID=America/Edmonton:20240617T100000
DTEND;TZID=America/Edmonton:20240617T110000
DTSTAMP:20260420T004609
CREATED:20231204T224311Z
LAST-MODIFIED:20240628T164344Z
UID:10001186-1718618400-1718622000@www.jdicseniors.ca
SUMMARY:Young At Heart Choir Rehersals
DESCRIPTION:Will start rehearsals on Mondays at 10am. \nPlease contact the office if you would like to join as the Choir Master is always looking for new talents! \nChoirs fee is $50 for this period (you will receive a $25 tax receipt). \nAll choir participants must be paid members of the Centre.
URL:https://www.jdicseniors.ca/event/young-at-heart-choir-rehersals/2024-06-17/
LOCATION:The Centre\, 10052-117 St. NW\, Edmonton\, Alberta\, T5K 1X2\, Canada
CATEGORIES:Fun & Games
ATTACH;FMTTYPE=image/jpeg:https://www.jdicseniors.ca/wp-content/uploads/2023/12/PHOTO-2023-11-02-14-44-45.jpg
ORGANIZER;CN="JDIC":MAILTO:programmer@jdicseniors.ca
END:VEVENT
BEGIN:VEVENT
DTSTART;TZID=America/Edmonton:20240617T100000
DTEND;TZID=America/Edmonton:20240617T110000
DTSTAMP:20260420T004609
CREATED:20231204T224311Z
LAST-MODIFIED:20240904T202256Z
UID:10001452-1718618400-1718622000@www.jdicseniors.ca
SUMMARY:YOGA Classes
DESCRIPTION:YOGA Classes\nWe are looking forward to seeing all of you on Monday mornings at 10:00am to 11:00am.  \nMonday mornings @ 10:00a.m.–11:00a.m.\nOld and new faces are very WELCOME in-person & via Zoom! \nPlease register\nhttps://tinyurl.com/297jwcb4\n \nFee: $7 drop-in or card of 10 classes $60
URL:https://www.jdicseniors.ca/event/yoga-classes-2-2-4-2-2/2024-06-17/
LOCATION:The Centre\, 10052-117 St. NW\, Edmonton\, Alberta\, T5K 1X2\, Canada
CATEGORIES:Health & Wellness
ATTACH;FMTTYPE=image/jpeg:https://www.jdicseniors.ca/wp-content/uploads/2023/12/pexels-mikhail-nilov-7530023.jpg
ORGANIZER;CN="JDIC":MAILTO:programmer@jdicseniors.ca
END:VEVENT
BEGIN:VEVENT
DTSTART;VALUE=DATE:20240617
DTEND;VALUE=DATE:20240618
DTSTAMP:20260420T004609
CREATED:20240509T195623Z
LAST-MODIFIED:20240509T195623Z
UID:10002054-1718582400-1718668799@www.jdicseniors.ca
SUMMARY:CENTRE CLOSED
DESCRIPTION:
URL:https://www.jdicseniors.ca/event/centre-closed-5/
LOCATION:Alberta
CATEGORIES:Closures
END:VEVENT
BEGIN:VEVENT
DTSTART;TZID=America/Edmonton:20240616T100000
DTEND;TZID=America/Edmonton:20240616T140000
DTSTAMP:20260420T004609
CREATED:20240327T212638Z
LAST-MODIFIED:20250521T232347Z
UID:10004975-1718532000-1718546400@www.jdicseniors.ca
SUMMARY:Bagel Loop: Walk / Run / Roll 2024
DESCRIPTION:Sunday\, June 16 (Father’s Day)\nOur seniors will gear up their canes\, walkers and wheelchairs to Walk\, Run\, Roll around Victoria Park at the Fourth Annual Bagel Loop\, only event of its kind in Edmonton. \nMark your Calendars and bring Your Family\, Friends and New Members!\nPlease fill out your waiver and bring it with you to the event.\nPayment can be made in-person at the Centre with cash or cheques or via e-transfer to jdic@shaw.ca \nRegister for the 2024 Walk/Run/RollDownload the 2024 Pledge Form \n \nIt is a unique friendraiser – fundraiser put on By Seniors For Seniors and their Families in support of our Centre. \nRegister Today!\nRegister for the 2024 Walk/Run/RollDownload the 2024 Pledge Form \n                                                                                                                                                                                                                               Bronia at the Dessert table Bagel Loop 2023                                                                                                                                                                                                              Finish Line with Goodie Bags Bagel Loop 2023                                                                                                                                                                                                              Finishers Bagel Loop 2023                                                                                                                                                                                                              potato in pantyhose 2                                                                                                                                                                                                              potato in pantyhose game Bagel Loop 2023                                                                                                                                                                                                              toilet papers mummies game Bagel Loop 2023                                                                                                                                                                                                              Yoga stretch Bagel Lopp 2023                                                                                                                                                                                                              Avi 1 and Ed 95 year old participants Bagel Lopp 2023                                                                                                                                                                                                                                                                    \nCheck out Past Bagel Loops\nBagel Loop 2023 \nBagel Loop 2019 \nBagel Loop 2018
URL:https://www.jdicseniors.ca/event/bagel-loop-walk-run-roll-2024/
LOCATION:Victoria Park\, 12030 River Valley Rd NW\, Edmonton\, Alberta\, Canada
CATEGORIES:Bagel Loop,Fun & Games
ATTACH;FMTTYPE=image/jpeg:https://www.jdicseniors.ca/wp-content/uploads/2024/03/Asset-2.jpg
ORGANIZER;CN="JDIC":MAILTO:programmer@jdicseniors.ca
END:VEVENT
BEGIN:VEVENT
DTSTART;VALUE=DATE:20240616
DTEND;VALUE=DATE:20240617
DTSTAMP:20260420T004609
CREATED:20240509T195623Z
LAST-MODIFIED:20240509T195623Z
UID:10002055-1718496000-1718582399@www.jdicseniors.ca
SUMMARY:Lunch Menu | June 16
DESCRIPTION:10a.m. Bagel Loop at Victoria Park
URL:https://www.jdicseniors.ca/event/lunch-menu-june-16/
LOCATION:Alberta
CATEGORIES:Menu
END:VEVENT
BEGIN:VEVENT
DTSTART;TZID=America/Edmonton:20240613T110000
DTEND;TZID=America/Edmonton:20240613T120000
DTSTAMP:20260420T004609
CREATED:20231204T224311Z
LAST-MODIFIED:20240904T200650Z
UID:10000123-1718276400-1718280000@www.jdicseniors.ca
SUMMARY:Muscle in Motion with Anna Kratochvil
DESCRIPTION:Use Balls\, Bands & Weights to Exercise & Laugh\nThursdays @ 11:00a.m. \nhttps://us02web.Zoom.us/j/82287922466 \nFee: $7 drop-in or card of 10 classes $60
URL:https://www.jdicseniors.ca/event/muscle-in-motion-with-anna-kratochvil-2-2-2-2-2-2-2-2-2-2/2024-06-13/
LOCATION:Zoom
CATEGORIES:Health & Wellness
ATTACH;FMTTYPE=image/jpeg:https://www.jdicseniors.ca/wp-content/uploads/2023/12/PHOTO-2024-03-01-21-56-45.jpg
ORGANIZER;CN="JDIC":MAILTO:programmer@jdicseniors.ca
END:VEVENT
BEGIN:VEVENT
DTSTART;TZID=America/Edmonton:20240612T130000
DTEND;TZID=America/Edmonton:20240612T150000
DTSTAMP:20260420T004609
CREATED:20231204T221158Z
LAST-MODIFIED:20240904T201805Z
UID:10000388-1718197200-1718204400@www.jdicseniors.ca
SUMMARY:Whimsical Wednesdays
DESCRIPTION:Join a day of Fun\, Friendship & Craft!\nDo you play or want to play Canasta\, Cribbage\, Scrabble\, Mah Jongg or other card/board games?\nThis is a day when you can do whatever your heart desires! \nWhat’s more?\nWe offer a special light lunch that day for $10 only.\nPlease inform the Office about your game of choice!
URL:https://www.jdicseniors.ca/event/whimsical-wednesdays/2024-06-12/
LOCATION:The Centre\, 10052-117 St. NW\, Edmonton\, Alberta\, T5K 1X2\, Canada
CATEGORIES:Fun & Games
ATTACH;FMTTYPE=image/jpeg:https://www.jdicseniors.ca/wp-content/uploads/2023/12/pexels-kampus-production-6838584.jpg
ORGANIZER;CN="JDIC":MAILTO:programmer@jdicseniors.ca
END:VEVENT
BEGIN:VEVENT
DTSTART;VALUE=DATE:20240612
DTEND;VALUE=DATE:20240614
DTSTAMP:20260420T004609
CREATED:20240509T195623Z
LAST-MODIFIED:20240509T195623Z
UID:10002056-1718150400-1718323199@www.jdicseniors.ca
SUMMARY:CENTRE CLOSED
DESCRIPTION:
URL:https://www.jdicseniors.ca/event/centre-closed-6/
LOCATION:Alberta
CATEGORIES:Closures
END:VEVENT
BEGIN:VEVENT
DTSTART;TZID=America/Edmonton:20240611T104500
DTEND;TZID=America/Edmonton:20240611T114500
DTSTAMP:20260420T004609
CREATED:20231204T224310Z
LAST-MODIFIED:20240904T201856Z
UID:10000653-1718102700-1718106300@www.jdicseniors.ca
SUMMARY:Use it or Lose it With Bonnie Austen
DESCRIPTION:Use it or Lose it With Bonnie Austen\nCardio & Strength training\, Flexibility & Balance & Laugher \nTuesdays @10:45a.m.\nhttps://us02web.Zoom.us/j/89274775349 \nFee: $7 drop-in or card of 10 classes $60
URL:https://www.jdicseniors.ca/event/use-it-or-lose-it-with-bonnie-austen-2/2024-06-11/
LOCATION:Zoom
CATEGORIES:Health & Wellness
ATTACH;FMTTYPE=image/png:https://www.jdicseniors.ca/wp-content/uploads/2023/12/Screen-Shot-2023-12-04-at-4.45.12-PM.png
ORGANIZER;CN="JDIC":MAILTO:programmer@jdicseniors.ca
END:VEVENT
BEGIN:VEVENT
DTSTART;VALUE=DATE:20240611
DTEND;VALUE=DATE:20240612
DTSTAMP:20260420T004609
CREATED:20240509T195638Z
LAST-MODIFIED:20240509T195638Z
UID:10002057-1718064000-1718150399@www.jdicseniors.ca
SUMMARY:Lunch Menu | June 11
DESCRIPTION:Broccoli Cheddar SoupQuiche\nSalad & Cheesecake
URL:https://www.jdicseniors.ca/event/lunch-menu-june-11/
LOCATION:Alberta
CATEGORIES:Menu
END:VEVENT
BEGIN:VEVENT
DTSTART;TZID=America/Edmonton:20240610T100000
DTEND;TZID=America/Edmonton:20240610T110000
DTSTAMP:20260420T004609
CREATED:20231204T224311Z
LAST-MODIFIED:20240628T164344Z
UID:10001185-1718013600-1718017200@www.jdicseniors.ca
SUMMARY:Young At Heart Choir Rehersals
DESCRIPTION:Will start rehearsals on Mondays at 10am. \nPlease contact the office if you would like to join as the Choir Master is always looking for new talents! \nChoirs fee is $50 for this period (you will receive a $25 tax receipt). \nAll choir participants must be paid members of the Centre.
URL:https://www.jdicseniors.ca/event/young-at-heart-choir-rehersals/2024-06-10/
LOCATION:The Centre\, 10052-117 St. NW\, Edmonton\, Alberta\, T5K 1X2\, Canada
CATEGORIES:Fun & Games
ATTACH;FMTTYPE=image/jpeg:https://www.jdicseniors.ca/wp-content/uploads/2023/12/PHOTO-2023-11-02-14-44-45.jpg
ORGANIZER;CN="JDIC":MAILTO:programmer@jdicseniors.ca
END:VEVENT
BEGIN:VEVENT
DTSTART;TZID=America/Edmonton:20240610T100000
DTEND;TZID=America/Edmonton:20240610T110000
DTSTAMP:20260420T004609
CREATED:20231204T224311Z
LAST-MODIFIED:20240904T202256Z
UID:10001451-1718013600-1718017200@www.jdicseniors.ca
SUMMARY:YOGA Classes
DESCRIPTION:YOGA Classes\nWe are looking forward to seeing all of you on Monday mornings at 10:00am to 11:00am.  \nMonday mornings @ 10:00a.m.–11:00a.m.\nOld and new faces are very WELCOME in-person & via Zoom! \nPlease register\nhttps://tinyurl.com/297jwcb4\n \nFee: $7 drop-in or card of 10 classes $60
URL:https://www.jdicseniors.ca/event/yoga-classes-2-2-4-2-2/2024-06-10/
LOCATION:The Centre\, 10052-117 St. NW\, Edmonton\, Alberta\, T5K 1X2\, Canada
CATEGORIES:Health & Wellness
ATTACH;FMTTYPE=image/jpeg:https://www.jdicseniors.ca/wp-content/uploads/2023/12/pexels-mikhail-nilov-7530023.jpg
ORGANIZER;CN="JDIC":MAILTO:programmer@jdicseniors.ca
END:VEVENT
BEGIN:VEVENT
DTSTART;VALUE=DATE:20240610
DTEND;VALUE=DATE:20240611
DTSTAMP:20260420T004609
CREATED:20240509T195638Z
LAST-MODIFIED:20240509T195638Z
UID:10002058-1717977600-1718063999@www.jdicseniors.ca
SUMMARY:Lunch Menu | June 10
DESCRIPTION:Soup & SandwichSalad/Dessert
URL:https://www.jdicseniors.ca/event/lunch-menu-june-10/
LOCATION:Alberta
CATEGORIES:Menu
END:VEVENT
BEGIN:VEVENT
DTSTART;TZID=America/Edmonton:20240606T120000
DTEND;TZID=America/Edmonton:20240606T130000
DTSTAMP:20260420T004609
CREATED:20240509T203958Z
LAST-MODIFIED:20240509T203958Z
UID:10002084-1717675200-1717678800@www.jdicseniors.ca
SUMMARY:High Tea with “Acquired Taste Tea Company”
DESCRIPTION:Acquired Taste Tea Company owner Anna Somerville will talk about her passion and share the secrets of a good tea.
URL:https://www.jdicseniors.ca/event/high-tea-with-acquired-taste-tea-company/
LOCATION:The Centre\, 10052-117 St. NW\, Edmonton\, Alberta\, T5K 1X2\, Canada
CATEGORIES:Special Events & Presentations
ORGANIZER;CN="JDIC":MAILTO:programmer@jdicseniors.ca
END:VEVENT
BEGIN:VEVENT
DTSTART;TZID=America/Edmonton:20240606T110000
DTEND;TZID=America/Edmonton:20240606T120000
DTSTAMP:20260420T004609
CREATED:20231204T224311Z
LAST-MODIFIED:20240904T200650Z
UID:10000122-1717671600-1717675200@www.jdicseniors.ca
SUMMARY:Muscle in Motion with Anna Kratochvil
DESCRIPTION:Use Balls\, Bands & Weights to Exercise & Laugh\nThursdays @ 11:00a.m. \nhttps://us02web.Zoom.us/j/82287922466 \nFee: $7 drop-in or card of 10 classes $60
URL:https://www.jdicseniors.ca/event/muscle-in-motion-with-anna-kratochvil-2-2-2-2-2-2-2-2-2-2/2024-06-06/
LOCATION:Zoom
CATEGORIES:Health & Wellness
ATTACH;FMTTYPE=image/jpeg:https://www.jdicseniors.ca/wp-content/uploads/2023/12/PHOTO-2024-03-01-21-56-45.jpg
ORGANIZER;CN="JDIC":MAILTO:programmer@jdicseniors.ca
END:VEVENT
BEGIN:VEVENT
DTSTART;VALUE=DATE:20240606
DTEND;VALUE=DATE:20240607
DTSTAMP:20260420T004609
CREATED:20240509T195638Z
LAST-MODIFIED:20240509T195638Z
UID:10002059-1717632000-1717718399@www.jdicseniors.ca
SUMMARY:Lunch Menu | June 6
DESCRIPTION:High Tea with Acquired Taste Tea Company
URL:https://www.jdicseniors.ca/event/lunch-menu-june-6/
LOCATION:Alberta
CATEGORIES:Menu
END:VEVENT
BEGIN:VEVENT
DTSTART;TZID=America/Edmonton:20240605T130000
DTEND;TZID=America/Edmonton:20240605T150000
DTSTAMP:20260420T004609
CREATED:20231204T221158Z
LAST-MODIFIED:20240904T201805Z
UID:10000387-1717592400-1717599600@www.jdicseniors.ca
SUMMARY:Whimsical Wednesdays
DESCRIPTION:Join a day of Fun\, Friendship & Craft!\nDo you play or want to play Canasta\, Cribbage\, Scrabble\, Mah Jongg or other card/board games?\nThis is a day when you can do whatever your heart desires! \nWhat’s more?\nWe offer a special light lunch that day for $10 only.\nPlease inform the Office about your game of choice!
URL:https://www.jdicseniors.ca/event/whimsical-wednesdays/2024-06-05/
LOCATION:The Centre\, 10052-117 St. NW\, Edmonton\, Alberta\, T5K 1X2\, Canada
CATEGORIES:Fun & Games
ATTACH;FMTTYPE=image/jpeg:https://www.jdicseniors.ca/wp-content/uploads/2023/12/pexels-kampus-production-6838584.jpg
ORGANIZER;CN="JDIC":MAILTO:programmer@jdicseniors.ca
END:VEVENT
BEGIN:VEVENT
DTSTART;TZID=America/Edmonton:20240605T130000
DTEND;TZID=America/Edmonton:20240605T140000
DTSTAMP:20260420T004609
CREATED:20240327T211919Z
LAST-MODIFIED:20240327T211919Z
UID:10001980-1717592400-1717596000@www.jdicseniors.ca
SUMMARY:Ikebana Classes
DESCRIPTION:The classes will resume  on Wednesday\, March 6 at 1p.m.  \nPlease contact our Ikebana Master Brenda for details \nikebanaclub@gmail.com\, 780-803-4481
URL:https://www.jdicseniors.ca/event/ikebana-classes/2024-06-05/
LOCATION:Alberta
CATEGORIES:Fun & Games
ATTACH;FMTTYPE=image/jpeg:https://www.jdicseniors.ca/wp-content/uploads/2024/03/image8-2.jpg
END:VEVENT
BEGIN:VEVENT
DTSTART;VALUE=DATE:20240605
DTEND;VALUE=DATE:20240606
DTSTAMP:20260420T004609
CREATED:20240509T195638Z
LAST-MODIFIED:20240509T195638Z
UID:10002060-1717545600-1717631999@www.jdicseniors.ca
SUMMARY:Lunch Menu | June 5
DESCRIPTION:Surprise Lunch
URL:https://www.jdicseniors.ca/event/lunch-menu-june-5/
LOCATION:Alberta
CATEGORIES:Menu
END:VEVENT
BEGIN:VEVENT
DTSTART;TZID=America/Edmonton:20240604T130000
DTEND;TZID=America/Edmonton:20240604T150000
DTSTAMP:20260420T004609
CREATED:20240509T203958Z
LAST-MODIFIED:20240509T203958Z
UID:10002085-1717506000-1717513200@www.jdicseniors.ca
SUMMARY:Sing-Along with Joe Kirman
DESCRIPTION:Join Joe Kirman to sing-along and learn some ukulele chords
URL:https://www.jdicseniors.ca/event/sing-along-with-joe-kirman/
LOCATION:The Centre\, 10052-117 St. NW\, Edmonton\, Alberta\, T5K 1X2\, Canada
CATEGORIES:Special Events & Presentations
ORGANIZER;CN="JDIC":MAILTO:programmer@jdicseniors.ca
END:VEVENT
BEGIN:VEVENT
DTSTART;TZID=America/Edmonton:20240604T104500
DTEND;TZID=America/Edmonton:20240604T114500
DTSTAMP:20260420T004609
CREATED:20231204T224310Z
LAST-MODIFIED:20240904T201856Z
UID:10000652-1717497900-1717501500@www.jdicseniors.ca
SUMMARY:Use it or Lose it With Bonnie Austen
DESCRIPTION:Use it or Lose it With Bonnie Austen\nCardio & Strength training\, Flexibility & Balance & Laugher \nTuesdays @10:45a.m.\nhttps://us02web.Zoom.us/j/89274775349 \nFee: $7 drop-in or card of 10 classes $60
URL:https://www.jdicseniors.ca/event/use-it-or-lose-it-with-bonnie-austen-2/2024-06-04/
LOCATION:Zoom
CATEGORIES:Health & Wellness
ATTACH;FMTTYPE=image/png:https://www.jdicseniors.ca/wp-content/uploads/2023/12/Screen-Shot-2023-12-04-at-4.45.12-PM.png
ORGANIZER;CN="JDIC":MAILTO:programmer@jdicseniors.ca
END:VEVENT
BEGIN:VEVENT
DTSTART;VALUE=DATE:20240604
DTEND;VALUE=DATE:20240605
DTSTAMP:20260420T004609
CREATED:20240509T195638Z
LAST-MODIFIED:20240509T195638Z
UID:10002061-1717459200-1717545599@www.jdicseniors.ca
SUMMARY:Lunch Menu | June 4
DESCRIPTION:Peanut SoupSalmon Patty\nSalad/Dessert
URL:https://www.jdicseniors.ca/event/lunch-menu-june-4/
LOCATION:Alberta
CATEGORIES:Menu
END:VEVENT
BEGIN:VEVENT
DTSTART;TZID=America/Edmonton:20240603T100000
DTEND;TZID=America/Edmonton:20240603T110000
DTSTAMP:20260420T004609
CREATED:20231204T224311Z
LAST-MODIFIED:20240628T164344Z
UID:10001184-1717408800-1717412400@www.jdicseniors.ca
SUMMARY:Young At Heart Choir Rehersals
DESCRIPTION:Will start rehearsals on Mondays at 10am. \nPlease contact the office if you would like to join as the Choir Master is always looking for new talents! \nChoirs fee is $50 for this period (you will receive a $25 tax receipt). \nAll choir participants must be paid members of the Centre.
URL:https://www.jdicseniors.ca/event/young-at-heart-choir-rehersals/2024-06-03/
LOCATION:The Centre\, 10052-117 St. NW\, Edmonton\, Alberta\, T5K 1X2\, Canada
CATEGORIES:Fun & Games
ATTACH;FMTTYPE=image/jpeg:https://www.jdicseniors.ca/wp-content/uploads/2023/12/PHOTO-2023-11-02-14-44-45.jpg
ORGANIZER;CN="JDIC":MAILTO:programmer@jdicseniors.ca
END:VEVENT
BEGIN:VEVENT
DTSTART;TZID=America/Edmonton:20240603T100000
DTEND;TZID=America/Edmonton:20240603T110000
DTSTAMP:20260420T004609
CREATED:20231204T224311Z
LAST-MODIFIED:20240904T202256Z
UID:10001450-1717408800-1717412400@www.jdicseniors.ca
SUMMARY:YOGA Classes
DESCRIPTION:YOGA Classes\nWe are looking forward to seeing all of you on Monday mornings at 10:00am to 11:00am.  \nMonday mornings @ 10:00a.m.–11:00a.m.\nOld and new faces are very WELCOME in-person & via Zoom! \nPlease register\nhttps://tinyurl.com/297jwcb4\n \nFee: $7 drop-in or card of 10 classes $60
URL:https://www.jdicseniors.ca/event/yoga-classes-2-2-4-2-2/2024-06-03/
LOCATION:The Centre\, 10052-117 St. NW\, Edmonton\, Alberta\, T5K 1X2\, Canada
CATEGORIES:Health & Wellness
ATTACH;FMTTYPE=image/jpeg:https://www.jdicseniors.ca/wp-content/uploads/2023/12/pexels-mikhail-nilov-7530023.jpg
ORGANIZER;CN="JDIC":MAILTO:programmer@jdicseniors.ca
END:VEVENT
BEGIN:VEVENT
DTSTART;VALUE=DATE:20240603
DTEND;VALUE=DATE:20240604
DTSTAMP:20260420T004609
CREATED:20240509T195653Z
LAST-MODIFIED:20240509T195653Z
UID:10002062-1717372800-1717459199@www.jdicseniors.ca
SUMMARY:Lunch Menu | June 3
DESCRIPTION:Chili Cornbread\nSalad/Dessert
URL:https://www.jdicseniors.ca/event/lunch-menu-june-3/
LOCATION:Alberta
CATEGORIES:Menu
END:VEVENT
END:VCALENDAR