BEGIN:VCALENDAR
VERSION:2.0
PRODID:-//Jewish Senior Citizen’s Centre - ECPv6.15.17.1//NONSGML v1.0//EN
CALSCALE:GREGORIAN
METHOD:PUBLISH
X-ORIGINAL-URL:https://www.jdicseniors.ca
X-WR-CALDESC:Events for Jewish Senior Citizen’s Centre
REFRESH-INTERVAL;VALUE=DURATION:PT1H
X-Robots-Tag:noindex
X-PUBLISHED-TTL:PT1H
BEGIN:VTIMEZONE
TZID:America/Edmonton
BEGIN:DAYLIGHT
TZOFFSETFROM:-0700
TZOFFSETTO:-0600
TZNAME:MDT
DTSTART:20220313T090000
END:DAYLIGHT
BEGIN:STANDARD
TZOFFSETFROM:-0600
TZOFFSETTO:-0700
TZNAME:MST
DTSTART:20221106T080000
END:STANDARD
BEGIN:DAYLIGHT
TZOFFSETFROM:-0700
TZOFFSETTO:-0600
TZNAME:MDT
DTSTART:20230312T090000
END:DAYLIGHT
BEGIN:STANDARD
TZOFFSETFROM:-0600
TZOFFSETTO:-0700
TZNAME:MST
DTSTART:20231105T080000
END:STANDARD
BEGIN:DAYLIGHT
TZOFFSETFROM:-0700
TZOFFSETTO:-0600
TZNAME:MDT
DTSTART:20240310T090000
END:DAYLIGHT
BEGIN:STANDARD
TZOFFSETFROM:-0600
TZOFFSETTO:-0700
TZNAME:MST
DTSTART:20241103T080000
END:STANDARD
BEGIN:DAYLIGHT
TZOFFSETFROM:-0700
TZOFFSETTO:-0600
TZNAME:MDT
DTSTART:20250309T090000
END:DAYLIGHT
BEGIN:STANDARD
TZOFFSETFROM:-0600
TZOFFSETTO:-0700
TZNAME:MST
DTSTART:20251102T080000
END:STANDARD
END:VTIMEZONE
BEGIN:VEVENT
DTSTART;TZID=America/Edmonton:20231212T120000
DTEND;TZID=America/Edmonton:20231212T130000
DTSTAMP:20260420T020443
CREATED:20231204T214023Z
LAST-MODIFIED:20231205T000818Z
UID:10000006-1702382400-1702386000@www.jdicseniors.ca
SUMMARY:Winter Jazz
DESCRIPTION:Tuesday\, December 12 at 12p.m.\nLunch and special entertainment with \n The Nuova Vocal Arts singers \n “Winter Jazz”. Stay tuned for details!
URL:https://www.jdicseniors.ca/event/winter-jazz/
LOCATION:The Centre\, 10052-117 St. NW\, Edmonton\, Alberta\, T5K 1X2\, Canada
CATEGORIES:Performance
ATTACH;FMTTYPE=image/png:https://www.jdicseniors.ca/wp-content/uploads/2023/12/Screen-Shot-2023-12-04-at-2.40.35-PM.png
END:VEVENT
BEGIN:VEVENT
DTSTART;TZID=America/Edmonton:20231212T120000
DTEND;TZID=America/Edmonton:20231212T130000
DTSTAMP:20260420T020443
CREATED:20231208T185819Z
LAST-MODIFIED:20231208T191609Z
UID:10000102-1702382400-1702386000@www.jdicseniors.ca
SUMMARY:Lunch Menu
DESCRIPTION:Squash Soup \nShepherd’s Pie \nSalad/Dessert
URL:https://www.jdicseniors.ca/event/lunch-menu-dec-12th/
LOCATION:The Centre\, 10052-117 St. NW\, Edmonton\, Alberta\, T5K 1X2\, Canada
CATEGORIES:Menu
ORGANIZER;CN="JDIC":MAILTO:programmer@jdicseniors.ca
END:VEVENT
BEGIN:VEVENT
DTSTART;TZID=America/Edmonton:20231212T130000
DTEND;TZID=America/Edmonton:20231212T150000
DTSTAMP:20260420T020443
CREATED:20231204T221156Z
LAST-MODIFIED:20231205T000818Z
UID:10000010-1702386000-1702393200@www.jdicseniors.ca
SUMMARY:Portugal's most inspiring and peaceful Revolution
DESCRIPTION:Tuesdays at 1p.m. December 5 & 12 \nEnneke Lorberg will present a fascinating topic about Portugal. \nThis presentation is not a travel story about just one person’s trip as a tourist to Portugal… but it is a totally different story that has developed into an exciting report on a more than a yearlong research project that resulted in a thorough overview of the long and fascinating history of Portugal!
URL:https://www.jdicseniors.ca/event/portugals-most-inspiring-and-peaceful-revolution-2/
LOCATION:The Centre\, 10052-117 St. NW\, Edmonton\, Alberta\, T5K 1X2\, Canada
CATEGORIES:Lunch & Learn
ORGANIZER;CN="JDIC":MAILTO:programmer@jdicseniors.ca
END:VEVENT
BEGIN:VEVENT
DTSTART;TZID=America/Edmonton:20231213T120000
DTEND;TZID=America/Edmonton:20231213T130000
DTSTAMP:20260420T020443
CREATED:20231208T185821Z
LAST-MODIFIED:20231208T191552Z
UID:10000103-1702468800-1702472400@www.jdicseniors.ca
SUMMARY:Lunch Menu
DESCRIPTION:No Lunch | Hanukkah Party Preparation
URL:https://www.jdicseniors.ca/event/lunch-menu-dec-13th/
LOCATION:The Centre\, 10052-117 St. NW\, Edmonton\, Alberta\, T5K 1X2\, Canada
CATEGORIES:Menu
ORGANIZER;CN="JDIC":MAILTO:programmer@jdicseniors.ca
END:VEVENT
BEGIN:VEVENT
DTSTART;TZID=America/Edmonton:20231214T110000
DTEND;TZID=America/Edmonton:20231214T113000
DTSTAMP:20260420T020443
CREATED:20231204T221158Z
LAST-MODIFIED:20240327T191430Z
UID:10000013-1702551600-1702553400@www.jdicseniors.ca
SUMMARY:Young At Heart Choir Hanukkah Performance
DESCRIPTION:(in-person only\, 6 sessions)Instructor: Michael Roeder\, Professor Emeritus Musicology\, University of Alberta\nThursdays\, November 2 – December 7\nAt 1pm – 3pm\nFee: Members $75\nNon-Members $90\nWe will explore music of three of the 19th century’s most important and interesting musical figures and discover how their lives were interconnected. Robert Schumann (1810-56) combined his dual interests in music and literature to create not only some of the most important music of the first half of the century\, but to found an important musical journal and to write fascinating articles for it. He married Clara Wieck (1819-96) in 1840 after a lengthy legal battle to gain permission to do so against the wishes of Clara’s father\, Schumann’s piano teacher. Clara grew from child prodigy to become one of the century’s greatest pianists and made contributions as a composer as well. Brahms (1833-97) met the Schumanns when he was twenty and played his newest piano works for them. R. Schumann\, overwhelmed by the young composer’s talent\, wrote an article for his journal calling the musical world’s attention to the young composer as “a man of destiny.” Schumann was right; Brahms went on to become one of the greatest composers of the second half of the century. However\, tragedy struck soon after their meeting and this intriguing story and accompanying music will unfold over our six sessions.
URL:https://www.jdicseniors.ca/event/young-at-heart-choir-hanukkah-performance/
LOCATION:The Centre\, 10052-117 St. NW\, Edmonton\, Alberta\, T5K 1X2\, Canada
CATEGORIES:Performance
ORGANIZER;CN="JDIC":MAILTO:programmer@jdicseniors.ca
END:VEVENT
BEGIN:VEVENT
DTSTART;TZID=America/Edmonton:20231214T110000
DTEND;TZID=America/Edmonton:20231214T130000
DTSTAMP:20260420T020443
CREATED:20231205T042438Z
LAST-MODIFIED:20240327T192110Z
UID:10000003-1702551600-1702558800@www.jdicseniors.ca
SUMMARY:Hanukkah Celebration Party
DESCRIPTION:Thursday\, December 14 \n11:00a.m. Young At Heart Choir performs \n12:00p.m. Lunch and more fun! \nYou must RSVP with payment by Thursday\, December 7  \nFee: $18 members and $21 for non-members \nPlease pre-order your latkes \n$20 per dozen —Last day to order is November 30
URL:https://www.jdicseniors.ca/event/hanukkah-celebration-party/
LOCATION:Alberta
CATEGORIES:Programs & Events
ATTACH;FMTTYPE=image/jpeg:https://www.jdicseniors.ca/wp-content/uploads/2023/12/sara-rostenne-OcFu1H-kOOA-unsplash.jpg
END:VEVENT
BEGIN:VEVENT
DTSTART;TZID=America/Edmonton:20231214T120000
DTEND;TZID=America/Edmonton:20231214T130000
DTSTAMP:20260420T020443
CREATED:20231208T185821Z
LAST-MODIFIED:20231208T191532Z
UID:10000104-1702555200-1702558800@www.jdicseniors.ca
SUMMARY:Lunch Menu
DESCRIPTION:Hanukkah Party \nMatzo Ball Soup \nLatkes \nSalad/Dessert
URL:https://www.jdicseniors.ca/event/lunch-menu-dec-14th/
LOCATION:The Centre\, 10052-117 St. NW\, Edmonton\, Alberta\, T5K 1X2\, Canada
CATEGORIES:Menu
ORGANIZER;CN="JDIC":MAILTO:programmer@jdicseniors.ca
END:VEVENT
BEGIN:VEVENT
DTSTART;TZID=America/Edmonton:20231218T120000
DTEND;TZID=America/Edmonton:20231218T130000
DTSTAMP:20260420T020443
CREATED:20231208T185821Z
LAST-MODIFIED:20231208T191507Z
UID:10000105-1702900800-1702904400@www.jdicseniors.ca
SUMMARY:Lunch Menu
DESCRIPTION:No Lunch
URL:https://www.jdicseniors.ca/event/lunch-menu-dec-18th/
LOCATION:The Centre\, 10052-117 St. NW\, Edmonton\, Alberta\, T5K 1X2\, Canada
CATEGORIES:Menu
ORGANIZER;CN="JDIC":MAILTO:programmer@jdicseniors.ca
END:VEVENT
BEGIN:VEVENT
DTSTART;TZID=America/Edmonton:20231219T120000
DTEND;TZID=America/Edmonton:20231219T130000
DTSTAMP:20260420T020443
CREATED:20231208T185821Z
LAST-MODIFIED:20231208T191801Z
UID:10000106-1702987200-1702990800@www.jdicseniors.ca
SUMMARY:Lunch Menu
DESCRIPTION:Birthday Lunch \nMoroccan Peanut Soup \nSalmon Wraps \nSalad/Special Cake
URL:https://www.jdicseniors.ca/event/lunch-menu-dec-19th/
LOCATION:The Centre\, 10052-117 St. NW\, Edmonton\, Alberta\, T5K 1X2\, Canada
CATEGORIES:Menu
ORGANIZER;CN="JDIC":MAILTO:programmer@jdicseniors.ca
END:VEVENT
BEGIN:VEVENT
DTSTART;TZID=America/Edmonton:20231220T120000
DTEND;TZID=America/Edmonton:20231220T130000
DTSTAMP:20260420T020443
CREATED:20231208T185821Z
LAST-MODIFIED:20231208T191423Z
UID:10000107-1703073600-1703077200@www.jdicseniors.ca
SUMMARY:Lunch Menu
DESCRIPTION:Mushroom Soup \nVeg Gratin \nSalad/Dessert
URL:https://www.jdicseniors.ca/event/lunch-menu-dec-20th/
LOCATION:The Centre\, 10052-117 St. NW\, Edmonton\, Alberta\, T5K 1X2\, Canada
CATEGORIES:Menu
ORGANIZER;CN="JDIC":MAILTO:programmer@jdicseniors.ca
END:VEVENT
BEGIN:VEVENT
DTSTART;TZID=America/Edmonton:20231221T120000
DTEND;TZID=America/Edmonton:20231221T130000
DTSTAMP:20260420T020443
CREATED:20231204T221157Z
LAST-MODIFIED:20231205T000817Z
UID:10000011-1703160000-1703163600@www.jdicseniors.ca
SUMMARY:Central Lions Seniors Association Play
DESCRIPTION:Thursday\, December 21 at 12p.m.As a special closing season treat Sybil C. and the Drama Group from Central Lions Seniors Association will be performing a short play after our delicious lunch.
URL:https://www.jdicseniors.ca/event/central-lions-seniors-association-play/
LOCATION:The Centre\, 10052-117 St. NW\, Edmonton\, Alberta\, T5K 1X2\, Canada
CATEGORIES:Performance
ORGANIZER;CN="JDIC":MAILTO:programmer@jdicseniors.ca
END:VEVENT
BEGIN:VEVENT
DTSTART;VALUE=DATE:20231222
DTEND;VALUE=DATE:20240103
DTSTAMP:20260420T020443
CREATED:20231204T221159Z
LAST-MODIFIED:20240328T174648Z
UID:10000015-1703203200-1704239999@www.jdicseniors.ca
SUMMARY:CENTRE CLOSED
DESCRIPTION:
URL:https://www.jdicseniors.ca/event/centre-closed/
LOCATION:The Centre\, 10052-117 St. NW\, Edmonton\, Alberta\, T5K 1X2\, Canada
CATEGORIES:Closures
ORGANIZER;CN="JDIC":MAILTO:programmer@jdicseniors.ca
END:VEVENT
BEGIN:VEVENT
DTSTART;VALUE=DATE:20240101
DTEND;VALUE=DATE:20240102
DTSTAMP:20260420T020443
CREATED:20240327T195028Z
LAST-MODIFIED:20240328T174639Z
UID:10001824-1704067200-1704153599@www.jdicseniors.ca
SUMMARY:CENTRE CLOSED
DESCRIPTION:
URL:https://www.jdicseniors.ca/event/centre-closed-3/
LOCATION:The Centre\, 10052-117 St. NW\, Edmonton\, Alberta\, T5K 1X2\, Canada
CATEGORIES:Menu
ORGANIZER;CN="JDIC":MAILTO:programmer@jdicseniors.ca
END:VEVENT
BEGIN:VEVENT
DTSTART;VALUE=DATE:20240102
DTEND;VALUE=DATE:20240103
DTSTAMP:20260420T020443
CREATED:20240327T194713Z
LAST-MODIFIED:20240327T194713Z
UID:10001759-1704153600-1704239999@www.jdicseniors.ca
SUMMARY:Lunch Menu | Jan 2
DESCRIPTION:Surprised Lunch
URL:https://www.jdicseniors.ca/event/lunch-menu-jan-2/
LOCATION:The Centre\, 10052-117 St. NW\, Edmonton\, Alberta\, T5K 1X2\, Canada
CATEGORIES:Menu
ORGANIZER;CN="JDIC":MAILTO:programmer@jdicseniors.ca
END:VEVENT
BEGIN:VEVENT
DTSTART;VALUE=DATE:20240103
DTEND;VALUE=DATE:20240104
DTSTAMP:20260420T020443
CREATED:20240327T194713Z
LAST-MODIFIED:20240327T194713Z
UID:10001760-1704240000-1704326399@www.jdicseniors.ca
SUMMARY:Lunch Menu | Jan 3
DESCRIPTION:Surprised Lunch
URL:https://www.jdicseniors.ca/event/lunch-menu-jan-3/
LOCATION:The Centre\, 10052-117 St. NW\, Edmonton\, Alberta\, T5K 1X2\, Canada
CATEGORIES:Menu
ORGANIZER;CN="JDIC":MAILTO:programmer@jdicseniors.ca
END:VEVENT
BEGIN:VEVENT
DTSTART;VALUE=DATE:20240104
DTEND;VALUE=DATE:20240105
DTSTAMP:20260420T020443
CREATED:20240327T194714Z
LAST-MODIFIED:20240327T194714Z
UID:10001761-1704326400-1704412799@www.jdicseniors.ca
SUMMARY:Lunch Menu | Jan 4
DESCRIPTION:Hawaiian Party
URL:https://www.jdicseniors.ca/event/lunch-menu-jan-4/
LOCATION:The Centre\, 10052-117 St. NW\, Edmonton\, Alberta\, T5K 1X2\, Canada
CATEGORIES:Menu
ORGANIZER;CN="JDIC":MAILTO:programmer@jdicseniors.ca
END:VEVENT
BEGIN:VEVENT
DTSTART;VALUE=DATE:20240108
DTEND;VALUE=DATE:20240109
DTSTAMP:20260420T020443
CREATED:20240327T194714Z
LAST-MODIFIED:20240327T194714Z
UID:10001762-1704672000-1704758399@www.jdicseniors.ca
SUMMARY:Lunch Menu | Jan 8
DESCRIPTION:Surprised Lunch
URL:https://www.jdicseniors.ca/event/lunch-menu-jan-8/
LOCATION:The Centre\, 10052-117 St. NW\, Edmonton\, Alberta\, T5K 1X2\, Canada
CATEGORIES:Menu
ORGANIZER;CN="JDIC":MAILTO:programmer@jdicseniors.ca
END:VEVENT
BEGIN:VEVENT
DTSTART;VALUE=DATE:20240109
DTEND;VALUE=DATE:20240110
DTSTAMP:20260420T020443
CREATED:20240327T194714Z
LAST-MODIFIED:20240327T194714Z
UID:10001763-1704758400-1704844799@www.jdicseniors.ca
SUMMARY:Lunch Menu | Jan 9
DESCRIPTION:Borscht Loaded Potato\nSalad/Dessert
URL:https://www.jdicseniors.ca/event/lunch-menu-jan-9/
LOCATION:The Centre\, 10052-117 St. NW\, Edmonton\, Alberta\, T5K 1X2\, Canada
CATEGORIES:Menu
ORGANIZER;CN="JDIC":MAILTO:programmer@jdicseniors.ca
END:VEVENT
BEGIN:VEVENT
DTSTART;VALUE=DATE:20240110
DTEND;VALUE=DATE:20240111
DTSTAMP:20260420T020443
CREATED:20240327T194716Z
LAST-MODIFIED:20240327T194716Z
UID:10001764-1704844800-1704931199@www.jdicseniors.ca
SUMMARY:Lunch Menu | Jan 10
DESCRIPTION:Surprised Lunch
URL:https://www.jdicseniors.ca/event/lunch-menu-jan-10/
LOCATION:The Centre\, 10052-117 St. NW\, Edmonton\, Alberta\, T5K 1X2\, Canada
CATEGORIES:Menu
ORGANIZER;CN="JDIC":MAILTO:programmer@jdicseniors.ca
END:VEVENT
BEGIN:VEVENT
DTSTART;VALUE=DATE:20240111
DTEND;VALUE=DATE:20240112
DTSTAMP:20260420T020443
CREATED:20240327T194716Z
LAST-MODIFIED:20240327T194716Z
UID:10001765-1704931200-1705017599@www.jdicseniors.ca
SUMMARY:Lunch Menu | Jan 11
DESCRIPTION:Broccoli Soup  Cheese Tart\nSalad/Dessert
URL:https://www.jdicseniors.ca/event/lunch-menu-jan-11/
LOCATION:The Centre\, 10052-117 St. NW\, Edmonton\, Alberta\, T5K 1X2\, Canada
CATEGORIES:Menu
ORGANIZER;CN="JDIC":MAILTO:programmer@jdicseniors.ca
END:VEVENT
BEGIN:VEVENT
DTSTART;VALUE=DATE:20240115
DTEND;VALUE=DATE:20240116
DTSTAMP:20260420T020443
CREATED:20240327T194717Z
LAST-MODIFIED:20240327T194717Z
UID:10001766-1705276800-1705363199@www.jdicseniors.ca
SUMMARY:Lunch Menu | Jan 15
DESCRIPTION:Mushroom SoupKugel\nSalad/Dessert
URL:https://www.jdicseniors.ca/event/lunch-menu-jan-15/
LOCATION:The Centre\, 10052-117 St. NW\, Edmonton\, Alberta\, T5K 1X2\, Canada
CATEGORIES:Menu
ORGANIZER;CN="JDIC":MAILTO:programmer@jdicseniors.ca
END:VEVENT
BEGIN:VEVENT
DTSTART;VALUE=DATE:20240116
DTEND;VALUE=DATE:20240117
DTSTAMP:20260420T020443
CREATED:20240327T194717Z
LAST-MODIFIED:20240327T194717Z
UID:10001767-1705363200-1705449599@www.jdicseniors.ca
SUMMARY:Lunch Menu | Jan 16
DESCRIPTION:Minestrone SoupMelted Cheese & Egg Croissants\nSalad/Dessert
URL:https://www.jdicseniors.ca/event/lunch-menu-jan-16/
LOCATION:The Centre\, 10052-117 St. NW\, Edmonton\, Alberta\, T5K 1X2\, Canada
CATEGORIES:Menu
ORGANIZER;CN="JDIC":MAILTO:programmer@jdicseniors.ca
END:VEVENT
BEGIN:VEVENT
DTSTART;VALUE=DATE:20240117
DTEND;VALUE=DATE:20240118
DTSTAMP:20260420T020443
CREATED:20240327T194717Z
LAST-MODIFIED:20240327T194717Z
UID:10001768-1705449600-1705535999@www.jdicseniors.ca
SUMMARY:Lunch Menu | Jan 17
DESCRIPTION:Surprised Lunch
URL:https://www.jdicseniors.ca/event/lunch-menu-jan-17/
LOCATION:The Centre\, 10052-117 St. NW\, Edmonton\, Alberta\, T5K 1X2\, Canada
CATEGORIES:Menu
ORGANIZER;CN="JDIC":MAILTO:programmer@jdicseniors.ca
END:VEVENT
BEGIN:VEVENT
DTSTART;VALUE=DATE:20240118
DTEND;VALUE=DATE:20240119
DTSTAMP:20260420T020443
CREATED:20240327T194731Z
LAST-MODIFIED:20240327T194731Z
UID:10001769-1705536000-1705622399@www.jdicseniors.ca
SUMMARY:Lunch Menu | Jan 18
DESCRIPTION:Onion Soup Veggie Strudel\nSalad/Dessert
URL:https://www.jdicseniors.ca/event/lunch-menu-jan-18/
LOCATION:The Centre\, 10052-117 St. NW\, Edmonton\, Alberta\, T5K 1X2\, Canada
CATEGORIES:Menu
ORGANIZER;CN="JDIC":MAILTO:programmer@jdicseniors.ca
END:VEVENT
BEGIN:VEVENT
DTSTART;VALUE=DATE:20240122
DTEND;VALUE=DATE:20240123
DTSTAMP:20260420T020443
CREATED:20240327T194731Z
LAST-MODIFIED:20240327T194731Z
UID:10001770-1705881600-1705967999@www.jdicseniors.ca
SUMMARY:Lunch Menu | Jan 22
DESCRIPTION:Country Veggie SoupKugel\nSalad/Dessert
URL:https://www.jdicseniors.ca/event/lunch-menu-jan-22/
LOCATION:The Centre\, 10052-117 St. NW\, Edmonton\, Alberta\, T5K 1X2\, Canada
CATEGORIES:Menu
ORGANIZER;CN="JDIC":MAILTO:programmer@jdicseniors.ca
END:VEVENT
BEGIN:VEVENT
DTSTART;VALUE=DATE:20240123
DTEND;VALUE=DATE:20240124
DTSTAMP:20260420T020443
CREATED:20240327T194731Z
LAST-MODIFIED:20240327T194731Z
UID:10001771-1705968000-1706054399@www.jdicseniors.ca
SUMMARY:Lunch Menu | Jan 23
DESCRIPTION:Carrot Soup Pizza\nSalad/Dessert
URL:https://www.jdicseniors.ca/event/lunch-menu-jan-23/
LOCATION:The Centre\, 10052-117 St. NW\, Edmonton\, Alberta\, T5K 1X2\, Canada
CATEGORIES:Menu
ORGANIZER;CN="JDIC":MAILTO:programmer@jdicseniors.ca
END:VEVENT
BEGIN:VEVENT
DTSTART;VALUE=DATE:20240124
DTEND;VALUE=DATE:20240125
DTSTAMP:20260420T020443
CREATED:20240327T194731Z
LAST-MODIFIED:20240327T194731Z
UID:10001772-1706054400-1706140799@www.jdicseniors.ca
SUMMARY:Lunch Menu | Jan 24
DESCRIPTION:Surprised Lunch
URL:https://www.jdicseniors.ca/event/lunch-menu-jan-24/
LOCATION:The Centre\, 10052-117 St. NW\, Edmonton\, Alberta\, T5K 1X2\, Canada
CATEGORIES:Menu
ORGANIZER;CN="JDIC":MAILTO:programmer@jdicseniors.ca
END:VEVENT
BEGIN:VEVENT
DTSTART;VALUE=DATE:20240125
DTEND;VALUE=DATE:20240126
DTSTAMP:20260420T020443
CREATED:20240327T194731Z
LAST-MODIFIED:20240327T194731Z
UID:10001773-1706140800-1706227199@www.jdicseniors.ca
SUMMARY:Lunch Menu | Jan 25
DESCRIPTION:Indigenous Lunch
URL:https://www.jdicseniors.ca/event/lunch-menu-jan-25/
LOCATION:The Centre\, 10052-117 St. NW\, Edmonton\, Alberta\, T5K 1X2\, Canada
CATEGORIES:Menu
ORGANIZER;CN="JDIC":MAILTO:programmer@jdicseniors.ca
END:VEVENT
BEGIN:VEVENT
DTSTART;VALUE=DATE:20240129
DTEND;VALUE=DATE:20240130
DTSTAMP:20260420T020443
CREATED:20240327T194754Z
LAST-MODIFIED:20240327T194754Z
UID:10001774-1706486400-1706572799@www.jdicseniors.ca
SUMMARY:Lunch Menu | Jan 29
DESCRIPTION:Mulligatawny Tuna Croissants\nSalad/Dessert
URL:https://www.jdicseniors.ca/event/lunch-menu-jan-29/
LOCATION:The Centre\, 10052-117 St. NW\, Edmonton\, Alberta\, T5K 1X2\, Canada
CATEGORIES:Menu
ORGANIZER;CN="JDIC":MAILTO:programmer@jdicseniors.ca
END:VEVENT
BEGIN:VEVENT
DTSTART;VALUE=DATE:20240130
DTEND;VALUE=DATE:20240131
DTSTAMP:20260420T020443
CREATED:20240327T194754Z
LAST-MODIFIED:20240327T194754Z
UID:10001775-1706572800-1706659199@www.jdicseniors.ca
SUMMARY:Lunch Menu | Jan 30
DESCRIPTION:Birthday CelebrationPea Soup\nFish & Chips\nSalad/Cake
URL:https://www.jdicseniors.ca/event/lunch-menu-jan-30/
LOCATION:The Centre\, 10052-117 St. NW\, Edmonton\, Alberta\, T5K 1X2\, Canada
CATEGORIES:Menu
ORGANIZER;CN="JDIC":MAILTO:programmer@jdicseniors.ca
END:VEVENT
END:VCALENDAR