BEGIN:VCALENDAR
VERSION:2.0
PRODID:-//Jewish Senior Citizen’s Centre - ECPv6.15.17.1//NONSGML v1.0//EN
CALSCALE:GREGORIAN
METHOD:PUBLISH
X-WR-CALNAME:Jewish Senior Citizen’s Centre
X-ORIGINAL-URL:https://www.jdicseniors.ca
X-WR-CALDESC:Events for Jewish Senior Citizen’s Centre
REFRESH-INTERVAL;VALUE=DURATION:PT1H
X-Robots-Tag:noindex
X-PUBLISHED-TTL:PT1H
BEGIN:VTIMEZONE
TZID:America/Edmonton
BEGIN:DAYLIGHT
TZOFFSETFROM:-0700
TZOFFSETTO:-0600
TZNAME:MDT
DTSTART:20170312T090000
END:DAYLIGHT
BEGIN:STANDARD
TZOFFSETFROM:-0600
TZOFFSETTO:-0700
TZNAME:MST
DTSTART:20171105T080000
END:STANDARD
BEGIN:DAYLIGHT
TZOFFSETFROM:-0700
TZOFFSETTO:-0600
TZNAME:MDT
DTSTART:20180311T090000
END:DAYLIGHT
BEGIN:STANDARD
TZOFFSETFROM:-0600
TZOFFSETTO:-0700
TZNAME:MST
DTSTART:20181104T080000
END:STANDARD
BEGIN:DAYLIGHT
TZOFFSETFROM:-0700
TZOFFSETTO:-0600
TZNAME:MDT
DTSTART:20190310T090000
END:DAYLIGHT
BEGIN:STANDARD
TZOFFSETFROM:-0600
TZOFFSETTO:-0700
TZNAME:MST
DTSTART:20191103T080000
END:STANDARD
BEGIN:DAYLIGHT
TZOFFSETFROM:-0700
TZOFFSETTO:-0600
TZNAME:MDT
DTSTART:20200308T090000
END:DAYLIGHT
BEGIN:STANDARD
TZOFFSETFROM:-0600
TZOFFSETTO:-0700
TZNAME:MST
DTSTART:20201101T080000
END:STANDARD
END:VTIMEZONE
BEGIN:VEVENT
DTSTART;TZID=America/Edmonton:20190714T100000
DTEND;TZID=America/Edmonton:20190714T140000
DTSTAMP:20260420T002155
CREATED:20240327T212638Z
LAST-MODIFIED:20240419T220109Z
UID:10002045-1563098400-1563112800@www.jdicseniors.ca
SUMMARY:Bagel Loop: Walk / Run / Roll 2019
DESCRIPTION:It’s time for the annual BAGEL LOOP Walk/Run/Roll 2019 Walk-A-Thon!\nSupport JDIC Seniors’ Centre (aka Jewish Senior Citizen’s Centre)\nSunday\, July 14 2019 at VICTORIA PARK\, Check-in time 10a.m.\n\n \nCome join us for the 2nd Annual Bagel Loop. \n\n 
URL:https://www.jdicseniors.ca/event/bagel-loop-walk-run-roll-2019-2/
LOCATION:Victoria Park\, 12030 River Valley Rd NW\, Edmonton\, Alberta\, Canada
CATEGORIES:Bagel Loop,Fun & Games
ATTACH;FMTTYPE=image/jpeg:https://www.jdicseniors.ca/wp-content/uploads/2024/03/Asset-2.jpg
ORGANIZER;CN="JDIC":MAILTO:programmer@jdicseniors.ca
END:VEVENT
BEGIN:VEVENT
DTSTART;TZID=America/Edmonton:20180708T100000
DTEND;TZID=America/Edmonton:20180708T140000
DTSTAMP:20260420T002155
CREATED:20240327T212638Z
LAST-MODIFIED:20240419T220213Z
UID:10002046-1531044000-1531058400@www.jdicseniors.ca
SUMMARY:Bagel Loop: Walk / Run / Roll 2018
DESCRIPTION:BRONIA-BOZENA-AND-GUYS-1024x576                                                                                                                                                                                                              BUMBERS-ATTACHED-728x1024                                                                                                                                                                                                              CHILDREN                                                                                                                                                                                                              FINISH                                                                                                                                                                                                              Guests-1024x576                                                                                                                                                                                                              Honey-Cake-719x1024
URL:https://www.jdicseniors.ca/event/bagel-loop-walk-run-roll-2018/
LOCATION:Victoria Park\, 12030 River Valley Rd NW\, Edmonton\, Alberta\, Canada
CATEGORIES:Bagel Loop,Fun & Games
ATTACH;FMTTYPE=image/jpeg:https://www.jdicseniors.ca/wp-content/uploads/2024/03/Asset-2.jpg
ORGANIZER;CN="JDIC":MAILTO:programmer@jdicseniors.ca
END:VEVENT
END:VCALENDAR