BEGIN:VCALENDAR
VERSION:2.0
PRODID:-//Jewish Senior Citizen’s Centre - ECPv6.15.17.1//NONSGML v1.0//EN
CALSCALE:GREGORIAN
METHOD:PUBLISH
X-ORIGINAL-URL:https://www.jdicseniors.ca
X-WR-CALDESC:Events for Jewish Senior Citizen’s Centre
REFRESH-INTERVAL;VALUE=DURATION:PT1H
X-Robots-Tag:noindex
X-PUBLISHED-TTL:PT1H
BEGIN:VTIMEZONE
TZID:America/Edmonton
BEGIN:DAYLIGHT
TZOFFSETFROM:-0700
TZOFFSETTO:-0600
TZNAME:MDT
DTSTART:20280312T090000
END:DAYLIGHT
BEGIN:STANDARD
TZOFFSETFROM:-0600
TZOFFSETTO:-0700
TZNAME:MST
DTSTART:20281105T080000
END:STANDARD
BEGIN:DAYLIGHT
TZOFFSETFROM:-0700
TZOFFSETTO:-0600
TZNAME:MDT
DTSTART:20290311T090000
END:DAYLIGHT
BEGIN:STANDARD
TZOFFSETFROM:-0600
TZOFFSETTO:-0700
TZNAME:MST
DTSTART:20291104T080000
END:STANDARD
BEGIN:DAYLIGHT
TZOFFSETFROM:-0700
TZOFFSETTO:-0600
TZNAME:MDT
DTSTART:20300310T090000
END:DAYLIGHT
BEGIN:STANDARD
TZOFFSETFROM:-0600
TZOFFSETTO:-0700
TZNAME:MST
DTSTART:20301103T080000
END:STANDARD
END:VTIMEZONE
BEGIN:VEVENT
DTSTART;TZID=America/Edmonton:20291010T133000
DTEND;TZID=America/Edmonton:20291010T153000
DTSTAMP:20260425T083638
CREATED:20250919T162054Z
LAST-MODIFIED:20260312T233350Z
UID:10004176-1886333400-1886340600@www.jdicseniors.ca
SUMMARY:Mamaloshen – Yiddish Club
DESCRIPTION:All interested in conversational Yiddish\, regardless of level\, are welcome. Great atmosphere and a lot of fun!  \nPlease register with the Office to receive the Zoom link for meetings.
URL:https://www.jdicseniors.ca/event/mamaloshen-yiddish-club-2/2029-10-10/
LOCATION:The Centre\, 10052-117 St. NW\, Edmonton\, Alberta\, T5K 1X2\, Canada
CATEGORIES:Fun & Games
ORGANIZER;CN="JDIC":MAILTO:programmer@jdicseniors.ca
END:VEVENT
BEGIN:VEVENT
DTSTART;TZID=America/Edmonton:20291011T110000
DTEND;TZID=America/Edmonton:20291011T120000
DTSTAMP:20260425T083638
CREATED:20250919T163612Z
LAST-MODIFIED:20260312T233456Z
UID:10004849-1886410800-1886414400@www.jdicseniors.ca
SUMMARY:Muscle in Motion with Anna Kratochvil | In-person or Online
DESCRIPTION:Use Balls\, Bands & Weights to Exercise & Laugh\nThursdays @ 11:00a.m. \nhttps://us02web.Zoom.us/j/82287922466 \nFee: $7 drop-in or card of 10 classes $60
URL:https://www.jdicseniors.ca/event/muscle-in-motion-with-anna-kratochvil-2-2-2-2-2-2-2-2-2-2-2-2/2029-10-11/
LOCATION:Zoom
CATEGORIES:Health & Wellness
ATTACH;FMTTYPE=image/jpeg:https://www.jdicseniors.ca/wp-content/uploads/2023/12/PHOTO-2024-03-01-21-56-45.jpg
ORGANIZER;CN="JDIC":MAILTO:programmer@jdicseniors.ca
END:VEVENT
BEGIN:VEVENT
DTSTART;TZID=America/Edmonton:20291011T120000
DTEND;TZID=America/Edmonton:20291011T130000
DTSTAMP:20260425T083638
CREATED:20250919T163523Z
LAST-MODIFIED:20260312T233702Z
UID:10004741-1886414400-1886418000@www.jdicseniors.ca
SUMMARY:Lunch & Learn
DESCRIPTION:Every Tuesday & Thursday 12p.m. – 1:00p.m. join us for Lunch & Learn program. Our lunch-and-learn program is a fantastic way to receive important information. All speakers are invited based on members’ requests for essential topics.
URL:https://www.jdicseniors.ca/event/lunch-learn-2/2029-10-11/
LOCATION:The Centre\, 10052-117 St. NW\, Edmonton\, Alberta\, T5K 1X2\, Canada
CATEGORIES:Lunch & Learn
ORGANIZER;CN="JDIC":MAILTO:programmer@jdicseniors.ca
END:VEVENT
BEGIN:VEVENT
DTSTART;TZID=America/Edmonton:20291015T090000
DTEND;TZID=America/Edmonton:20291015T100000
DTSTAMP:20260425T083638
CREATED:20250919T163923Z
LAST-MODIFIED:20260324T145856Z
UID:10004808-1886749200-1886752800@www.jdicseniors.ca
SUMMARY:YOGA Classes | Online or In-Person
DESCRIPTION:YOGA Classes\nWe are looking forward to seeing all of you on Monday mornings at 9:00am to 10:00am.  \nMonday mornings @ 9:00a.m.–10:00a.m.\nOld and new faces are very WELCOME in-person & via Zoom! \nPlease register\nhttps://tinyurl.com/297jwcb4\n \nFee: $7 drop-in or card of 10 classes $60 \nInstructor:\n\nSandy Mah
URL:https://www.jdicseniors.ca/event/yoga-classes-2-2-4-2-2-2-2/2029-10-15/
LOCATION:Zoom
CATEGORIES:Health & Wellness
ATTACH;FMTTYPE=image/jpeg:https://www.jdicseniors.ca/wp-content/uploads/2023/12/pexels-mikhail-nilov-7530023.jpg
ORGANIZER;CN="JDIC":MAILTO:programmer@jdicseniors.ca
END:VEVENT
BEGIN:VEVENT
DTSTART;TZID=America/Edmonton:20291015T100000
DTEND;TZID=America/Edmonton:20291015T120000
DTSTAMP:20260425T083638
CREATED:20250919T163856Z
LAST-MODIFIED:20260312T233823Z
UID:10004787-1886752800-1886760000@www.jdicseniors.ca
SUMMARY:Young At Heart Choir Rehersals
DESCRIPTION:Will start rehearsals on Mondays at 10am. \nJoin our wonderful choir! \nChoir fee is $50 for the Fall-Winter period (you will receive a $25 tax receipt). All choir participants must be paid members of the Centre. \nAll choir participants must be paid members of the Centre.
URL:https://www.jdicseniors.ca/event/young-at-heart-choir-rehersals-2-2/2029-10-15/
LOCATION:The Centre\, 10052-117 St. NW\, Edmonton\, Alberta\, T5K 1X2\, Canada
CATEGORIES:Fun & Games
ATTACH;FMTTYPE=image/jpeg:https://www.jdicseniors.ca/wp-content/uploads/2023/12/PHOTO-2023-11-02-14-44-45.jpg
ORGANIZER;CN="JDIC":MAILTO:programmer@jdicseniors.ca
END:VEVENT
BEGIN:VEVENT
DTSTART;TZID=America/Edmonton:20291016T104500
DTEND;TZID=America/Edmonton:20291016T114500
DTSTAMP:20260425T083638
CREATED:20250919T163732Z
LAST-MODIFIED:20260312T232849Z
UID:10004829-1886841900-1886845500@www.jdicseniors.ca
SUMMARY:Use it or Lose it With Bonnie Austen | In-person or Online
DESCRIPTION:Use it or Lose it With Bonnie Austen\nCardio & Strength training\, Flexibility & Balance & Laugher \nTuesdays @10:45a.m.\nhttps://us02web.Zoom.us/j/89274775349 \nFee: $7 drop-in or card of 10 classes $60
URL:https://www.jdicseniors.ca/event/use-it-or-lose-it-with-bonnie-austen-2-2-2/2029-10-16/
LOCATION:Zoom
CATEGORIES:Health & Wellness
ATTACH;FMTTYPE=image/png:https://www.jdicseniors.ca/wp-content/uploads/2023/12/Screen-Shot-2023-12-04-at-4.45.12-PM.png
ORGANIZER;CN="JDIC":MAILTO:programmer@jdicseniors.ca
END:VEVENT
BEGIN:VEVENT
DTSTART;TZID=America/Edmonton:20291016T120000
DTEND;TZID=America/Edmonton:20291016T130000
DTSTAMP:20260425T083638
CREATED:20250919T163523Z
LAST-MODIFIED:20260312T233702Z
UID:10004742-1886846400-1886850000@www.jdicseniors.ca
SUMMARY:Lunch & Learn
DESCRIPTION:Every Tuesday & Thursday 12p.m. – 1:00p.m. join us for Lunch & Learn program. Our lunch-and-learn program is a fantastic way to receive important information. All speakers are invited based on members’ requests for essential topics.
URL:https://www.jdicseniors.ca/event/lunch-learn-2/2029-10-16/
LOCATION:The Centre\, 10052-117 St. NW\, Edmonton\, Alberta\, T5K 1X2\, Canada
CATEGORIES:Lunch & Learn
ORGANIZER;CN="JDIC":MAILTO:programmer@jdicseniors.ca
END:VEVENT
BEGIN:VEVENT
DTSTART;TZID=America/Edmonton:20291017T100000
DTEND;TZID=America/Edmonton:20291017T120000
DTSTAMP:20260425T083638
CREATED:20250919T163331Z
LAST-MODIFIED:20260312T233117Z
UID:10003067-1886925600-1886932800@www.jdicseniors.ca
SUMMARY:De’s Crochet Club
DESCRIPTION:Join De and Ninfa every Wednesday to crochet all types of beautiful items. We donate baby blankets & caps which are much needed to welcome new arrivals in Edmonton! Coffee/tea & cookies included.  Please donate your yarns to the Centre.
URL:https://www.jdicseniors.ca/event/des-crochet-club-2/2029-10-17/
LOCATION:The Centre\, 10052-117 St. NW\, Edmonton\, Alberta\, T5K 1X2\, Canada
CATEGORIES:Fun & Games
ATTACH;FMTTYPE=image/jpeg:https://www.jdicseniors.ca/wp-content/uploads/2025/02/nykeya-paige-uka6tfxFL0s-unsplash.jpg
ORGANIZER;CN="JDIC":MAILTO:programmer@jdicseniors.ca
END:VEVENT
BEGIN:VEVENT
DTSTART;TZID=America/Edmonton:20291017T110000
DTEND;TZID=America/Edmonton:20291017T120000
DTSTAMP:20260425T083638
CREATED:20260324T145644Z
LAST-MODIFIED:20260325T141519Z
UID:10006150-1886929200-1886932800@www.jdicseniors.ca
SUMMARY:Tai Chi
DESCRIPTION:Join our Tai Chi Master\nTai Chi is performed as a gentle\, low-impact movement in which practitioners perform a series of deliberate\, flowing motions while focusing on deep\, slow breaths.  \nWednesdays @ 11a.m.\nFee: $7 drop-in or card of 10 classes $60
URL:https://www.jdicseniors.ca/event/tai-chi/2029-10-17/
LOCATION:The Centre\, 10052-117 St. NW\, Edmonton\, Alberta\, T5K 1X2\, Canada
CATEGORIES:Health & Wellness
ORGANIZER;CN="JDIC":MAILTO:programmer@jdicseniors.ca
END:VEVENT
BEGIN:VEVENT
DTSTART;TZID=America/Edmonton:20291017T120000
DTEND;TZID=America/Edmonton:20291017T150000
DTSTAMP:20260425T083638
CREATED:20250919T162427Z
LAST-MODIFIED:20260312T233156Z
UID:10003391-1886932800-1886943600@www.jdicseniors.ca
SUMMARY:Sunday Club on Wednesday Lunch & Learn
DESCRIPTION:Join our Sunday Club to enjoy traditional European cuisine and a special presentation about world art\, music\, literature and other topics (in Russian).
URL:https://www.jdicseniors.ca/event/sunday-club-on-wednesday-lunch-learn-2/2029-10-17/
LOCATION:The Centre\, 10052-117 St. NW\, Edmonton\, Alberta\, T5K 1X2\, Canada
CATEGORIES:Lunch & Learn
ORGANIZER;CN="JDIC":MAILTO:programmer@jdicseniors.ca
END:VEVENT
BEGIN:VEVENT
DTSTART;TZID=America/Edmonton:20291017T130000
DTEND;TZID=America/Edmonton:20291017T140000
DTSTAMP:20260425T083638
CREATED:20250919T162215Z
LAST-MODIFIED:20260312T233231Z
UID:10003653-1886936400-1886940000@www.jdicseniors.ca
SUMMARY:Conversational Russian Club
DESCRIPTION:Practice your conversational Russian with Russian-speakers. Have fun and enjoy new experiences!
URL:https://www.jdicseniors.ca/event/conversational-russian-club-2/2029-10-17/
LOCATION:The Centre\, 10052-117 St. NW\, Edmonton\, Alberta\, T5K 1X2\, Canada
CATEGORIES:Fun & Games
ORGANIZER;CN="JDIC":MAILTO:programmer@jdicseniors.ca
END:VEVENT
BEGIN:VEVENT
DTSTART;TZID=America/Edmonton:20291017T130000
DTEND;TZID=America/Edmonton:20291017T150000
DTSTAMP:20260425T083638
CREATED:20250919T162256Z
LAST-MODIFIED:20260312T233332Z
UID:10003915-1886936400-1886943600@www.jdicseniors.ca
SUMMARY:Chess Club
DESCRIPTION:Join our experienced players to enhance your skills in this strategic game. We have enough chess sets. Come and find new partners for this game.
URL:https://www.jdicseniors.ca/event/chess-club-2/2029-10-17/
LOCATION:The Centre\, 10052-117 St. NW\, Edmonton\, Alberta\, T5K 1X2\, Canada
CATEGORIES:Fun & Games
ATTACH;FMTTYPE=image/jpeg:https://www.jdicseniors.ca/wp-content/uploads/2025/02/jeshoots-com-fzOITuS1DIQ-unsplash.jpg
ORGANIZER;CN="JDIC":MAILTO:programmer@jdicseniors.ca
END:VEVENT
BEGIN:VEVENT
DTSTART;TZID=America/Edmonton:20291017T130000
DTEND;TZID=America/Edmonton:20291017T150000
DTSTAMP:20260425T083638
CREATED:20250919T163646Z
LAST-MODIFIED:20260312T233418Z
UID:10005401-1886936400-1886943600@www.jdicseniors.ca
SUMMARY:Whimsical Wednesdays
DESCRIPTION:Join a day of Fun\, Friendship & Craft!\nDo you play or want to play Canasta\, Cribbage\, Scrabble\, Mah Jongg or other card/board games?\nThis is a day when you can do whatever your heart desires! \nWhat’s more?\nWe offer a special light lunch that day for $10 only.\nPlease inform the Office about your game of choice!
URL:https://www.jdicseniors.ca/event/whimsical-wednesdays-2/2029-10-17/
LOCATION:The Centre\, 10052-117 St. NW\, Edmonton\, Alberta\, T5K 1X2\, Canada
CATEGORIES:Fun & Games
ATTACH;FMTTYPE=image/jpeg:https://www.jdicseniors.ca/wp-content/uploads/2023/12/pexels-kampus-production-6838584.jpg
ORGANIZER;CN="JDIC":MAILTO:programmer@jdicseniors.ca
END:VEVENT
BEGIN:VEVENT
DTSTART;TZID=America/Edmonton:20291017T133000
DTEND;TZID=America/Edmonton:20291017T153000
DTSTAMP:20260425T083638
CREATED:20250919T162054Z
LAST-MODIFIED:20260312T233350Z
UID:10004177-1886938200-1886945400@www.jdicseniors.ca
SUMMARY:Mamaloshen – Yiddish Club
DESCRIPTION:All interested in conversational Yiddish\, regardless of level\, are welcome. Great atmosphere and a lot of fun!  \nPlease register with the Office to receive the Zoom link for meetings.
URL:https://www.jdicseniors.ca/event/mamaloshen-yiddish-club-2/2029-10-17/
LOCATION:The Centre\, 10052-117 St. NW\, Edmonton\, Alberta\, T5K 1X2\, Canada
CATEGORIES:Fun & Games
ORGANIZER;CN="JDIC":MAILTO:programmer@jdicseniors.ca
END:VEVENT
BEGIN:VEVENT
DTSTART;TZID=America/Edmonton:20291018T110000
DTEND;TZID=America/Edmonton:20291018T120000
DTSTAMP:20260425T083638
CREATED:20250919T163612Z
LAST-MODIFIED:20260312T233456Z
UID:10004850-1887015600-1887019200@www.jdicseniors.ca
SUMMARY:Muscle in Motion with Anna Kratochvil | In-person or Online
DESCRIPTION:Use Balls\, Bands & Weights to Exercise & Laugh\nThursdays @ 11:00a.m. \nhttps://us02web.Zoom.us/j/82287922466 \nFee: $7 drop-in or card of 10 classes $60
URL:https://www.jdicseniors.ca/event/muscle-in-motion-with-anna-kratochvil-2-2-2-2-2-2-2-2-2-2-2-2/2029-10-18/
LOCATION:Zoom
CATEGORIES:Health & Wellness
ATTACH;FMTTYPE=image/jpeg:https://www.jdicseniors.ca/wp-content/uploads/2023/12/PHOTO-2024-03-01-21-56-45.jpg
ORGANIZER;CN="JDIC":MAILTO:programmer@jdicseniors.ca
END:VEVENT
BEGIN:VEVENT
DTSTART;TZID=America/Edmonton:20291018T120000
DTEND;TZID=America/Edmonton:20291018T130000
DTSTAMP:20260425T083638
CREATED:20250919T163523Z
LAST-MODIFIED:20260312T233702Z
UID:10004743-1887019200-1887022800@www.jdicseniors.ca
SUMMARY:Lunch & Learn
DESCRIPTION:Every Tuesday & Thursday 12p.m. – 1:00p.m. join us for Lunch & Learn program. Our lunch-and-learn program is a fantastic way to receive important information. All speakers are invited based on members’ requests for essential topics.
URL:https://www.jdicseniors.ca/event/lunch-learn-2/2029-10-18/
LOCATION:The Centre\, 10052-117 St. NW\, Edmonton\, Alberta\, T5K 1X2\, Canada
CATEGORIES:Lunch & Learn
ORGANIZER;CN="JDIC":MAILTO:programmer@jdicseniors.ca
END:VEVENT
BEGIN:VEVENT
DTSTART;TZID=America/Edmonton:20291022T090000
DTEND;TZID=America/Edmonton:20291022T100000
DTSTAMP:20260425T083638
CREATED:20250919T163923Z
LAST-MODIFIED:20260324T145856Z
UID:10004809-1887354000-1887357600@www.jdicseniors.ca
SUMMARY:YOGA Classes | Online or In-Person
DESCRIPTION:YOGA Classes\nWe are looking forward to seeing all of you on Monday mornings at 9:00am to 10:00am.  \nMonday mornings @ 9:00a.m.–10:00a.m.\nOld and new faces are very WELCOME in-person & via Zoom! \nPlease register\nhttps://tinyurl.com/297jwcb4\n \nFee: $7 drop-in or card of 10 classes $60 \nInstructor:\n\nSandy Mah
URL:https://www.jdicseniors.ca/event/yoga-classes-2-2-4-2-2-2-2/2029-10-22/
LOCATION:Zoom
CATEGORIES:Health & Wellness
ATTACH;FMTTYPE=image/jpeg:https://www.jdicseniors.ca/wp-content/uploads/2023/12/pexels-mikhail-nilov-7530023.jpg
ORGANIZER;CN="JDIC":MAILTO:programmer@jdicseniors.ca
END:VEVENT
BEGIN:VEVENT
DTSTART;TZID=America/Edmonton:20291022T100000
DTEND;TZID=America/Edmonton:20291022T120000
DTSTAMP:20260425T083638
CREATED:20250919T163856Z
LAST-MODIFIED:20260312T233823Z
UID:10004788-1887357600-1887364800@www.jdicseniors.ca
SUMMARY:Young At Heart Choir Rehersals
DESCRIPTION:Will start rehearsals on Mondays at 10am. \nJoin our wonderful choir! \nChoir fee is $50 for the Fall-Winter period (you will receive a $25 tax receipt). All choir participants must be paid members of the Centre. \nAll choir participants must be paid members of the Centre.
URL:https://www.jdicseniors.ca/event/young-at-heart-choir-rehersals-2-2/2029-10-22/
LOCATION:The Centre\, 10052-117 St. NW\, Edmonton\, Alberta\, T5K 1X2\, Canada
CATEGORIES:Fun & Games
ATTACH;FMTTYPE=image/jpeg:https://www.jdicseniors.ca/wp-content/uploads/2023/12/PHOTO-2023-11-02-14-44-45.jpg
ORGANIZER;CN="JDIC":MAILTO:programmer@jdicseniors.ca
END:VEVENT
BEGIN:VEVENT
DTSTART;TZID=America/Edmonton:20291023T104500
DTEND;TZID=America/Edmonton:20291023T114500
DTSTAMP:20260425T083638
CREATED:20250919T163732Z
LAST-MODIFIED:20260312T232849Z
UID:10004830-1887446700-1887450300@www.jdicseniors.ca
SUMMARY:Use it or Lose it With Bonnie Austen | In-person or Online
DESCRIPTION:Use it or Lose it With Bonnie Austen\nCardio & Strength training\, Flexibility & Balance & Laugher \nTuesdays @10:45a.m.\nhttps://us02web.Zoom.us/j/89274775349 \nFee: $7 drop-in or card of 10 classes $60
URL:https://www.jdicseniors.ca/event/use-it-or-lose-it-with-bonnie-austen-2-2-2/2029-10-23/
LOCATION:Zoom
CATEGORIES:Health & Wellness
ATTACH;FMTTYPE=image/png:https://www.jdicseniors.ca/wp-content/uploads/2023/12/Screen-Shot-2023-12-04-at-4.45.12-PM.png
ORGANIZER;CN="JDIC":MAILTO:programmer@jdicseniors.ca
END:VEVENT
BEGIN:VEVENT
DTSTART;TZID=America/Edmonton:20291023T120000
DTEND;TZID=America/Edmonton:20291023T130000
DTSTAMP:20260425T083638
CREATED:20250919T163523Z
LAST-MODIFIED:20260312T233702Z
UID:10004744-1887451200-1887454800@www.jdicseniors.ca
SUMMARY:Lunch & Learn
DESCRIPTION:Every Tuesday & Thursday 12p.m. – 1:00p.m. join us for Lunch & Learn program. Our lunch-and-learn program is a fantastic way to receive important information. All speakers are invited based on members’ requests for essential topics.
URL:https://www.jdicseniors.ca/event/lunch-learn-2/2029-10-23/
LOCATION:The Centre\, 10052-117 St. NW\, Edmonton\, Alberta\, T5K 1X2\, Canada
CATEGORIES:Lunch & Learn
ORGANIZER;CN="JDIC":MAILTO:programmer@jdicseniors.ca
END:VEVENT
BEGIN:VEVENT
DTSTART;TZID=America/Edmonton:20291024T100000
DTEND;TZID=America/Edmonton:20291024T120000
DTSTAMP:20260425T083638
CREATED:20250919T163331Z
LAST-MODIFIED:20260312T233117Z
UID:10003068-1887530400-1887537600@www.jdicseniors.ca
SUMMARY:De’s Crochet Club
DESCRIPTION:Join De and Ninfa every Wednesday to crochet all types of beautiful items. We donate baby blankets & caps which are much needed to welcome new arrivals in Edmonton! Coffee/tea & cookies included.  Please donate your yarns to the Centre.
URL:https://www.jdicseniors.ca/event/des-crochet-club-2/2029-10-24/
LOCATION:The Centre\, 10052-117 St. NW\, Edmonton\, Alberta\, T5K 1X2\, Canada
CATEGORIES:Fun & Games
ATTACH;FMTTYPE=image/jpeg:https://www.jdicseniors.ca/wp-content/uploads/2025/02/nykeya-paige-uka6tfxFL0s-unsplash.jpg
ORGANIZER;CN="JDIC":MAILTO:programmer@jdicseniors.ca
END:VEVENT
BEGIN:VEVENT
DTSTART;TZID=America/Edmonton:20291024T110000
DTEND;TZID=America/Edmonton:20291024T120000
DTSTAMP:20260425T083638
CREATED:20260324T145644Z
LAST-MODIFIED:20260325T141519Z
UID:10006151-1887534000-1887537600@www.jdicseniors.ca
SUMMARY:Tai Chi
DESCRIPTION:Join our Tai Chi Master\nTai Chi is performed as a gentle\, low-impact movement in which practitioners perform a series of deliberate\, flowing motions while focusing on deep\, slow breaths.  \nWednesdays @ 11a.m.\nFee: $7 drop-in or card of 10 classes $60
URL:https://www.jdicseniors.ca/event/tai-chi/2029-10-24/
LOCATION:The Centre\, 10052-117 St. NW\, Edmonton\, Alberta\, T5K 1X2\, Canada
CATEGORIES:Health & Wellness
ORGANIZER;CN="JDIC":MAILTO:programmer@jdicseniors.ca
END:VEVENT
BEGIN:VEVENT
DTSTART;TZID=America/Edmonton:20291024T120000
DTEND;TZID=America/Edmonton:20291024T150000
DTSTAMP:20260425T083638
CREATED:20250919T162427Z
LAST-MODIFIED:20260312T233156Z
UID:10003392-1887537600-1887548400@www.jdicseniors.ca
SUMMARY:Sunday Club on Wednesday Lunch & Learn
DESCRIPTION:Join our Sunday Club to enjoy traditional European cuisine and a special presentation about world art\, music\, literature and other topics (in Russian).
URL:https://www.jdicseniors.ca/event/sunday-club-on-wednesday-lunch-learn-2/2029-10-24/
LOCATION:The Centre\, 10052-117 St. NW\, Edmonton\, Alberta\, T5K 1X2\, Canada
CATEGORIES:Lunch & Learn
ORGANIZER;CN="JDIC":MAILTO:programmer@jdicseniors.ca
END:VEVENT
BEGIN:VEVENT
DTSTART;TZID=America/Edmonton:20291024T130000
DTEND;TZID=America/Edmonton:20291024T140000
DTSTAMP:20260425T083638
CREATED:20250919T162215Z
LAST-MODIFIED:20260312T233231Z
UID:10003654-1887541200-1887544800@www.jdicseniors.ca
SUMMARY:Conversational Russian Club
DESCRIPTION:Practice your conversational Russian with Russian-speakers. Have fun and enjoy new experiences!
URL:https://www.jdicseniors.ca/event/conversational-russian-club-2/2029-10-24/
LOCATION:The Centre\, 10052-117 St. NW\, Edmonton\, Alberta\, T5K 1X2\, Canada
CATEGORIES:Fun & Games
ORGANIZER;CN="JDIC":MAILTO:programmer@jdicseniors.ca
END:VEVENT
BEGIN:VEVENT
DTSTART;TZID=America/Edmonton:20291024T130000
DTEND;TZID=America/Edmonton:20291024T150000
DTSTAMP:20260425T083638
CREATED:20250919T162256Z
LAST-MODIFIED:20260312T233332Z
UID:10003916-1887541200-1887548400@www.jdicseniors.ca
SUMMARY:Chess Club
DESCRIPTION:Join our experienced players to enhance your skills in this strategic game. We have enough chess sets. Come and find new partners for this game.
URL:https://www.jdicseniors.ca/event/chess-club-2/2029-10-24/
LOCATION:The Centre\, 10052-117 St. NW\, Edmonton\, Alberta\, T5K 1X2\, Canada
CATEGORIES:Fun & Games
ATTACH;FMTTYPE=image/jpeg:https://www.jdicseniors.ca/wp-content/uploads/2025/02/jeshoots-com-fzOITuS1DIQ-unsplash.jpg
ORGANIZER;CN="JDIC":MAILTO:programmer@jdicseniors.ca
END:VEVENT
BEGIN:VEVENT
DTSTART;TZID=America/Edmonton:20291024T130000
DTEND;TZID=America/Edmonton:20291024T150000
DTSTAMP:20260425T083638
CREATED:20250919T163646Z
LAST-MODIFIED:20260312T233418Z
UID:10005402-1887541200-1887548400@www.jdicseniors.ca
SUMMARY:Whimsical Wednesdays
DESCRIPTION:Join a day of Fun\, Friendship & Craft!\nDo you play or want to play Canasta\, Cribbage\, Scrabble\, Mah Jongg or other card/board games?\nThis is a day when you can do whatever your heart desires! \nWhat’s more?\nWe offer a special light lunch that day for $10 only.\nPlease inform the Office about your game of choice!
URL:https://www.jdicseniors.ca/event/whimsical-wednesdays-2/2029-10-24/
LOCATION:The Centre\, 10052-117 St. NW\, Edmonton\, Alberta\, T5K 1X2\, Canada
CATEGORIES:Fun & Games
ATTACH;FMTTYPE=image/jpeg:https://www.jdicseniors.ca/wp-content/uploads/2023/12/pexels-kampus-production-6838584.jpg
ORGANIZER;CN="JDIC":MAILTO:programmer@jdicseniors.ca
END:VEVENT
BEGIN:VEVENT
DTSTART;TZID=America/Edmonton:20291024T133000
DTEND;TZID=America/Edmonton:20291024T153000
DTSTAMP:20260425T083638
CREATED:20250919T162054Z
LAST-MODIFIED:20260312T233350Z
UID:10004178-1887543000-1887550200@www.jdicseniors.ca
SUMMARY:Mamaloshen – Yiddish Club
DESCRIPTION:All interested in conversational Yiddish\, regardless of level\, are welcome. Great atmosphere and a lot of fun!  \nPlease register with the Office to receive the Zoom link for meetings.
URL:https://www.jdicseniors.ca/event/mamaloshen-yiddish-club-2/2029-10-24/
LOCATION:The Centre\, 10052-117 St. NW\, Edmonton\, Alberta\, T5K 1X2\, Canada
CATEGORIES:Fun & Games
ORGANIZER;CN="JDIC":MAILTO:programmer@jdicseniors.ca
END:VEVENT
BEGIN:VEVENT
DTSTART;TZID=America/Edmonton:20291025T110000
DTEND;TZID=America/Edmonton:20291025T120000
DTSTAMP:20260425T083638
CREATED:20250919T163612Z
LAST-MODIFIED:20260312T233456Z
UID:10004851-1887620400-1887624000@www.jdicseniors.ca
SUMMARY:Muscle in Motion with Anna Kratochvil | In-person or Online
DESCRIPTION:Use Balls\, Bands & Weights to Exercise & Laugh\nThursdays @ 11:00a.m. \nhttps://us02web.Zoom.us/j/82287922466 \nFee: $7 drop-in or card of 10 classes $60
URL:https://www.jdicseniors.ca/event/muscle-in-motion-with-anna-kratochvil-2-2-2-2-2-2-2-2-2-2-2-2/2029-10-25/
LOCATION:Zoom
CATEGORIES:Health & Wellness
ATTACH;FMTTYPE=image/jpeg:https://www.jdicseniors.ca/wp-content/uploads/2023/12/PHOTO-2024-03-01-21-56-45.jpg
ORGANIZER;CN="JDIC":MAILTO:programmer@jdicseniors.ca
END:VEVENT
BEGIN:VEVENT
DTSTART;TZID=America/Edmonton:20291025T120000
DTEND;TZID=America/Edmonton:20291025T130000
DTSTAMP:20260425T083638
CREATED:20250919T163523Z
LAST-MODIFIED:20260312T233702Z
UID:10004745-1887624000-1887627600@www.jdicseniors.ca
SUMMARY:Lunch & Learn
DESCRIPTION:Every Tuesday & Thursday 12p.m. – 1:00p.m. join us for Lunch & Learn program. Our lunch-and-learn program is a fantastic way to receive important information. All speakers are invited based on members’ requests for essential topics.
URL:https://www.jdicseniors.ca/event/lunch-learn-2/2029-10-25/
LOCATION:The Centre\, 10052-117 St. NW\, Edmonton\, Alberta\, T5K 1X2\, Canada
CATEGORIES:Lunch & Learn
ORGANIZER;CN="JDIC":MAILTO:programmer@jdicseniors.ca
END:VEVENT
BEGIN:VEVENT
DTSTART;TZID=America/Edmonton:20291029T090000
DTEND;TZID=America/Edmonton:20291029T100000
DTSTAMP:20260425T083638
CREATED:20250919T163923Z
LAST-MODIFIED:20260324T145856Z
UID:10004810-1887958800-1887962400@www.jdicseniors.ca
SUMMARY:YOGA Classes | Online or In-Person
DESCRIPTION:YOGA Classes\nWe are looking forward to seeing all of you on Monday mornings at 9:00am to 10:00am.  \nMonday mornings @ 9:00a.m.–10:00a.m.\nOld and new faces are very WELCOME in-person & via Zoom! \nPlease register\nhttps://tinyurl.com/297jwcb4\n \nFee: $7 drop-in or card of 10 classes $60 \nInstructor:\n\nSandy Mah
URL:https://www.jdicseniors.ca/event/yoga-classes-2-2-4-2-2-2-2/2029-10-29/
LOCATION:Zoom
CATEGORIES:Health & Wellness
ATTACH;FMTTYPE=image/jpeg:https://www.jdicseniors.ca/wp-content/uploads/2023/12/pexels-mikhail-nilov-7530023.jpg
ORGANIZER;CN="JDIC":MAILTO:programmer@jdicseniors.ca
END:VEVENT
END:VCALENDAR