BEGIN:VCALENDAR
VERSION:2.0
PRODID:-//Jewish Senior Citizen’s Centre - ECPv6.15.17.1//NONSGML v1.0//EN
CALSCALE:GREGORIAN
METHOD:PUBLISH
X-ORIGINAL-URL:https://www.jdicseniors.ca
X-WR-CALDESC:Events for Jewish Senior Citizen’s Centre
REFRESH-INTERVAL;VALUE=DURATION:PT1H
X-Robots-Tag:noindex
X-PUBLISHED-TTL:PT1H
BEGIN:VTIMEZONE
TZID:America/Edmonton
BEGIN:DAYLIGHT
TZOFFSETFROM:-0700
TZOFFSETTO:-0600
TZNAME:MDT
DTSTART:20250309T090000
END:DAYLIGHT
BEGIN:STANDARD
TZOFFSETFROM:-0600
TZOFFSETTO:-0700
TZNAME:MST
DTSTART:20251102T080000
END:STANDARD
BEGIN:DAYLIGHT
TZOFFSETFROM:-0700
TZOFFSETTO:-0600
TZNAME:MDT
DTSTART:20260308T090000
END:DAYLIGHT
BEGIN:STANDARD
TZOFFSETFROM:-0600
TZOFFSETTO:-0700
TZNAME:MST
DTSTART:20261101T080000
END:STANDARD
BEGIN:DAYLIGHT
TZOFFSETFROM:-0700
TZOFFSETTO:-0600
TZNAME:MDT
DTSTART:20270314T090000
END:DAYLIGHT
BEGIN:STANDARD
TZOFFSETFROM:-0600
TZOFFSETTO:-0700
TZNAME:MST
DTSTART:20271107T080000
END:STANDARD
END:VTIMEZONE
BEGIN:VEVENT
DTSTART;TZID=America/Edmonton:20260325T093000
DTEND;TZID=America/Edmonton:20260325T170000
DTSTAMP:20260421T132508
CREATED:20260314T205524Z
LAST-MODIFIED:20260314T205524Z
UID:10005957-1774431000-1774458000@www.jdicseniors.ca
SUMMARY:The Sweet Delilah Swim Club
DESCRIPTION:Join an adventurous trip to Lacombe County!\nCow Patti Dinner TheatrePRESENTS The Sweet Delilah Swim Club\nOur luxury coach will leave the Centre (10052 -117 Street) at 9:30a.m. and return approximately at 5p.m.  You can park your car at the Centre.\nA delicious brunch will be served at 11:30a.m. at the Theatre.Please bring snacks for the return trip.\nPlease reserve your spot with payment by March 5. Please note: Your ticket is transferable but not refundable.\nFees | $100 For Members | $135 For Non-Members\nPrice Includes Transportation\, Brunch\, And Performance
URL:https://www.jdicseniors.ca/event/the-sweet-delilah-swim-club/
LOCATION:The Centre\, 10052-117 St. NW\, Edmonton\, Alberta\, T5K 1X2\, Canada
CATEGORIES:Trips
ORGANIZER;CN="JDIC":MAILTO:programmer@jdicseniors.ca
END:VEVENT
END:VCALENDAR