BEGIN:VCALENDAR
VERSION:2.0
PRODID:-//Jewish Senior Citizen’s Centre - ECPv6.15.17.1//NONSGML v1.0//EN
CALSCALE:GREGORIAN
METHOD:PUBLISH
X-ORIGINAL-URL:https://www.jdicseniors.ca
X-WR-CALDESC:Events for Jewish Senior Citizen’s Centre
REFRESH-INTERVAL;VALUE=DURATION:PT1H
X-Robots-Tag:noindex
X-PUBLISHED-TTL:PT1H
BEGIN:VTIMEZONE
TZID:America/Edmonton
BEGIN:DAYLIGHT
TZOFFSETFROM:-0700
TZOFFSETTO:-0600
TZNAME:MDT
DTSTART:20250309T090000
END:DAYLIGHT
BEGIN:STANDARD
TZOFFSETFROM:-0600
TZOFFSETTO:-0700
TZNAME:MST
DTSTART:20251102T080000
END:STANDARD
BEGIN:DAYLIGHT
TZOFFSETFROM:-0700
TZOFFSETTO:-0600
TZNAME:MDT
DTSTART:20260308T090000
END:DAYLIGHT
BEGIN:STANDARD
TZOFFSETFROM:-0600
TZOFFSETTO:-0700
TZNAME:MST
DTSTART:20261101T080000
END:STANDARD
BEGIN:DAYLIGHT
TZOFFSETFROM:-0700
TZOFFSETTO:-0600
TZNAME:MDT
DTSTART:20270314T090000
END:DAYLIGHT
BEGIN:STANDARD
TZOFFSETFROM:-0600
TZOFFSETTO:-0700
TZNAME:MST
DTSTART:20271107T080000
END:STANDARD
END:VTIMEZONE
BEGIN:VEVENT
DTSTART;TZID=America/Edmonton:20260315T120000
DTEND;TZID=America/Edmonton:20260315T140000
DTSTAMP:20260419T094302
CREATED:20260109T232658Z
LAST-MODIFIED:20260109T232658Z
UID:10005578-1773576000-1773583200@www.jdicseniors.ca
SUMMARY:French Kiss: A Cabaret By Brie\, Baguette\, and a Broad
DESCRIPTION:Step into a world of joie de vivre as singer Mireille Rijavec and pianist Roxanne Classen bring their signature cabaret back to life!Performing together since their 2007 Edmonton Fringe debut\, Brie\, Baguette\, and a Broad\, this dynamic duo invites audiences into the intimate\, playful world of cabaret—where beloved songs\, storytelling\, and spirited banter collide.\nBlending the romance\, humour\, and drama of French life and love with a distinctly Albertan twist\, French Kiss is a charming\, interactive experience that draws audiences right into the moment. Mireille’s expressive interpretations and Roxanne’s sparkling piano create a performance that is both heartfelt and hilarious.\nTheir acclaimed cabarets have delighted audiences at U of A’s Campus Saint-Jean\, l’Unithéâtre\, Concerts in Care\, and numerous private and public events.\nCome laugh\, listen\, and fall a little bit in love—no passport required. \nFee Includes Brunch
URL:https://www.jdicseniors.ca/event/french-kiss-a-cabaret-by-brie-baguette-and-a-broad/
LOCATION:The Centre\, 10052-117 St. NW\, Edmonton\, Alberta\, T5K 1X2\, Canada
CATEGORIES:Special Events & Presentations
ATTACH;FMTTYPE=image/jpeg:https://www.jdicseniors.ca/wp-content/uploads/2026/01/french-kiss.jpg
ORGANIZER;CN="JDIC":MAILTO:programmer@jdicseniors.ca
END:VEVENT
BEGIN:VEVENT
DTSTART;TZID=America/Edmonton:20260316T130000
DTEND;TZID=America/Edmonton:20260316T150000
DTSTAMP:20260419T094302
CREATED:20260109T232702Z
LAST-MODIFIED:20260109T232702Z
UID:10005584-1773666000-1773673200@www.jdicseniors.ca
SUMMARY:Women Writers in a Cold Climate
DESCRIPTION:Instructor: Eileen Conway Fee: Members $75 |  Non-members $95\nA notable critic has claimed that the best fiction written in his (and our) time has been the work of “women in the chillier parts of North America.”  We will look at the work of six of these writers: Margaret Laurence\, Margaret Atwood\, Alice Munro\, Carol Shields\, Joy Kogawa\, and Gabrielle Roy.
URL:https://www.jdicseniors.ca/event/women-writers-in-a-cold-climate-6/
LOCATION:The Centre\, 10052-117 St. NW\, Edmonton\, Alberta\, T5K 1X2\, Canada
CATEGORIES:Special Events & Presentations
ORGANIZER;CN="JDIC":MAILTO:programmer@jdicseniors.ca
END:VEVENT
END:VCALENDAR