BEGIN:VCALENDAR
VERSION:2.0
PRODID:-//Jewish Senior Citizen’s Centre - ECPv6.15.17.1//NONSGML v1.0//EN
CALSCALE:GREGORIAN
METHOD:PUBLISH
X-WR-CALNAME:Jewish Senior Citizen’s Centre
X-ORIGINAL-URL:https://www.jdicseniors.ca
X-WR-CALDESC:Events for Jewish Senior Citizen’s Centre
REFRESH-INTERVAL;VALUE=DURATION:PT1H
X-Robots-Tag:noindex
X-PUBLISHED-TTL:PT1H
BEGIN:VTIMEZONE
TZID:America/Edmonton
BEGIN:DAYLIGHT
TZOFFSETFROM:-0700
TZOFFSETTO:-0600
TZNAME:MDT
DTSTART:20250309T090000
END:DAYLIGHT
BEGIN:STANDARD
TZOFFSETFROM:-0600
TZOFFSETTO:-0700
TZNAME:MST
DTSTART:20251102T080000
END:STANDARD
BEGIN:DAYLIGHT
TZOFFSETFROM:-0700
TZOFFSETTO:-0600
TZNAME:MDT
DTSTART:20260308T090000
END:DAYLIGHT
BEGIN:STANDARD
TZOFFSETFROM:-0600
TZOFFSETTO:-0700
TZNAME:MST
DTSTART:20261101T080000
END:STANDARD
BEGIN:DAYLIGHT
TZOFFSETFROM:-0700
TZOFFSETTO:-0600
TZNAME:MDT
DTSTART:20270314T090000
END:DAYLIGHT
BEGIN:STANDARD
TZOFFSETFROM:-0600
TZOFFSETTO:-0700
TZNAME:MST
DTSTART:20271107T080000
END:STANDARD
END:VTIMEZONE
BEGIN:VEVENT
DTSTART;TZID=America/Edmonton:20260309T130000
DTEND;TZID=America/Edmonton:20260309T150000
DTSTAMP:20260419T080116
CREATED:20260109T232701Z
LAST-MODIFIED:20260109T232701Z
UID:10005583-1773061200-1773068400@www.jdicseniors.ca
SUMMARY:Women Writers in a Cold Climate
DESCRIPTION:Instructor: Eileen Conway Fee: Members $75 |  Non-members $95\nA notable critic has claimed that the best fiction written in his (and our) time has been the work of “women in the chillier parts of North America.”  We will look at the work of six of these writers: Margaret Laurence\, Margaret Atwood\, Alice Munro\, Carol Shields\, Joy Kogawa\, and Gabrielle Roy.
URL:https://www.jdicseniors.ca/event/women-writers-in-a-cold-climate-5/
LOCATION:The Centre\, 10052-117 St. NW\, Edmonton\, Alberta\, T5K 1X2\, Canada
CATEGORIES:Special Events & Presentations
ORGANIZER;CN="JDIC":MAILTO:programmer@jdicseniors.ca
END:VEVENT
BEGIN:VEVENT
DTSTART;TZID=America/Edmonton:20260310T093000
DTEND;TZID=America/Edmonton:20260310T113000
DTSTAMP:20260419T080116
CREATED:20260314T205522Z
LAST-MODIFIED:20260314T205522Z
UID:10005955-1773135000-1773142200@www.jdicseniors.ca
SUMMARY:Ready to Shuffle\, Stack & WIN? Mah Jongg Lessons!
DESCRIPTION:Mah Jongg Lessons with Rhonda are coming your way!\nEver wanted to master the tiles and impress your friends? Now’s your chance to become a Mah Jongg Pro with Rhonda!\nTuesdays: March 10\, 17\, 24 & 31\n9:30 a.m. – 11:30 a.m.\n$36 for the full 4-week series\nWhether you’re brand new or need a refresher\, you’ll learn strategy\, scoring\, and all the secrets to playing with confidence. By the end of the series\, you’ll be calling “Mah Jongg!” like a champion!\nSeats are limited—grab your spot and let the tiles do the talking!
URL:https://www.jdicseniors.ca/event/ready-to-shuffle-stack-win-mah-jongg-lessons/
LOCATION:The Centre\, 10052-117 St. NW\, Edmonton\, Alberta\, T5K 1X2\, Canada
CATEGORIES:Special Events & Presentations
ORGANIZER;CN="JDIC":MAILTO:programmer@jdicseniors.ca
END:VEVENT
END:VCALENDAR