BEGIN:VCALENDAR
VERSION:2.0
PRODID:-//Jewish Senior Citizen’s Centre - ECPv6.15.17.1//NONSGML v1.0//EN
CALSCALE:GREGORIAN
METHOD:PUBLISH
X-ORIGINAL-URL:https://www.jdicseniors.ca
X-WR-CALDESC:Events for Jewish Senior Citizen’s Centre
REFRESH-INTERVAL;VALUE=DURATION:PT1H
X-Robots-Tag:noindex
X-PUBLISHED-TTL:PT1H
BEGIN:VTIMEZONE
TZID:America/Edmonton
BEGIN:DAYLIGHT
TZOFFSETFROM:-0700
TZOFFSETTO:-0600
TZNAME:MDT
DTSTART:20240310T090000
END:DAYLIGHT
BEGIN:STANDARD
TZOFFSETFROM:-0600
TZOFFSETTO:-0700
TZNAME:MST
DTSTART:20241103T080000
END:STANDARD
BEGIN:DAYLIGHT
TZOFFSETFROM:-0700
TZOFFSETTO:-0600
TZNAME:MDT
DTSTART:20250309T090000
END:DAYLIGHT
BEGIN:STANDARD
TZOFFSETFROM:-0600
TZOFFSETTO:-0700
TZNAME:MST
DTSTART:20251102T080000
END:STANDARD
BEGIN:DAYLIGHT
TZOFFSETFROM:-0700
TZOFFSETTO:-0600
TZNAME:MDT
DTSTART:20260308T090000
END:DAYLIGHT
BEGIN:STANDARD
TZOFFSETFROM:-0600
TZOFFSETTO:-0700
TZNAME:MST
DTSTART:20261101T080000
END:STANDARD
END:VTIMEZONE
BEGIN:VEVENT
DTSTART;TZID=America/Edmonton:20250615T100000
DTEND;TZID=America/Edmonton:20250615T120000
DTSTAMP:20260419T080158
CREATED:20250502T180537Z
LAST-MODIFIED:20250502T180537Z
UID:10004958-1749981600-1749988800@www.jdicseniors.ca
SUMMARY:“The Romantic Russians” with Prof. Michael Roeder
DESCRIPTION:A new 6-week courseMusic by Mussorgsky\, Tchaikovsky\, Rachmaninov and Forerunners. \nOn Sundays 10a.m. – 12p.m.\nJune 8\, 15\, 22\, 29 & July 6 & 13 \nRussian composers often hold a special place in the history of western music. They joined the stream late and initially developed two contrasting approaches: one favoured the strong use of Russian folklore materials and was influenced by non-Germanic composers such as Liszt and Berlioz; the other was more closely connected with the more conservative Germanic tradition\, although the two approaches mixed in interesting ways. We will explore music by Balakirev\, Borodin\, Rimsky-Korsakov\, and Mussorgsky\, who aligned themselves with the former approach. The music of Tchaikovsky and Rachmaninov\, both of whom studied in conservatories founded by the Rubinstein brothers in St. Petersburg and Moscow\, illustrates elements of the second approach\, with inescapable evidence of influence of Russian folk materials.  \nFee: $95 for members & $115 for non-members (including light breakfast)
URL:https://www.jdicseniors.ca/event/the-romantic-russians-with-prof-michael-roeder-2/
LOCATION:The Centre\, 10052-117 St. NW\, Edmonton\, Alberta\, T5K 1X2\, Canada
CATEGORIES:Special Events & Presentations
ATTACH;FMTTYPE=image/png:https://www.jdicseniors.ca/wp-content/uploads/2025/05/57ed4d0f-b0c7-4208-ab9b-4efc1fac33b8.png
ORGANIZER;CN="JDIC":MAILTO:programmer@jdicseniors.ca
END:VEVENT
BEGIN:VEVENT
DTSTART;TZID=America/Edmonton:20250616T130000
DTEND;TZID=America/Edmonton:20250616T150000
DTSTAMP:20260419T080158
CREATED:20250502T180851Z
LAST-MODIFIED:20250502T180851Z
UID:10004968-1750078800-1750086000@www.jdicseniors.ca
SUMMARY:“Mid-Century Canadian Voices” with Eileen Conway
DESCRIPTION:“Mid-Century Canadian Voices” with Eileen Conway\nOn Mondays 1p.m.-3p.m.\nMay 5\, 12 & 26 and June 2\, 9 & 16 \nOne generation into the twenty-first century\, we’re going to revisit a period 50-70 years ago.  Our guides\, “ancestral voices\,” are writers\, journalists\, academics — public intellectuals\, in short— who had things to say about Canada and Canadians\, and said them. They will include Pierre Berton\, Northrop Frye\, George Grant\, Bruce Hutchison\, Gabrielle Roy\, and perhaps one other. Come and join the conversation!\nEileen Conway\, a retired Anglican clergywoman\, taught English at the University of Alberta for almost twenty years\, chiefly to freshmen. \nFee: $75 for members & $95 for non-members
URL:https://www.jdicseniors.ca/event/mid-century-canadian-voices-with-eileen-conway-6/
LOCATION:The Centre\, 10052-117 St. NW\, Edmonton\, Alberta\, T5K 1X2\, Canada
CATEGORIES:Special Events & Presentations
ATTACH;FMTTYPE=image/png:https://www.jdicseniors.ca/wp-content/uploads/2025/05/563ccbf7-44db-4c0e-9f03-2005f7d4271f.png
ORGANIZER;CN="JDIC":MAILTO:programmer@jdicseniors.ca
END:VEVENT
BEGIN:VEVENT
DTSTART;TZID=America/Edmonton:20250617T130000
DTEND;TZID=America/Edmonton:20250617T150000
DTSTAMP:20260419T080158
CREATED:20250524T161733Z
LAST-MODIFIED:20250524T161733Z
UID:10005002-1750165200-1750172400@www.jdicseniors.ca
SUMMARY:Branches of the Living Tree: Exploring Judaism’s Many Streams
DESCRIPTION:Branches of the Living Tree: Exploring Judaism’s Many Streams\nTuesday\, June 17 at 1p.m.\nJoin Rabbi Alisa Zilbershtein for an insightful journey through the diverse expressions of Jewish faith and practice in our contemporary world. We’ll examine the rich variety within Judaism—from Reform to Orthodox\, Conservative to Reconstructionist\, and newer movements transforming Jewish life.\nPerfect for anyone curious about the many ways Judaism is lived today. Come learn about our shared heritage and the beautiful diversity of Jewish expression!
URL:https://www.jdicseniors.ca/event/branches-of-the-living-tree-exploring-judaisms-many-streams/
LOCATION:The Centre\, 10052-117 St. NW\, Edmonton\, Alberta\, T5K 1X2\, Canada
CATEGORIES:Special Events & Presentations
ATTACH;FMTTYPE=image/jpeg:https://www.jdicseniors.ca/wp-content/uploads/2025/05/emma-henderson-B645igbiKCw-unsplash.jpg
ORGANIZER;CN="JDIC":MAILTO:programmer@jdicseniors.ca
END:VEVENT
BEGIN:VEVENT
DTSTART;TZID=America/Edmonton:20250620T180000
DTEND;TZID=America/Edmonton:20250620T203000
DTSTAMP:20260419T080158
CREATED:20250524T161731Z
LAST-MODIFIED:20250524T161731Z
UID:10005001-1750442400-1750451400@www.jdicseniors.ca
SUMMARY:Pre-Shabbat Dinner
DESCRIPTION:Pre-Shabbat DinnerFriday\, June 20\nDoors open at 6p.m.\nDinner starts at 6:30p.m.\nWhere beautiful traditions & new friends meet! Bert Malo will bless\nthe wine & the challah with\ntraditional prayers & entertain\nwith some traditional songs.\nPlease reserve\nyour seat before June 12 \nFee per guest:\nAdults $45\nYouth $30\nChildren under 6 $5\nRed or white wine will be available\nfor $6 per glass or $30 per bottle. (Please pre-order) \nMenu\nRoasted Red Pepper Bisque\nGefilte Fish\nBaked Dill Salmon with Roasted Veggies\nSummer Strawberry Salad\nPavlova\nChallah & Challah Buns
URL:https://www.jdicseniors.ca/event/pre-shabbat-dinner-2/
LOCATION:The Centre\, 10052-117 St. NW\, Edmonton\, Alberta\, T5K 1X2\, Canada
CATEGORIES:Special Events & Presentations
ATTACH;FMTTYPE=image/jpeg:https://www.jdicseniors.ca/wp-content/uploads/2025/05/PHOTO-2025-05-23-22-42-06-2.jpg
ORGANIZER;CN="JDIC":MAILTO:programmer@jdicseniors.ca
END:VEVENT
END:VCALENDAR