BEGIN:VCALENDAR
VERSION:2.0
PRODID:-//Jewish Senior Citizen’s Centre - ECPv6.15.17.1//NONSGML v1.0//EN
CALSCALE:GREGORIAN
METHOD:PUBLISH
X-ORIGINAL-URL:https://www.jdicseniors.ca
X-WR-CALDESC:Events for Jewish Senior Citizen’s Centre
REFRESH-INTERVAL;VALUE=DURATION:PT1H
X-Robots-Tag:noindex
X-PUBLISHED-TTL:PT1H
BEGIN:VTIMEZONE
TZID:America/Edmonton
BEGIN:DAYLIGHT
TZOFFSETFROM:-0700
TZOFFSETTO:-0600
TZNAME:MDT
DTSTART:20240310T090000
END:DAYLIGHT
BEGIN:STANDARD
TZOFFSETFROM:-0600
TZOFFSETTO:-0700
TZNAME:MST
DTSTART:20241103T080000
END:STANDARD
BEGIN:DAYLIGHT
TZOFFSETFROM:-0700
TZOFFSETTO:-0600
TZNAME:MDT
DTSTART:20250309T090000
END:DAYLIGHT
BEGIN:STANDARD
TZOFFSETFROM:-0600
TZOFFSETTO:-0700
TZNAME:MST
DTSTART:20251102T080000
END:STANDARD
BEGIN:DAYLIGHT
TZOFFSETFROM:-0700
TZOFFSETTO:-0600
TZNAME:MDT
DTSTART:20260308T090000
END:DAYLIGHT
BEGIN:STANDARD
TZOFFSETFROM:-0600
TZOFFSETTO:-0700
TZNAME:MST
DTSTART:20261101T080000
END:STANDARD
END:VTIMEZONE
BEGIN:VEVENT
DTSTART;TZID=America/Edmonton:20250224T130000
DTEND;TZID=America/Edmonton:20250224T150000
DTSTAMP:20260419T113204
CREATED:20250125T203700Z
LAST-MODIFIED:20250125T203700Z
UID:10002760-1740402000-1740409200@www.jdicseniors.ca
SUMMARY:History of Canada 1900 – 1999: Building the Nation with Prof. Alvin Finkel
DESCRIPTION:Lecture 2: Part A: The Death of British Imperialism as the Defining Feature of English Canada and What Replaced It at Various Times\, 1900-1999Part B: The Death of Catholic Internationalism as the Defining Feature of French Canada and What Replaced It at Various Times\, 1900-1999. \nFee: $65 for members and $85 for non-members
URL:https://www.jdicseniors.ca/event/history-of-canada-1900-1999-building-the-nation-with-prof-alvin-finkel-2/
LOCATION:The Centre\, 10052-117 St. NW\, Edmonton\, Alberta\, T5K 1X2\, Canada
CATEGORIES:Special Events & Presentations
ORGANIZER;CN="JDIC":MAILTO:programmer@jdicseniors.ca
END:VEVENT
BEGIN:VEVENT
DTSTART;TZID=America/Edmonton:20250225T120000
DTEND;TZID=America/Edmonton:20250225T130000
DTSTAMP:20260419T113204
CREATED:20250228T230709Z
LAST-MODIFIED:20250228T230709Z
UID:10004197-1740484800-1740488400@www.jdicseniors.ca
SUMMARY:Birthday Tuesdays
DESCRIPTION:Every last Tuesday of the month join us to celebrate your friends’ birthdays with music\, special lunch and fun! Sponsor cake or entertainment\, order a special card from the office or create a unique Power Point presentation to surprise your friends!
URL:https://www.jdicseniors.ca/event/birthday-tuesdays/2025-02-25/
LOCATION:The Centre\, 10052-117 St. NW\, Edmonton\, Alberta\, T5K 1X2\, Canada
CATEGORIES:Fun & Games,Special Events & Presentations
ATTACH;FMTTYPE=image/jpeg:https://www.jdicseniors.ca/wp-content/uploads/2025/01/isabella-fischer-sQoIRY84a2E-unsplash-scaled.jpg
ORGANIZER;CN="JDIC":MAILTO:programmer@jdicseniors.ca
END:VEVENT
BEGIN:VEVENT
DTSTART;TZID=America/Edmonton:20250226T130000
DTEND;TZID=America/Edmonton:20250226T150000
DTSTAMP:20260419T113205
CREATED:20250125T203657Z
LAST-MODIFIED:20250125T203657Z
UID:10002758-1740574800-1740582000@www.jdicseniors.ca
SUMMARY:People\, Property\, Prosperity And Progress: Does Capitalism Make Both Countries And Citizens Better?  with Prof. David Wangler
DESCRIPTION:Lecture 4: Are capitalism\, democracy and progress related?Fee: $54 for members and $74 for non-members
URL:https://www.jdicseniors.ca/event/people-property-prosperity-and-progress-does-capitalism-make-both-countries-and-citizens-better-with-prof-david-wangler-4/
LOCATION:The Centre\, 10052-117 St. NW\, Edmonton\, Alberta\, T5K 1X2\, Canada
CATEGORIES:Special Events & Presentations
ATTACH;FMTTYPE=image/jpeg:https://www.jdicseniors.ca/wp-content/uploads/2025/01/9d12753e-bf71-4d9e-a185-d4a29df103ff.jpeg
ORGANIZER;CN="JDIC":MAILTO:programmer@jdicseniors.ca
END:VEVENT
BEGIN:VEVENT
DTSTART;TZID=America/Edmonton:20250227T130000
DTEND;TZID=America/Edmonton:20250227T150000
DTSTAMP:20260419T113205
CREATED:20250125T203706Z
LAST-MODIFIED:20250125T203706Z
UID:10002767-1740661200-1740668400@www.jdicseniors.ca
SUMMARY:Gold Mining in Canada
DESCRIPTION:Yossi Gutman and David Marcus will share their theoretical and practical experiences in this unique business.Unlike hardrock mining\, which extracts veins of precious minerals from solid rock\, placer mining is the practice of separating heavily eroded minerals like gold from sand or gravel. The word placer is thought to have come from Catalan and Spanish\, meaning a shoal or sand bar.\nFee: $36 for members and $56 for non-members
URL:https://www.jdicseniors.ca/event/gold-mining-in-canada-4/
LOCATION:The Centre\, 10052-117 St. NW\, Edmonton\, Alberta\, T5K 1X2\, Canada
CATEGORIES:Special Events & Presentations
ATTACH;FMTTYPE=image/png:https://www.jdicseniors.ca/wp-content/uploads/2025/01/Henry_Sandham_-_The_Cradle.jpg.png
ORGANIZER;CN="JDIC":MAILTO:programmer@jdicseniors.ca
END:VEVENT
END:VCALENDAR