BEGIN:VCALENDAR
VERSION:2.0
PRODID:-//Jewish Senior Citizen’s Centre - ECPv6.15.17.1//NONSGML v1.0//EN
CALSCALE:GREGORIAN
METHOD:PUBLISH
X-WR-CALNAME:Jewish Senior Citizen’s Centre
X-ORIGINAL-URL:https://www.jdicseniors.ca
X-WR-CALDESC:Events for Jewish Senior Citizen’s Centre
REFRESH-INTERVAL;VALUE=DURATION:PT1H
X-Robots-Tag:noindex
X-PUBLISHED-TTL:PT1H
BEGIN:VTIMEZONE
TZID:America/Edmonton
BEGIN:DAYLIGHT
TZOFFSETFROM:-0700
TZOFFSETTO:-0600
TZNAME:MDT
DTSTART:20240310T090000
END:DAYLIGHT
BEGIN:STANDARD
TZOFFSETFROM:-0600
TZOFFSETTO:-0700
TZNAME:MST
DTSTART:20241103T080000
END:STANDARD
BEGIN:DAYLIGHT
TZOFFSETFROM:-0700
TZOFFSETTO:-0600
TZNAME:MDT
DTSTART:20250309T090000
END:DAYLIGHT
BEGIN:STANDARD
TZOFFSETFROM:-0600
TZOFFSETTO:-0700
TZNAME:MST
DTSTART:20251102T080000
END:STANDARD
BEGIN:DAYLIGHT
TZOFFSETFROM:-0700
TZOFFSETTO:-0600
TZNAME:MDT
DTSTART:20260308T090000
END:DAYLIGHT
BEGIN:STANDARD
TZOFFSETFROM:-0600
TZOFFSETTO:-0700
TZNAME:MST
DTSTART:20261101T080000
END:STANDARD
END:VTIMEZONE
BEGIN:VEVENT
DTSTART;TZID=America/Edmonton:20250210T130000
DTEND;TZID=America/Edmonton:20250210T150000
DTSTAMP:20260419T182501
CREATED:20250125T203658Z
LAST-MODIFIED:20250125T203658Z
UID:10002759-1739192400-1739199600@www.jdicseniors.ca
SUMMARY:History of Canada 1900 – 1999: Building the Nation with Prof. Alvin Finkel
DESCRIPTION:Lecture 1:  Part A: Canada in 1900: Demography\, Social Attitudes\, Race Relations\, Gender Relations\, Class Relations\, Regional IdentitiesPart B: Changing Demography During the Century: When and Why Changes Occurred and With What Consequences for Notions of Who is A Canadian  \nFee: $65 for members and $85 for non-members
URL:https://www.jdicseniors.ca/event/history-of-canada-1900-1999-building-the-nation-with-prof-alvin-finkel/
LOCATION:The Centre\, 10052-117 St. NW\, Edmonton\, Alberta\, T5K 1X2\, Canada
CATEGORIES:Special Events & Presentations
ORGANIZER;CN="JDIC":MAILTO:programmer@jdicseniors.ca
END:VEVENT
BEGIN:VEVENT
DTSTART;TZID=America/Edmonton:20250211T130000
DTEND;TZID=America/Edmonton:20250211T150000
DTSTAMP:20260419T182501
CREATED:20250125T203715Z
LAST-MODIFIED:20250125T203715Z
UID:10002770-1739278800-1739286000@www.jdicseniors.ca
SUMMARY:Diabetic Foot
DESCRIPTION:Join Dr. Jerome Tsang (Edmonton Foot Health Centre) to learn about foot care. Dr. Jerome Tsang is certified in Podiatric Orthopaedics and Primary Podiatric Medicine. He has been practicing for many years\, helping countless patients with all types of foot ailments\, disorders\, and pain.
URL:https://www.jdicseniors.ca/event/diabetic-foot/
LOCATION:The Centre\, 10052-117 St. NW\, Edmonton\, Alberta\, T5K 1X2\, Canada
CATEGORIES:Special Events & Presentations
ORGANIZER;CN="JDIC":MAILTO:programmer@jdicseniors.ca
END:VEVENT
BEGIN:VEVENT
DTSTART;TZID=America/Edmonton:20250212T130000
DTEND;TZID=America/Edmonton:20250212T150000
DTSTAMP:20260419T182501
CREATED:20250125T203654Z
LAST-MODIFIED:20250125T203654Z
UID:10002756-1739365200-1739372400@www.jdicseniors.ca
SUMMARY:People\, Property\, Prosperity And Progress: Does Capitalism Make Both Countries And Citizens Better?  with Prof. David Wangler
DESCRIPTION:Lecture 2: Is private property related to freedom?Fee: $54 for members and $74 for non-members
URL:https://www.jdicseniors.ca/event/people-property-prosperity-and-progress-does-capitalism-make-both-countries-and-citizens-better-with-prof-david-wangler-2/
LOCATION:The Centre\, 10052-117 St. NW\, Edmonton\, Alberta\, T5K 1X2\, Canada
CATEGORIES:Special Events & Presentations
ATTACH;FMTTYPE=image/jpeg:https://www.jdicseniors.ca/wp-content/uploads/2025/01/9d12753e-bf71-4d9e-a185-d4a29df103ff.jpeg
ORGANIZER;CN="JDIC":MAILTO:programmer@jdicseniors.ca
END:VEVENT
BEGIN:VEVENT
DTSTART;TZID=America/Edmonton:20250213T130000
DTEND;TZID=America/Edmonton:20250213T150000
DTSTAMP:20260419T182501
CREATED:20250125T203704Z
LAST-MODIFIED:20250125T203704Z
UID:10002765-1739451600-1739458800@www.jdicseniors.ca
SUMMARY:Gold Mining in Canada
DESCRIPTION:Yossi Gutman and David Marcus will share their theoretical and practical experiences in this unique business.Unlike hardrock mining\, which extracts veins of precious minerals from solid rock\, placer mining is the practice of separating heavily eroded minerals like gold from sand or gravel. The word placer is thought to have come from Catalan and Spanish\, meaning a shoal or sand bar.\nFee: $36 for members and $56 for non-members
URL:https://www.jdicseniors.ca/event/gold-mining-in-canada-2/
LOCATION:The Centre\, 10052-117 St. NW\, Edmonton\, Alberta\, T5K 1X2\, Canada
CATEGORIES:Special Events & Presentations
ATTACH;FMTTYPE=image/png:https://www.jdicseniors.ca/wp-content/uploads/2025/01/Henry_Sandham_-_The_Cradle.jpg.png
ORGANIZER;CN="JDIC":MAILTO:programmer@jdicseniors.ca
END:VEVENT
END:VCALENDAR