BEGIN:VCALENDAR
VERSION:2.0
PRODID:-//Jewish Senior Citizen’s Centre - ECPv6.15.17.1//NONSGML v1.0//EN
CALSCALE:GREGORIAN
METHOD:PUBLISH
X-ORIGINAL-URL:https://www.jdicseniors.ca
X-WR-CALDESC:Events for Jewish Senior Citizen’s Centre
REFRESH-INTERVAL;VALUE=DURATION:PT1H
X-Robots-Tag:noindex
X-PUBLISHED-TTL:PT1H
BEGIN:VTIMEZONE
TZID:America/Edmonton
BEGIN:DAYLIGHT
TZOFFSETFROM:-0700
TZOFFSETTO:-0600
TZNAME:MDT
DTSTART:20240310T090000
END:DAYLIGHT
BEGIN:STANDARD
TZOFFSETFROM:-0600
TZOFFSETTO:-0700
TZNAME:MST
DTSTART:20241103T080000
END:STANDARD
BEGIN:DAYLIGHT
TZOFFSETFROM:-0700
TZOFFSETTO:-0600
TZNAME:MDT
DTSTART:20250309T090000
END:DAYLIGHT
BEGIN:STANDARD
TZOFFSETFROM:-0600
TZOFFSETTO:-0700
TZNAME:MST
DTSTART:20251102T080000
END:STANDARD
BEGIN:DAYLIGHT
TZOFFSETFROM:-0700
TZOFFSETTO:-0600
TZNAME:MDT
DTSTART:20260308T090000
END:DAYLIGHT
BEGIN:STANDARD
TZOFFSETFROM:-0600
TZOFFSETTO:-0700
TZNAME:MST
DTSTART:20261101T080000
END:STANDARD
END:VTIMEZONE
BEGIN:VEVENT
DTSTART;TZID=America/Edmonton:20250204T130000
DTEND;TZID=America/Edmonton:20250204T150000
DTSTAMP:20260419T201215
CREATED:20250125T203708Z
LAST-MODIFIED:20250125T203708Z
UID:10002769-1738674000-1738681200@www.jdicseniors.ca
SUMMARY:Visit to Auschwitz - Birkenau\, site of the largest Nazi concentration camp & extermination centre in Poland
DESCRIPTION:Join Lynnette Khu for her presentation about her visit to this horrifying place of human pain and suffering. January 27\, 1945 the Soviet Army liberated the camp. At list 600\,000 soviet military people were killed during the liberation of Poland.
URL:https://www.jdicseniors.ca/event/visit-to-auschwitz-birkenau-site-of-the-largest-nazi-concentration-camp-extermination-centre-in-poland-2/
LOCATION:The Centre\, 10052-117 St. NW\, Edmonton\, Alberta\, T5K 1X2\, Canada
CATEGORIES:Special Events & Presentations
ATTACH;FMTTYPE=image/jpeg:https://www.jdicseniors.ca/wp-content/uploads/2025/01/frederick-wallace-_sVnHTFHQDU-unsplash.jpg
ORGANIZER;CN="JDIC":MAILTO:programmer@jdicseniors.ca
END:VEVENT
BEGIN:VEVENT
DTSTART;TZID=America/Edmonton:20250205T130000
DTEND;TZID=America/Edmonton:20250205T150000
DTSTAMP:20260419T201215
CREATED:20250125T203653Z
LAST-MODIFIED:20250125T203653Z
UID:10002755-1738760400-1738767600@www.jdicseniors.ca
SUMMARY:People\, Property\, Prosperity And Progress: Does Capitalism Make Both Countries And Citizens Better?  with Prof. David Wangler
DESCRIPTION:Lecture 1:  Adam Smith on the Nature and Creation of Wealth(1776)Fee: $54 for members and $74 for non-members
URL:https://www.jdicseniors.ca/event/people-property-prosperity-and-progress-does-capitalism-make-both-countries-and-citizens-better-with-prof-david-wangler/
LOCATION:The Centre\, 10052-117 St. NW\, Edmonton\, Alberta\, T5K 1X2\, Canada
CATEGORIES:Special Events & Presentations
ATTACH;FMTTYPE=image/jpeg:https://www.jdicseniors.ca/wp-content/uploads/2025/01/9d12753e-bf71-4d9e-a185-d4a29df103ff.jpeg
ORGANIZER;CN="JDIC":MAILTO:programmer@jdicseniors.ca
END:VEVENT
BEGIN:VEVENT
DTSTART;TZID=America/Edmonton:20250206T130000
DTEND;TZID=America/Edmonton:20250206T150000
DTSTAMP:20260419T201215
CREATED:20250125T203701Z
LAST-MODIFIED:20250125T203701Z
UID:10002764-1738846800-1738854000@www.jdicseniors.ca
SUMMARY:Gold Mining in Canada
DESCRIPTION:Yossi Gutman and David Marcus will share their theoretical and practical experiences in this unique business.Unlike hardrock mining\, which extracts veins of precious minerals from solid rock\, placer mining is the practice of separating heavily eroded minerals like gold from sand or gravel. The word placer is thought to have come from Catalan and Spanish\, meaning a shoal or sand bar.\nFee: $36 for members and $56 for non-members
URL:https://www.jdicseniors.ca/event/gold-mining-in-canada/
LOCATION:The Centre\, 10052-117 St. NW\, Edmonton\, Alberta\, T5K 1X2\, Canada
CATEGORIES:Special Events & Presentations
ATTACH;FMTTYPE=image/png:https://www.jdicseniors.ca/wp-content/uploads/2025/01/Henry_Sandham_-_The_Cradle.jpg.png
ORGANIZER;CN="JDIC":MAILTO:programmer@jdicseniors.ca
END:VEVENT
END:VCALENDAR