BEGIN:VCALENDAR
VERSION:2.0
PRODID:-//Jewish Senior Citizen’s Centre - ECPv6.15.17.1//NONSGML v1.0//EN
CALSCALE:GREGORIAN
METHOD:PUBLISH
X-WR-CALNAME:Jewish Senior Citizen’s Centre
X-ORIGINAL-URL:https://www.jdicseniors.ca
X-WR-CALDESC:Events for Jewish Senior Citizen’s Centre
REFRESH-INTERVAL;VALUE=DURATION:PT1H
X-Robots-Tag:noindex
X-PUBLISHED-TTL:PT1H
BEGIN:VTIMEZONE
TZID:America/Edmonton
BEGIN:DAYLIGHT
TZOFFSETFROM:-0700
TZOFFSETTO:-0600
TZNAME:MDT
DTSTART:20240310T090000
END:DAYLIGHT
BEGIN:STANDARD
TZOFFSETFROM:-0600
TZOFFSETTO:-0700
TZNAME:MST
DTSTART:20241103T080000
END:STANDARD
BEGIN:DAYLIGHT
TZOFFSETFROM:-0700
TZOFFSETTO:-0600
TZNAME:MDT
DTSTART:20250309T090000
END:DAYLIGHT
BEGIN:STANDARD
TZOFFSETFROM:-0600
TZOFFSETTO:-0700
TZNAME:MST
DTSTART:20251102T080000
END:STANDARD
BEGIN:DAYLIGHT
TZOFFSETFROM:-0700
TZOFFSETTO:-0600
TZNAME:MDT
DTSTART:20260308T090000
END:DAYLIGHT
BEGIN:STANDARD
TZOFFSETFROM:-0600
TZOFFSETTO:-0700
TZNAME:MST
DTSTART:20261101T080000
END:STANDARD
END:VTIMEZONE
BEGIN:VEVENT
DTSTART;TZID=America/Edmonton:20250401T130000
DTEND;TZID=America/Edmonton:20250401T150000
DTSTAMP:20260419T061948
CREATED:20250314T175659Z
LAST-MODIFIED:20250314T175659Z
UID:10004908-1743512400-1743519600@www.jdicseniors.ca
SUMMARY:Armchair Traveller: Asia
DESCRIPTION:Join Lynnette Khu to be surprised by her stories about her recent trip to Asia.Come at 12 p.m. for a delicious Asian Lunch.
URL:https://www.jdicseniors.ca/event/armchair-traveller-asia/
LOCATION:The Centre\, 10052-117 St. NW\, Edmonton\, Alberta\, T5K 1X2\, Canada
CATEGORIES:Special Events & Presentations
ATTACH;FMTTYPE=image/jpeg:https://www.jdicseniors.ca/wp-content/uploads/2025/03/armchair-asia.jpeg
ORGANIZER;CN="JDIC":MAILTO:programmer@jdicseniors.ca
END:VEVENT
BEGIN:VEVENT
DTSTART;TZID=America/Edmonton:20250406T100000
DTEND;TZID=America/Edmonton:20250406T120000
DTSTAMP:20260419T061948
CREATED:20250125T203742Z
LAST-MODIFIED:20250125T203742Z
UID:10002780-1743933600-1743940800@www.jdicseniors.ca
SUMMARY:The Art of Deception: Forgeries and Thievery in the Art World with Kathleen Silverman
DESCRIPTION:Forgers have swindled art sellers and buyers for centuries. Explore the lucrative world of forgery\, learn about some of the most famous forgers and fakes\, and investigate techniques used to uncover the truth. But forgery is not the only high-profile art crime—enjoy fascinating stories of both legendary and low-key art thefts (including recent ones) and some of the masterminds behind them.Fee: $95 for members or $115 for non-members (including light breakfast)
URL:https://www.jdicseniors.ca/event/the-art-of-deception-forgeries-and-thievery-in-the-art-world-with-kathleen-silverman-6/
LOCATION:The Centre\, 10052-117 St. NW\, Edmonton\, Alberta\, T5K 1X2\, Canada
CATEGORIES:Special Events & Presentations
ATTACH;FMTTYPE=image/jpeg:https://www.jdicseniors.ca/wp-content/uploads/2025/01/©SalvadorDaliGala-SalvadorDaliFoundationArtistsRightsSociety-ARSNewYork.jpg
ORGANIZER;CN="JDIC":MAILTO:programmer@jdicseniors.ca
END:VEVENT
BEGIN:VEVENT
DTSTART;TZID=America/Edmonton:20250408T130000
DTEND;TZID=America/Edmonton:20250408T150000
DTSTAMP:20260419T061948
CREATED:20250314T175708Z
LAST-MODIFIED:20250314T175708Z
UID:10004916-1744117200-1744124400@www.jdicseniors.ca
SUMMARY:Israeli Medical Inventions and Discoveries with Dr. Jerry Katz
DESCRIPTION:Dr. Jerry Katz invites you to join his talk and take pride in the amazing innovations that Israeli start-ups  in health technology are having on Tikkun Olam – repairing the world.
URL:https://www.jdicseniors.ca/event/israeli-medical-inventions-and-discoveries-with-dr-jerry-katz/
LOCATION:The Centre\, 10052-117 St. NW\, Edmonton\, Alberta\, T5K 1X2\, Canada
CATEGORIES:Special Events & Presentations
ORGANIZER;CN="JDIC":MAILTO:programmer@jdicseniors.ca
END:VEVENT
BEGIN:VEVENT
DTSTART;TZID=America/Edmonton:20250424T120000
DTEND;TZID=America/Edmonton:20250424T140000
DTSTAMP:20260419T061948
CREATED:20250314T175721Z
LAST-MODIFIED:20250314T175721Z
UID:10004918-1745496000-1745503200@www.jdicseniors.ca
SUMMARY:Being Fabulous at Any Age with Janet James\, a motivational speaker and image consultant
DESCRIPTION:Did you know that no matter how much you age\, you’re still fabulous? Let’s come together to laugh\, have fun\, and talk about all the wonderful ways to stay fabulous at any stage of life!As an image consultant\, Janet will guide you on the best clothing for your body type\, the colors that will enhance your beautiful face\, and much more. We’ll also dive into the art of self-care\, exploring what’s new and what will work for you—head to toe!\nThis will be a fun\, interactive session\, giving you the chance to connect with others and ask questions along the way.
URL:https://www.jdicseniors.ca/event/being-fabulous-at-any-age-with-janet-james-a-motivational-speaker-and-image-consultant/
LOCATION:The Centre\, 10052-117 St. NW\, Edmonton\, Alberta\, T5K 1X2\, Canada
CATEGORIES:Special Events & Presentations
ATTACH;FMTTYPE=image/png:https://www.jdicseniors.ca/wp-content/uploads/2025/03/being-fab.png
ORGANIZER;CN="JDIC":MAILTO:programmer@jdicseniors.ca
END:VEVENT
BEGIN:VEVENT
DTSTART;TZID=America/Edmonton:20250424T180000
DTEND;TZID=America/Edmonton:20250424T200000
DTSTAMP:20260419T061948
CREATED:20250314T175708Z
LAST-MODIFIED:20250314T175708Z
UID:10004917-1745517600-1745524800@www.jdicseniors.ca
SUMMARY:Cooking with Chef Ellie
DESCRIPTION:We are starting a new cooking program for all generations. Join chef Ellie last Thursday of the month for a two-hour cooking session. This time you can learn how to cook our famous Pickle Soup. Each participant will take home 1L of freshly made soup.\nAll ingredients will be provided. No previous experience is required.\nLimited space (7 participants only). Please register ASAP.
URL:https://www.jdicseniors.ca/event/cooking-with-chef-ellie/
LOCATION:The Centre\, 10052-117 St. NW\, Edmonton\, Alberta\, T5K 1X2\, Canada
CATEGORIES:Special Events & Presentations
ORGANIZER;CN="JDIC":MAILTO:programmer@jdicseniors.ca
END:VEVENT
BEGIN:VEVENT
DTSTART;TZID=America/Edmonton:20250427T103000
DTEND;TZID=America/Edmonton:20250427T123000
DTSTAMP:20260419T061948
CREATED:20250314T175724Z
LAST-MODIFIED:20250314T175724Z
UID:10004920-1745749800-1745757000@www.jdicseniors.ca
SUMMARY:Join us for a Special Event in partnership with the Congress of Black Women of Canada Edmonton Chapter
DESCRIPTION:We will be screening ‘Origin’ (2 hours 21 minutes)\, a 2023 biographical drama film based on the life of Isabel Wilkerson. The film\, written and directed by Ava DuVernay (Oscar Nominee) looks at the caste system in the United States\, Germany and India. Mature Content – 16+ (not suitable for children).\nA facilitated discussion after the movie led by Shirley Allder\, President of CBW.\nPre-show refreshments will be served.\nFee: $12 Please RSVP ASAP
URL:https://www.jdicseniors.ca/event/join-us-for-a-special-event-in-partnership-with-the-congress-of-black-women-of-canada-edmonton-chapter/
LOCATION:The Centre\, 10052-117 St. NW\, Edmonton\, Alberta\, T5K 1X2\, Canada
CATEGORIES:Special Events & Presentations
ATTACH;FMTTYPE=image/png:https://www.jdicseniors.ca/wp-content/uploads/2025/03/black-history.png
ORGANIZER;CN="JDIC":MAILTO:programmer@jdicseniors.ca
END:VEVENT
BEGIN:VEVENT
DTSTART;TZID=America/Edmonton:20250428T130000
DTEND;TZID=America/Edmonton:20250428T150000
DTSTAMP:20260419T061948
CREATED:20250314T175703Z
LAST-MODIFIED:20250314T175703Z
UID:10004912-1745845200-1745852400@www.jdicseniors.ca
SUMMARY:Multiple Sclerosis and Alzheimer’s Disease
DESCRIPTION:Join our very special guest Dessa Sadovnick\, Professor of Medical Genetics & Neurology UBC\, for two lecture  series.  Her talks will cover her journey through the field of what was once called “human genetics” and is now “medical genetics”. She will discuss how her work was innovative in advancing the field from a largely pediatric focus into an area including late onset (teens to the elderly) “late onset” as well as combining research and clinical practice.  She will also discuss the importance of genetic epidemiology.  Her focus topics will be multiple sclerosis (MS) and Alzheimer’s disease (AD).
URL:https://www.jdicseniors.ca/event/multiple-sclerosis-and-alzheimers-disease/
LOCATION:The Centre\, 10052-117 St. NW\, Edmonton\, Alberta\, T5K 1X2\, Canada
CATEGORIES:Special Events & Presentations
ATTACH;FMTTYPE=image/png:https://www.jdicseniors.ca/wp-content/uploads/2025/03/ms-alzheimers.png
ORGANIZER;CN="JDIC":MAILTO:programmer@jdicseniors.ca
END:VEVENT
BEGIN:VEVENT
DTSTART;TZID=America/Edmonton:20250429T120000
DTEND;TZID=America/Edmonton:20250429T130000
DTSTAMP:20260419T061948
CREATED:20250228T230709Z
LAST-MODIFIED:20250228T230709Z
UID:10004199-1745928000-1745931600@www.jdicseniors.ca
SUMMARY:Birthday Tuesdays
DESCRIPTION:Every last Tuesday of the month join us to celebrate your friends’ birthdays with music\, special lunch and fun! Sponsor cake or entertainment\, order a special card from the office or create a unique Power Point presentation to surprise your friends!
URL:https://www.jdicseniors.ca/event/birthday-tuesdays/2025-04-29/
LOCATION:The Centre\, 10052-117 St. NW\, Edmonton\, Alberta\, T5K 1X2\, Canada
CATEGORIES:Fun & Games,Special Events & Presentations
ATTACH;FMTTYPE=image/jpeg:https://www.jdicseniors.ca/wp-content/uploads/2025/01/isabella-fischer-sQoIRY84a2E-unsplash-scaled.jpg
ORGANIZER;CN="JDIC":MAILTO:programmer@jdicseniors.ca
END:VEVENT
BEGIN:VEVENT
DTSTART;TZID=America/Edmonton:20250429T130000
DTEND;TZID=America/Edmonton:20250429T150000
DTSTAMP:20260419T061948
CREATED:20250314T175706Z
LAST-MODIFIED:20250314T175706Z
UID:10004913-1745931600-1745938800@www.jdicseniors.ca
SUMMARY:Multiple Sclerosis and Alzheimer’s Disease
DESCRIPTION:Join our very special guest Dessa Sadovnick\, Professor of Medical Genetics & Neurology UBC\, for two lecture  series.  Her talks will cover her journey through the field of what was once called “human genetics” and is now “medical genetics”. She will discuss how her work was innovative in advancing the field from a largely pediatric focus into an area including late onset (teens to the elderly) “late onset” as well as combining research and clinical practice.  She will also discuss the importance of genetic epidemiology.  Her focus topics will be multiple sclerosis (MS) and Alzheimer’s disease (AD).
URL:https://www.jdicseniors.ca/event/multiple-sclerosis-and-alzheimers-disease-2/
LOCATION:The Centre\, 10052-117 St. NW\, Edmonton\, Alberta\, T5K 1X2\, Canada
CATEGORIES:Special Events & Presentations
ATTACH;FMTTYPE=image/png:https://www.jdicseniors.ca/wp-content/uploads/2025/03/ms-alzheimers.png
ORGANIZER;CN="JDIC":MAILTO:programmer@jdicseniors.ca
END:VEVENT
END:VCALENDAR