BEGIN:VCALENDAR
VERSION:2.0
PRODID:-//Jewish Senior Citizen’s Centre - ECPv6.15.17.1//NONSGML v1.0//EN
CALSCALE:GREGORIAN
METHOD:PUBLISH
X-ORIGINAL-URL:https://www.jdicseniors.ca
X-WR-CALDESC:Events for Jewish Senior Citizen’s Centre
REFRESH-INTERVAL;VALUE=DURATION:PT1H
X-Robots-Tag:noindex
X-PUBLISHED-TTL:PT1H
BEGIN:VTIMEZONE
TZID:America/Edmonton
BEGIN:DAYLIGHT
TZOFFSETFROM:-0700
TZOFFSETTO:-0600
TZNAME:MDT
DTSTART:20240310T090000
END:DAYLIGHT
BEGIN:STANDARD
TZOFFSETFROM:-0600
TZOFFSETTO:-0700
TZNAME:MST
DTSTART:20241103T080000
END:STANDARD
BEGIN:DAYLIGHT
TZOFFSETFROM:-0700
TZOFFSETTO:-0600
TZNAME:MDT
DTSTART:20250309T090000
END:DAYLIGHT
BEGIN:STANDARD
TZOFFSETFROM:-0600
TZOFFSETTO:-0700
TZNAME:MST
DTSTART:20251102T080000
END:STANDARD
BEGIN:DAYLIGHT
TZOFFSETFROM:-0700
TZOFFSETTO:-0600
TZNAME:MDT
DTSTART:20260308T090000
END:DAYLIGHT
BEGIN:STANDARD
TZOFFSETFROM:-0600
TZOFFSETTO:-0700
TZNAME:MST
DTSTART:20261101T080000
END:STANDARD
END:VTIMEZONE
BEGIN:VEVENT
DTSTART;TZID=America/Edmonton:20250302T100000
DTEND;TZID=America/Edmonton:20250302T120000
DTSTAMP:20260419T075346
CREATED:20250125T203727Z
LAST-MODIFIED:20250125T203727Z
UID:10002775-1740909600-1740916800@www.jdicseniors.ca
SUMMARY:The Art of Deception: Forgeries and Thievery in the Art World with Kathleen Silverman
DESCRIPTION:Forgers have swindled art sellers and buyers for centuries. Explore the lucrative world of forgery\, learn about some of the most famous forgers and fakes\, and investigate techniques used to uncover the truth. But forgery is not the only high-profile art crime—enjoy fascinating stories of both legendary and low-key art thefts (including recent ones) and some of the masterminds behind them.Fee: $95 for members or $115 for non-members (including light breakfast)
URL:https://www.jdicseniors.ca/event/the-art-of-deception-forgeries-and-thievery-in-the-art-world-with-kathleen-silverman/
LOCATION:The Centre\, 10052-117 St. NW\, Edmonton\, Alberta\, T5K 1X2\, Canada
CATEGORIES:Special Events & Presentations
ATTACH;FMTTYPE=image/jpeg:https://www.jdicseniors.ca/wp-content/uploads/2025/01/©SalvadorDaliGala-SalvadorDaliFoundationArtistsRightsSociety-ARSNewYork.jpg
ORGANIZER;CN="JDIC":MAILTO:programmer@jdicseniors.ca
END:VEVENT
BEGIN:VEVENT
DTSTART;TZID=America/Edmonton:20250303T130000
DTEND;TZID=America/Edmonton:20250303T150000
DTSTAMP:20260419T075346
CREATED:20250125T203700Z
LAST-MODIFIED:20250125T203700Z
UID:10002761-1741006800-1741014000@www.jdicseniors.ca
SUMMARY:History of Canada 1900 – 1999: Building the Nation with Prof. Alvin Finkel
DESCRIPTION:Lecture 3:  Part A: Changes in Attitudes Towards Gender in Canada\, 1900-1999Part B: Changes in Attitudes Towards Class Relations in Canada\, 1900-1999 \nFee: $65 for members and $85 for non-members
URL:https://www.jdicseniors.ca/event/history-of-canada-1900-1999-building-the-nation-with-prof-alvin-finkel-3/
LOCATION:The Centre\, 10052-117 St. NW\, Edmonton\, Alberta\, T5K 1X2\, Canada
CATEGORIES:Special Events & Presentations
ORGANIZER;CN="JDIC":MAILTO:programmer@jdicseniors.ca
END:VEVENT
BEGIN:VEVENT
DTSTART;TZID=America/Edmonton:20250304T130000
DTEND;TZID=America/Edmonton:20250304T150000
DTSTAMP:20260419T075346
CREATED:20250314T175700Z
LAST-MODIFIED:20250314T175700Z
UID:10004909-1741093200-1741100400@www.jdicseniors.ca
SUMMARY:Music From The Holocaust
DESCRIPTION:A presentation by Joe Kirman of selected music written\, performed\, and sung in the Vilna Ghetto and local partisan camps during the Holocaust\, including partisan songs\, marches and ballads.
URL:https://www.jdicseniors.ca/event/music-from-the-holocaust/
LOCATION:The Centre\, 10052-117 St. NW\, Edmonton\, Alberta\, T5K 1X2\, Canada
CATEGORIES:Special Events & Presentations
ORGANIZER;CN="JDIC":MAILTO:programmer@jdicseniors.ca
END:VEVENT
BEGIN:VEVENT
DTSTART;TZID=America/Edmonton:20250309T100000
DTEND;TZID=America/Edmonton:20250309T120000
DTSTAMP:20260419T075346
CREATED:20250125T203728Z
LAST-MODIFIED:20250125T203728Z
UID:10002776-1741514400-1741521600@www.jdicseniors.ca
SUMMARY:The Art of Deception: Forgeries and Thievery in the Art World with Kathleen Silverman
DESCRIPTION:Forgers have swindled art sellers and buyers for centuries. Explore the lucrative world of forgery\, learn about some of the most famous forgers and fakes\, and investigate techniques used to uncover the truth. But forgery is not the only high-profile art crime—enjoy fascinating stories of both legendary and low-key art thefts (including recent ones) and some of the masterminds behind them.Fee: $95 for members or $115 for non-members (including light breakfast)
URL:https://www.jdicseniors.ca/event/the-art-of-deception-forgeries-and-thievery-in-the-art-world-with-kathleen-silverman-2/
LOCATION:The Centre\, 10052-117 St. NW\, Edmonton\, Alberta\, T5K 1X2\, Canada
CATEGORIES:Special Events & Presentations
ATTACH;FMTTYPE=image/jpeg:https://www.jdicseniors.ca/wp-content/uploads/2025/01/©SalvadorDaliGala-SalvadorDaliFoundationArtistsRightsSociety-ARSNewYork.jpg
ORGANIZER;CN="JDIC":MAILTO:programmer@jdicseniors.ca
END:VEVENT
BEGIN:VEVENT
DTSTART;TZID=America/Edmonton:20250310T130000
DTEND;TZID=America/Edmonton:20250310T150000
DTSTAMP:20260419T075346
CREATED:20250125T203701Z
LAST-MODIFIED:20250125T203701Z
UID:10002762-1741611600-1741618800@www.jdicseniors.ca
SUMMARY:History of Canada 1900 – 1999: Building the Nation with Prof. Alvin Finkel
DESCRIPTION:Lecture 4: Part A: Indigenous Peoples in Canada\, 1900-1999: Changes and Ongoing StrugglesPart B: Race Relations Among Non-Indigenous Peoples in Canada\, 1900-1999: Changes and Ongoing Struggles \nFee: $65 for members and $85 for non-members
URL:https://www.jdicseniors.ca/event/history-of-canada-1900-1999-building-the-nation-with-prof-alvin-finkel-4/
LOCATION:The Centre\, 10052-117 St. NW\, Edmonton\, Alberta\, T5K 1X2\, Canada
CATEGORIES:Special Events & Presentations
ORGANIZER;CN="JDIC":MAILTO:programmer@jdicseniors.ca
END:VEVENT
BEGIN:VEVENT
DTSTART;TZID=America/Edmonton:20250311T130000
DTEND;TZID=America/Edmonton:20250311T140000
DTSTAMP:20260419T075346
CREATED:20250125T203743Z
LAST-MODIFIED:20250125T203743Z
UID:10002781-1741698000-1741701600@www.jdicseniors.ca
SUMMARY:Armchair Traveller: Morocco
DESCRIPTION:Join Donna Hamar to be fascinated by stories about  her recent trip to Morocco. Come at 12 p.m. for a delicious Moroccan Lunch.
URL:https://www.jdicseniors.ca/event/armchair-traveller-morocco/
LOCATION:The Centre\, 10052-117 St. NW\, Edmonton\, Alberta\, T5K 1X2\, Canada
CATEGORIES:Special Events & Presentations
ATTACH;FMTTYPE=image/jpeg:https://www.jdicseniors.ca/wp-content/uploads/2025/01/sergey-pesterev-i-P1lmY_e1w-unsplash.jpg
ORGANIZER;CN="JDIC":MAILTO:programmer@jdicseniors.ca
END:VEVENT
BEGIN:VEVENT
DTSTART;TZID=America/Edmonton:20250313T110000
DTEND;TZID=America/Edmonton:20250313T130000
DTSTAMP:20260419T075346
CREATED:20250125T203744Z
LAST-MODIFIED:20250125T203744Z
UID:10002782-1741863600-1741870800@www.jdicseniors.ca
SUMMARY:PURIM Celebration 2025/5785
DESCRIPTION:Rabbi Mendy will talk about the holiday of Purim. Join us for our famous annual Purimspiel\, Special Lunch with Hamentaschen and much more!
URL:https://www.jdicseniors.ca/event/purim-celebration-2025-5785/
LOCATION:The Centre\, 10052-117 St. NW\, Edmonton\, Alberta\, T5K 1X2\, Canada
CATEGORIES:Special Events & Presentations
ATTACH;FMTTYPE=image/jpeg:https://www.jdicseniors.ca/wp-content/uploads/2025/01/purim-3010454_960_720.jpg
ORGANIZER;CN="JDIC":MAILTO:programmer@jdicseniors.ca
END:VEVENT
BEGIN:VEVENT
DTSTART;TZID=America/Edmonton:20250316T100000
DTEND;TZID=America/Edmonton:20250316T120000
DTSTAMP:20260419T075346
CREATED:20250125T203729Z
LAST-MODIFIED:20250125T203729Z
UID:10002777-1742119200-1742126400@www.jdicseniors.ca
SUMMARY:The Art of Deception: Forgeries and Thievery in the Art World with Kathleen Silverman
DESCRIPTION:Forgers have swindled art sellers and buyers for centuries. Explore the lucrative world of forgery\, learn about some of the most famous forgers and fakes\, and investigate techniques used to uncover the truth. But forgery is not the only high-profile art crime—enjoy fascinating stories of both legendary and low-key art thefts (including recent ones) and some of the masterminds behind them.Fee: $95 for members or $115 for non-members (including light breakfast)
URL:https://www.jdicseniors.ca/event/the-art-of-deception-forgeries-and-thievery-in-the-art-world-with-kathleen-silverman-3/
LOCATION:The Centre\, 10052-117 St. NW\, Edmonton\, Alberta\, T5K 1X2\, Canada
CATEGORIES:Special Events & Presentations
ATTACH;FMTTYPE=image/jpeg:https://www.jdicseniors.ca/wp-content/uploads/2025/01/©SalvadorDaliGala-SalvadorDaliFoundationArtistsRightsSociety-ARSNewYork.jpg
ORGANIZER;CN="JDIC":MAILTO:programmer@jdicseniors.ca
END:VEVENT
BEGIN:VEVENT
DTSTART;TZID=America/Edmonton:20250317T130000
DTEND;TZID=America/Edmonton:20250317T150000
DTSTAMP:20260419T075346
CREATED:20250125T203701Z
LAST-MODIFIED:20250125T203701Z
UID:10002763-1742216400-1742223600@www.jdicseniors.ca
SUMMARY:History of Canada 1900 – 1999: Building the Nation with Prof. Alvin Finkel
DESCRIPTION:Lecture 5: Part A: Regional Identities that Developed in the 1900s: British Columbia\, Prairies\, Atlantic Canada\, the North\, Ontario\, QuebecPart B: Canada in the World: Changes from 1900 to 1999 \nFee: $65 for members and $85 for non-members
URL:https://www.jdicseniors.ca/event/history-of-canada-1900-1999-building-the-nation-with-prof-alvin-finkel-5/
LOCATION:The Centre\, 10052-117 St. NW\, Edmonton\, Alberta\, T5K 1X2\, Canada
CATEGORIES:Special Events & Presentations
ORGANIZER;CN="JDIC":MAILTO:programmer@jdicseniors.ca
END:VEVENT
BEGIN:VEVENT
DTSTART;TZID=America/Edmonton:20250319T100000
DTEND;TZID=America/Edmonton:20250319T114500
DTSTAMP:20260419T075346
CREATED:20250314T175700Z
LAST-MODIFIED:20250314T175700Z
UID:10004910-1742378400-1742384700@www.jdicseniors.ca
SUMMARY:International Law with Dr. Morris Maduro
DESCRIPTION:International Law (also referred to as the (“Law of Nations” or “Public International Law”) consists of the legally binding rules\, norms\, and regulations that govern the conduct of states\, particularly those involving relationships among themselves\, that states have collectively agreed to establish and accept.  It is analogous to domestic law\, which governs the relationships between peoples and between institutions within each state. Both systems of law exist in order to provide order collectively and among each other\, ensuring basic uniformity of acceptable behaviour\, to settle disputes\, and prohibit acts deemed contrary to acceptable conduct\, and punish those who violate these. These are created between the states of the world\, either in a codified (written and accepted) manner\, or have become over the years customary acceptable norms.To many\, the term International law is seen as describing a very ineffective system\, given regularly existing wars and conflicts; yet\, many will be surprised to know that it has a compliance/acceptance rate quite higher than domestic law\, where crimes of all nature occur widely within countries on a regular basis.
URL:https://www.jdicseniors.ca/event/international-law-with-dr-morris-maduro/
LOCATION:The Centre\, 10052-117 St. NW\, Edmonton\, Alberta\, T5K 1X2\, Canada
CATEGORIES:Special Events & Presentations
ATTACH;FMTTYPE=image/jpeg:https://www.jdicseniors.ca/wp-content/uploads/2025/03/int-law.jpeg
ORGANIZER;CN="JDIC":MAILTO:programmer@jdicseniors.ca
END:VEVENT
BEGIN:VEVENT
DTSTART;TZID=America/Edmonton:20250319T120000
DTEND;TZID=America/Edmonton:20250319T140000
DTSTAMP:20260419T075346
CREATED:20250314T175708Z
LAST-MODIFIED:20250314T175708Z
UID:10004914-1742385600-1742392800@www.jdicseniors.ca
SUMMARY:The Colors of Punjab: Traditions\, Music\, and Faith
DESCRIPTION:Join our wonderful volunteer-student Parneet Chauhan and her Family to learn more about their unique culture. You are invited to join us for a special Punjabi Lunch at 12p.m. before the presentation.Please sign up ASAP
URL:https://www.jdicseniors.ca/event/the-colors-of-punjab-traditions-music-and-faith/
LOCATION:The Centre\, 10052-117 St. NW\, Edmonton\, Alberta\, T5K 1X2\, Canada
CATEGORIES:Special Events & Presentations
ORGANIZER;CN="JDIC":MAILTO:programmer@jdicseniors.ca
END:VEVENT
BEGIN:VEVENT
DTSTART;TZID=America/Edmonton:20250320T130000
DTEND;TZID=America/Edmonton:20250320T150000
DTSTAMP:20260419T075346
CREATED:20250314T175708Z
LAST-MODIFIED:20250314T175708Z
UID:10004915-1742475600-1742482800@www.jdicseniors.ca
SUMMARY:New Retirement Realities
DESCRIPTION:Join Wei Woo\, Investment Advisor\, CIM\, EPC\, to learn more about new retirement realities.This presentation provides a look at the new landscape of retirement for 2025\, and how the changing experience will financially impact retirees and retired investors\, as well as their families. Discussion includes the evolving family structure\, and redefining what it means to be financially stable during the retirement years. We will take a closer look at the most recent 2025 Fidelity Retirement study report for Canadians living in retirement\, to gain insight into what it means for you.
URL:https://www.jdicseniors.ca/event/new-retirement-realities/
LOCATION:The Centre\, 10052-117 St. NW\, Edmonton\, Alberta\, T5K 1X2\, Canada
CATEGORIES:Special Events & Presentations
ORGANIZER;CN="JDIC":MAILTO:programmer@jdicseniors.ca
END:VEVENT
BEGIN:VEVENT
DTSTART;TZID=America/Edmonton:20250323T100000
DTEND;TZID=America/Edmonton:20250323T120000
DTSTAMP:20260419T075346
CREATED:20250125T203730Z
LAST-MODIFIED:20250125T203730Z
UID:10002778-1742724000-1742731200@www.jdicseniors.ca
SUMMARY:The Art of Deception: Forgeries and Thievery in the Art World with Kathleen Silverman
DESCRIPTION:Forgers have swindled art sellers and buyers for centuries. Explore the lucrative world of forgery\, learn about some of the most famous forgers and fakes\, and investigate techniques used to uncover the truth. But forgery is not the only high-profile art crime—enjoy fascinating stories of both legendary and low-key art thefts (including recent ones) and some of the masterminds behind them.Fee: $95 for members or $115 for non-members (including light breakfast)
URL:https://www.jdicseniors.ca/event/the-art-of-deception-forgeries-and-thievery-in-the-art-world-with-kathleen-silverman-4/
LOCATION:The Centre\, 10052-117 St. NW\, Edmonton\, Alberta\, T5K 1X2\, Canada
CATEGORIES:Special Events & Presentations
ATTACH;FMTTYPE=image/jpeg:https://www.jdicseniors.ca/wp-content/uploads/2025/01/©SalvadorDaliGala-SalvadorDaliFoundationArtistsRightsSociety-ARSNewYork.jpg
ORGANIZER;CN="JDIC":MAILTO:programmer@jdicseniors.ca
END:VEVENT
BEGIN:VEVENT
DTSTART;TZID=America/Edmonton:20250324T130000
DTEND;TZID=America/Edmonton:20250324T150000
DTSTAMP:20260419T075346
CREATED:20250314T175723Z
LAST-MODIFIED:20250314T175723Z
UID:10004919-1742821200-1742828400@www.jdicseniors.ca
SUMMARY:Afternoon Movies with Mr. President
DESCRIPTION:Join our very own Mr. President Sam Koplowicz to watch and discuss Westerns movies. This time we will watch “Rio Bravo” (1959). In 2014\, Rio Bravo was deemed “culturally\, historically or aesthetically significant” by the Library of Congress and selected for preservation in the National Film Registry.Fee: $2 (popcorn provided) 😉
URL:https://www.jdicseniors.ca/event/afternoon-movies-with-mr-president/
LOCATION:The Centre\, 10052-117 St. NW\, Edmonton\, Alberta\, T5K 1X2\, Canada
CATEGORIES:Special Events & Presentations
ATTACH;FMTTYPE=image/webp:https://www.jdicseniors.ca/wp-content/uploads/2025/03/rio_bravo.webp
ORGANIZER;CN="JDIC":MAILTO:programmer@jdicseniors.ca
END:VEVENT
BEGIN:VEVENT
DTSTART;TZID=America/Edmonton:20250325T120000
DTEND;TZID=America/Edmonton:20250325T130000
DTSTAMP:20260419T075346
CREATED:20250228T230709Z
LAST-MODIFIED:20250228T230709Z
UID:10004198-1742904000-1742907600@www.jdicseniors.ca
SUMMARY:Birthday Tuesdays
DESCRIPTION:Every last Tuesday of the month join us to celebrate your friends’ birthdays with music\, special lunch and fun! Sponsor cake or entertainment\, order a special card from the office or create a unique Power Point presentation to surprise your friends!
URL:https://www.jdicseniors.ca/event/birthday-tuesdays/2025-03-25/
LOCATION:The Centre\, 10052-117 St. NW\, Edmonton\, Alberta\, T5K 1X2\, Canada
CATEGORIES:Fun & Games,Special Events & Presentations
ATTACH;FMTTYPE=image/jpeg:https://www.jdicseniors.ca/wp-content/uploads/2025/01/isabella-fischer-sQoIRY84a2E-unsplash-scaled.jpg
ORGANIZER;CN="JDIC":MAILTO:programmer@jdicseniors.ca
END:VEVENT
BEGIN:VEVENT
DTSTART;TZID=America/Edmonton:20250326T100000
DTEND;TZID=America/Edmonton:20250326T114500
DTSTAMP:20260419T075346
CREATED:20250314T175701Z
LAST-MODIFIED:20250314T175701Z
UID:10004911-1742983200-1742989500@www.jdicseniors.ca
SUMMARY:International Law with Dr. Morris Maduro
DESCRIPTION:International Law (also referred to as the (“Law of Nations” or “Public International Law”) consists of the legally binding rules\, norms\, and regulations that govern the conduct of states\, particularly those involving relationships among themselves\, that states have collectively agreed to establish and accept.  It is analogous to domestic law\, which governs the relationships between peoples and between institutions within each state. Both systems of law exist in order to provide order collectively and among each other\, ensuring basic uniformity of acceptable behaviour\, to settle disputes\, and prohibit acts deemed contrary to acceptable conduct\, and punish those who violate these. These are created between the states of the world\, either in a codified (written and accepted) manner\, or have become over the years customary acceptable norms.To many\, the term International law is seen as describing a very ineffective system\, given regularly existing wars and conflicts; yet\, many will be surprised to know that it has a compliance/acceptance rate quite higher than domestic law\, where crimes of all nature occur widely within countries on a regular basis.
URL:https://www.jdicseniors.ca/event/international-law-with-dr-morris-maduro-2/
LOCATION:The Centre\, 10052-117 St. NW\, Edmonton\, Alberta\, T5K 1X2\, Canada
CATEGORIES:Special Events & Presentations
ATTACH;FMTTYPE=image/jpeg:https://www.jdicseniors.ca/wp-content/uploads/2025/03/int-law.jpeg
ORGANIZER;CN="JDIC":MAILTO:programmer@jdicseniors.ca
END:VEVENT
BEGIN:VEVENT
DTSTART;TZID=America/Edmonton:20250330T100000
DTEND;TZID=America/Edmonton:20250330T120000
DTSTAMP:20260419T075346
CREATED:20250125T203731Z
LAST-MODIFIED:20250125T203731Z
UID:10002779-1743328800-1743336000@www.jdicseniors.ca
SUMMARY:The Art of Deception: Forgeries and Thievery in the Art World with Kathleen Silverman
DESCRIPTION:Forgers have swindled art sellers and buyers for centuries. Explore the lucrative world of forgery\, learn about some of the most famous forgers and fakes\, and investigate techniques used to uncover the truth. But forgery is not the only high-profile art crime—enjoy fascinating stories of both legendary and low-key art thefts (including recent ones) and some of the masterminds behind them.Fee: $95 for members or $115 for non-members (including light breakfast)
URL:https://www.jdicseniors.ca/event/the-art-of-deception-forgeries-and-thievery-in-the-art-world-with-kathleen-silverman-5/
LOCATION:The Centre\, 10052-117 St. NW\, Edmonton\, Alberta\, T5K 1X2\, Canada
CATEGORIES:Special Events & Presentations
ATTACH;FMTTYPE=image/jpeg:https://www.jdicseniors.ca/wp-content/uploads/2025/01/©SalvadorDaliGala-SalvadorDaliFoundationArtistsRightsSociety-ARSNewYork.jpg
ORGANIZER;CN="JDIC":MAILTO:programmer@jdicseniors.ca
END:VEVENT
END:VCALENDAR