BEGIN:VCALENDAR
VERSION:2.0
PRODID:-//Jewish Senior Citizen’s Centre - ECPv6.15.17.1//NONSGML v1.0//EN
CALSCALE:GREGORIAN
METHOD:PUBLISH
X-WR-CALNAME:Jewish Senior Citizen’s Centre
X-ORIGINAL-URL:https://www.jdicseniors.ca
X-WR-CALDESC:Events for Jewish Senior Citizen’s Centre
REFRESH-INTERVAL;VALUE=DURATION:PT1H
X-Robots-Tag:noindex
X-PUBLISHED-TTL:PT1H
BEGIN:VTIMEZONE
TZID:America/Edmonton
BEGIN:DAYLIGHT
TZOFFSETFROM:-0700
TZOFFSETTO:-0600
TZNAME:MDT
DTSTART:20270314T090000
END:DAYLIGHT
BEGIN:STANDARD
TZOFFSETFROM:-0600
TZOFFSETTO:-0700
TZNAME:MST
DTSTART:20271107T080000
END:STANDARD
BEGIN:DAYLIGHT
TZOFFSETFROM:-0700
TZOFFSETTO:-0600
TZNAME:MDT
DTSTART:20280312T090000
END:DAYLIGHT
BEGIN:STANDARD
TZOFFSETFROM:-0600
TZOFFSETTO:-0700
TZNAME:MST
DTSTART:20281105T080000
END:STANDARD
BEGIN:DAYLIGHT
TZOFFSETFROM:-0700
TZOFFSETTO:-0600
TZNAME:MDT
DTSTART:20290311T090000
END:DAYLIGHT
BEGIN:STANDARD
TZOFFSETFROM:-0600
TZOFFSETTO:-0700
TZNAME:MST
DTSTART:20291104T080000
END:STANDARD
END:VTIMEZONE
BEGIN:VEVENT
DTSTART;TZID=America/Edmonton:20280229T120000
DTEND;TZID=America/Edmonton:20280229T130000
DTSTAMP:20260422T151520
CREATED:20250919T163523Z
LAST-MODIFIED:20260312T233702Z
UID:10004572-1835438400-1835442000@www.jdicseniors.ca
SUMMARY:Lunch & Learn
DESCRIPTION:Every Tuesday & Thursday 12p.m. – 1:00p.m. join us for Lunch & Learn program. Our lunch-and-learn program is a fantastic way to receive important information. All speakers are invited based on members’ requests for essential topics.
URL:https://www.jdicseniors.ca/event/lunch-learn-2/2028-02-29/
LOCATION:The Centre\, 10052-117 St. NW\, Edmonton\, Alberta\, T5K 1X2\, Canada
CATEGORIES:Lunch & Learn
ORGANIZER;CN="JDIC":MAILTO:programmer@jdicseniors.ca
END:VEVENT
BEGIN:VEVENT
DTSTART;TZID=America/Edmonton:20280301T120000
DTEND;TZID=America/Edmonton:20280301T150000
DTSTAMP:20260422T151520
CREATED:20250919T162427Z
LAST-MODIFIED:20260312T233156Z
UID:10003306-1835524800-1835535600@www.jdicseniors.ca
SUMMARY:Sunday Club on Wednesday Lunch & Learn
DESCRIPTION:Join our Sunday Club to enjoy traditional European cuisine and a special presentation about world art\, music\, literature and other topics (in Russian).
URL:https://www.jdicseniors.ca/event/sunday-club-on-wednesday-lunch-learn-2/2028-03-01/
LOCATION:The Centre\, 10052-117 St. NW\, Edmonton\, Alberta\, T5K 1X2\, Canada
CATEGORIES:Lunch & Learn
ORGANIZER;CN="JDIC":MAILTO:programmer@jdicseniors.ca
END:VEVENT
BEGIN:VEVENT
DTSTART;TZID=America/Edmonton:20280302T120000
DTEND;TZID=America/Edmonton:20280302T130000
DTSTAMP:20260422T151520
CREATED:20250919T163523Z
LAST-MODIFIED:20260312T233702Z
UID:10004573-1835611200-1835614800@www.jdicseniors.ca
SUMMARY:Lunch & Learn
DESCRIPTION:Every Tuesday & Thursday 12p.m. – 1:00p.m. join us for Lunch & Learn program. Our lunch-and-learn program is a fantastic way to receive important information. All speakers are invited based on members’ requests for essential topics.
URL:https://www.jdicseniors.ca/event/lunch-learn-2/2028-03-02/
LOCATION:The Centre\, 10052-117 St. NW\, Edmonton\, Alberta\, T5K 1X2\, Canada
CATEGORIES:Lunch & Learn
ORGANIZER;CN="JDIC":MAILTO:programmer@jdicseniors.ca
END:VEVENT
BEGIN:VEVENT
DTSTART;TZID=America/Edmonton:20280307T120000
DTEND;TZID=America/Edmonton:20280307T130000
DTSTAMP:20260422T151520
CREATED:20250919T163523Z
LAST-MODIFIED:20260312T233702Z
UID:10004574-1836043200-1836046800@www.jdicseniors.ca
SUMMARY:Lunch & Learn
DESCRIPTION:Every Tuesday & Thursday 12p.m. – 1:00p.m. join us for Lunch & Learn program. Our lunch-and-learn program is a fantastic way to receive important information. All speakers are invited based on members’ requests for essential topics.
URL:https://www.jdicseniors.ca/event/lunch-learn-2/2028-03-07/
LOCATION:The Centre\, 10052-117 St. NW\, Edmonton\, Alberta\, T5K 1X2\, Canada
CATEGORIES:Lunch & Learn
ORGANIZER;CN="JDIC":MAILTO:programmer@jdicseniors.ca
END:VEVENT
BEGIN:VEVENT
DTSTART;TZID=America/Edmonton:20280308T120000
DTEND;TZID=America/Edmonton:20280308T150000
DTSTAMP:20260422T151520
CREATED:20250919T162427Z
LAST-MODIFIED:20260312T233156Z
UID:10003307-1836129600-1836140400@www.jdicseniors.ca
SUMMARY:Sunday Club on Wednesday Lunch & Learn
DESCRIPTION:Join our Sunday Club to enjoy traditional European cuisine and a special presentation about world art\, music\, literature and other topics (in Russian).
URL:https://www.jdicseniors.ca/event/sunday-club-on-wednesday-lunch-learn-2/2028-03-08/
LOCATION:The Centre\, 10052-117 St. NW\, Edmonton\, Alberta\, T5K 1X2\, Canada
CATEGORIES:Lunch & Learn
ORGANIZER;CN="JDIC":MAILTO:programmer@jdicseniors.ca
END:VEVENT
BEGIN:VEVENT
DTSTART;TZID=America/Edmonton:20280308T130000
DTEND;TZID=America/Edmonton:20280308T150000
DTSTAMP:20260422T151520
CREATED:20250919T163227Z
LAST-MODIFIED:20260312T234003Z
UID:10003125-1836133200-1836140400@www.jdicseniors.ca
SUMMARY:Not Boring Book Club
DESCRIPTION:Join our very talented Edmonton writer Debby Waldman to learn more about our unique Book Club. Join it and enjoy! \nPlease register with the Office to receive the Zoom link for meetings.
URL:https://www.jdicseniors.ca/event/not-boring-book-club-2/2028-03-08/
LOCATION:The Centre\, 10052-117 St. NW\, Edmonton\, Alberta\, T5K 1X2\, Canada
CATEGORIES:Lunch & Learn
ATTACH;FMTTYPE=image/jpeg:https://www.jdicseniors.ca/wp-content/uploads/2025/01/image.jpeg
ORGANIZER;CN="JDIC":MAILTO:programmer@jdicseniors.ca
END:VEVENT
BEGIN:VEVENT
DTSTART;TZID=America/Edmonton:20280309T120000
DTEND;TZID=America/Edmonton:20280309T130000
DTSTAMP:20260422T151520
CREATED:20250919T163523Z
LAST-MODIFIED:20260312T233702Z
UID:10004575-1836216000-1836219600@www.jdicseniors.ca
SUMMARY:Lunch & Learn
DESCRIPTION:Every Tuesday & Thursday 12p.m. – 1:00p.m. join us for Lunch & Learn program. Our lunch-and-learn program is a fantastic way to receive important information. All speakers are invited based on members’ requests for essential topics.
URL:https://www.jdicseniors.ca/event/lunch-learn-2/2028-03-09/
LOCATION:The Centre\, 10052-117 St. NW\, Edmonton\, Alberta\, T5K 1X2\, Canada
CATEGORIES:Lunch & Learn
ORGANIZER;CN="JDIC":MAILTO:programmer@jdicseniors.ca
END:VEVENT
BEGIN:VEVENT
DTSTART;TZID=America/Edmonton:20280314T120000
DTEND;TZID=America/Edmonton:20280314T130000
DTSTAMP:20260422T151520
CREATED:20250919T163523Z
LAST-MODIFIED:20260312T233702Z
UID:10004576-1836648000-1836651600@www.jdicseniors.ca
SUMMARY:Lunch & Learn
DESCRIPTION:Every Tuesday & Thursday 12p.m. – 1:00p.m. join us for Lunch & Learn program. Our lunch-and-learn program is a fantastic way to receive important information. All speakers are invited based on members’ requests for essential topics.
URL:https://www.jdicseniors.ca/event/lunch-learn-2/2028-03-14/
LOCATION:The Centre\, 10052-117 St. NW\, Edmonton\, Alberta\, T5K 1X2\, Canada
CATEGORIES:Lunch & Learn
ORGANIZER;CN="JDIC":MAILTO:programmer@jdicseniors.ca
END:VEVENT
BEGIN:VEVENT
DTSTART;TZID=America/Edmonton:20280315T120000
DTEND;TZID=America/Edmonton:20280315T150000
DTSTAMP:20260422T151520
CREATED:20250919T162427Z
LAST-MODIFIED:20260312T233156Z
UID:10003308-1836734400-1836745200@www.jdicseniors.ca
SUMMARY:Sunday Club on Wednesday Lunch & Learn
DESCRIPTION:Join our Sunday Club to enjoy traditional European cuisine and a special presentation about world art\, music\, literature and other topics (in Russian).
URL:https://www.jdicseniors.ca/event/sunday-club-on-wednesday-lunch-learn-2/2028-03-15/
LOCATION:The Centre\, 10052-117 St. NW\, Edmonton\, Alberta\, T5K 1X2\, Canada
CATEGORIES:Lunch & Learn
ORGANIZER;CN="JDIC":MAILTO:programmer@jdicseniors.ca
END:VEVENT
BEGIN:VEVENT
DTSTART;TZID=America/Edmonton:20280316T120000
DTEND;TZID=America/Edmonton:20280316T130000
DTSTAMP:20260422T151520
CREATED:20250919T163523Z
LAST-MODIFIED:20260312T233702Z
UID:10004577-1836820800-1836824400@www.jdicseniors.ca
SUMMARY:Lunch & Learn
DESCRIPTION:Every Tuesday & Thursday 12p.m. – 1:00p.m. join us for Lunch & Learn program. Our lunch-and-learn program is a fantastic way to receive important information. All speakers are invited based on members’ requests for essential topics.
URL:https://www.jdicseniors.ca/event/lunch-learn-2/2028-03-16/
LOCATION:The Centre\, 10052-117 St. NW\, Edmonton\, Alberta\, T5K 1X2\, Canada
CATEGORIES:Lunch & Learn
ORGANIZER;CN="JDIC":MAILTO:programmer@jdicseniors.ca
END:VEVENT
BEGIN:VEVENT
DTSTART;TZID=America/Edmonton:20280321T120000
DTEND;TZID=America/Edmonton:20280321T130000
DTSTAMP:20260422T151520
CREATED:20250919T163523Z
LAST-MODIFIED:20260312T233702Z
UID:10004578-1837252800-1837256400@www.jdicseniors.ca
SUMMARY:Lunch & Learn
DESCRIPTION:Every Tuesday & Thursday 12p.m. – 1:00p.m. join us for Lunch & Learn program. Our lunch-and-learn program is a fantastic way to receive important information. All speakers are invited based on members’ requests for essential topics.
URL:https://www.jdicseniors.ca/event/lunch-learn-2/2028-03-21/
LOCATION:The Centre\, 10052-117 St. NW\, Edmonton\, Alberta\, T5K 1X2\, Canada
CATEGORIES:Lunch & Learn
ORGANIZER;CN="JDIC":MAILTO:programmer@jdicseniors.ca
END:VEVENT
BEGIN:VEVENT
DTSTART;TZID=America/Edmonton:20280322T120000
DTEND;TZID=America/Edmonton:20280322T150000
DTSTAMP:20260422T151520
CREATED:20250919T162427Z
LAST-MODIFIED:20260312T233156Z
UID:10003309-1837339200-1837350000@www.jdicseniors.ca
SUMMARY:Sunday Club on Wednesday Lunch & Learn
DESCRIPTION:Join our Sunday Club to enjoy traditional European cuisine and a special presentation about world art\, music\, literature and other topics (in Russian).
URL:https://www.jdicseniors.ca/event/sunday-club-on-wednesday-lunch-learn-2/2028-03-22/
LOCATION:The Centre\, 10052-117 St. NW\, Edmonton\, Alberta\, T5K 1X2\, Canada
CATEGORIES:Lunch & Learn
ORGANIZER;CN="JDIC":MAILTO:programmer@jdicseniors.ca
END:VEVENT
BEGIN:VEVENT
DTSTART;TZID=America/Edmonton:20280323T120000
DTEND;TZID=America/Edmonton:20280323T130000
DTSTAMP:20260422T151520
CREATED:20250919T163523Z
LAST-MODIFIED:20260312T233702Z
UID:10004579-1837425600-1837429200@www.jdicseniors.ca
SUMMARY:Lunch & Learn
DESCRIPTION:Every Tuesday & Thursday 12p.m. – 1:00p.m. join us for Lunch & Learn program. Our lunch-and-learn program is a fantastic way to receive important information. All speakers are invited based on members’ requests for essential topics.
URL:https://www.jdicseniors.ca/event/lunch-learn-2/2028-03-23/
LOCATION:The Centre\, 10052-117 St. NW\, Edmonton\, Alberta\, T5K 1X2\, Canada
CATEGORIES:Lunch & Learn
ORGANIZER;CN="JDIC":MAILTO:programmer@jdicseniors.ca
END:VEVENT
BEGIN:VEVENT
DTSTART;TZID=America/Edmonton:20280328T120000
DTEND;TZID=America/Edmonton:20280328T130000
DTSTAMP:20260422T151520
CREATED:20250919T163523Z
LAST-MODIFIED:20260312T233702Z
UID:10004580-1837857600-1837861200@www.jdicseniors.ca
SUMMARY:Lunch & Learn
DESCRIPTION:Every Tuesday & Thursday 12p.m. – 1:00p.m. join us for Lunch & Learn program. Our lunch-and-learn program is a fantastic way to receive important information. All speakers are invited based on members’ requests for essential topics.
URL:https://www.jdicseniors.ca/event/lunch-learn-2/2028-03-28/
LOCATION:The Centre\, 10052-117 St. NW\, Edmonton\, Alberta\, T5K 1X2\, Canada
CATEGORIES:Lunch & Learn
ORGANIZER;CN="JDIC":MAILTO:programmer@jdicseniors.ca
END:VEVENT
BEGIN:VEVENT
DTSTART;TZID=America/Edmonton:20280329T120000
DTEND;TZID=America/Edmonton:20280329T150000
DTSTAMP:20260422T151520
CREATED:20250919T162427Z
LAST-MODIFIED:20260312T233156Z
UID:10003310-1837944000-1837954800@www.jdicseniors.ca
SUMMARY:Sunday Club on Wednesday Lunch & Learn
DESCRIPTION:Join our Sunday Club to enjoy traditional European cuisine and a special presentation about world art\, music\, literature and other topics (in Russian).
URL:https://www.jdicseniors.ca/event/sunday-club-on-wednesday-lunch-learn-2/2028-03-29/
LOCATION:The Centre\, 10052-117 St. NW\, Edmonton\, Alberta\, T5K 1X2\, Canada
CATEGORIES:Lunch & Learn
ORGANIZER;CN="JDIC":MAILTO:programmer@jdicseniors.ca
END:VEVENT
BEGIN:VEVENT
DTSTART;TZID=America/Edmonton:20280330T120000
DTEND;TZID=America/Edmonton:20280330T130000
DTSTAMP:20260422T151520
CREATED:20250919T163523Z
LAST-MODIFIED:20260312T233702Z
UID:10004581-1838030400-1838034000@www.jdicseniors.ca
SUMMARY:Lunch & Learn
DESCRIPTION:Every Tuesday & Thursday 12p.m. – 1:00p.m. join us for Lunch & Learn program. Our lunch-and-learn program is a fantastic way to receive important information. All speakers are invited based on members’ requests for essential topics.
URL:https://www.jdicseniors.ca/event/lunch-learn-2/2028-03-30/
LOCATION:The Centre\, 10052-117 St. NW\, Edmonton\, Alberta\, T5K 1X2\, Canada
CATEGORIES:Lunch & Learn
ORGANIZER;CN="JDIC":MAILTO:programmer@jdicseniors.ca
END:VEVENT
BEGIN:VEVENT
DTSTART;TZID=America/Edmonton:20280404T120000
DTEND;TZID=America/Edmonton:20280404T130000
DTSTAMP:20260422T151520
CREATED:20250919T163523Z
LAST-MODIFIED:20260312T233702Z
UID:10004582-1838462400-1838466000@www.jdicseniors.ca
SUMMARY:Lunch & Learn
DESCRIPTION:Every Tuesday & Thursday 12p.m. – 1:00p.m. join us for Lunch & Learn program. Our lunch-and-learn program is a fantastic way to receive important information. All speakers are invited based on members’ requests for essential topics.
URL:https://www.jdicseniors.ca/event/lunch-learn-2/2028-04-04/
LOCATION:The Centre\, 10052-117 St. NW\, Edmonton\, Alberta\, T5K 1X2\, Canada
CATEGORIES:Lunch & Learn
ORGANIZER;CN="JDIC":MAILTO:programmer@jdicseniors.ca
END:VEVENT
BEGIN:VEVENT
DTSTART;TZID=America/Edmonton:20280405T120000
DTEND;TZID=America/Edmonton:20280405T150000
DTSTAMP:20260422T151520
CREATED:20250919T162427Z
LAST-MODIFIED:20260312T233156Z
UID:10003311-1838548800-1838559600@www.jdicseniors.ca
SUMMARY:Sunday Club on Wednesday Lunch & Learn
DESCRIPTION:Join our Sunday Club to enjoy traditional European cuisine and a special presentation about world art\, music\, literature and other topics (in Russian).
URL:https://www.jdicseniors.ca/event/sunday-club-on-wednesday-lunch-learn-2/2028-04-05/
LOCATION:The Centre\, 10052-117 St. NW\, Edmonton\, Alberta\, T5K 1X2\, Canada
CATEGORIES:Lunch & Learn
ORGANIZER;CN="JDIC":MAILTO:programmer@jdicseniors.ca
END:VEVENT
BEGIN:VEVENT
DTSTART;TZID=America/Edmonton:20280406T120000
DTEND;TZID=America/Edmonton:20280406T130000
DTSTAMP:20260422T151520
CREATED:20250919T163523Z
LAST-MODIFIED:20260312T233702Z
UID:10004583-1838635200-1838638800@www.jdicseniors.ca
SUMMARY:Lunch & Learn
DESCRIPTION:Every Tuesday & Thursday 12p.m. – 1:00p.m. join us for Lunch & Learn program. Our lunch-and-learn program is a fantastic way to receive important information. All speakers are invited based on members’ requests for essential topics.
URL:https://www.jdicseniors.ca/event/lunch-learn-2/2028-04-06/
LOCATION:The Centre\, 10052-117 St. NW\, Edmonton\, Alberta\, T5K 1X2\, Canada
CATEGORIES:Lunch & Learn
ORGANIZER;CN="JDIC":MAILTO:programmer@jdicseniors.ca
END:VEVENT
BEGIN:VEVENT
DTSTART;TZID=America/Edmonton:20280411T120000
DTEND;TZID=America/Edmonton:20280411T130000
DTSTAMP:20260422T151520
CREATED:20250919T163523Z
LAST-MODIFIED:20260312T233702Z
UID:10004584-1839067200-1839070800@www.jdicseniors.ca
SUMMARY:Lunch & Learn
DESCRIPTION:Every Tuesday & Thursday 12p.m. – 1:00p.m. join us for Lunch & Learn program. Our lunch-and-learn program is a fantastic way to receive important information. All speakers are invited based on members’ requests for essential topics.
URL:https://www.jdicseniors.ca/event/lunch-learn-2/2028-04-11/
LOCATION:The Centre\, 10052-117 St. NW\, Edmonton\, Alberta\, T5K 1X2\, Canada
CATEGORIES:Lunch & Learn
ORGANIZER;CN="JDIC":MAILTO:programmer@jdicseniors.ca
END:VEVENT
BEGIN:VEVENT
DTSTART;TZID=America/Edmonton:20280412T120000
DTEND;TZID=America/Edmonton:20280412T150000
DTSTAMP:20260422T151520
CREATED:20250919T162427Z
LAST-MODIFIED:20260312T233156Z
UID:10003312-1839153600-1839164400@www.jdicseniors.ca
SUMMARY:Sunday Club on Wednesday Lunch & Learn
DESCRIPTION:Join our Sunday Club to enjoy traditional European cuisine and a special presentation about world art\, music\, literature and other topics (in Russian).
URL:https://www.jdicseniors.ca/event/sunday-club-on-wednesday-lunch-learn-2/2028-04-12/
LOCATION:The Centre\, 10052-117 St. NW\, Edmonton\, Alberta\, T5K 1X2\, Canada
CATEGORIES:Lunch & Learn
ORGANIZER;CN="JDIC":MAILTO:programmer@jdicseniors.ca
END:VEVENT
BEGIN:VEVENT
DTSTART;TZID=America/Edmonton:20280412T130000
DTEND;TZID=America/Edmonton:20280412T150000
DTSTAMP:20260422T151520
CREATED:20250919T163227Z
LAST-MODIFIED:20260312T234003Z
UID:10003126-1839157200-1839164400@www.jdicseniors.ca
SUMMARY:Not Boring Book Club
DESCRIPTION:Join our very talented Edmonton writer Debby Waldman to learn more about our unique Book Club. Join it and enjoy! \nPlease register with the Office to receive the Zoom link for meetings.
URL:https://www.jdicseniors.ca/event/not-boring-book-club-2/2028-04-12/
LOCATION:The Centre\, 10052-117 St. NW\, Edmonton\, Alberta\, T5K 1X2\, Canada
CATEGORIES:Lunch & Learn
ATTACH;FMTTYPE=image/jpeg:https://www.jdicseniors.ca/wp-content/uploads/2025/01/image.jpeg
ORGANIZER;CN="JDIC":MAILTO:programmer@jdicseniors.ca
END:VEVENT
BEGIN:VEVENT
DTSTART;TZID=America/Edmonton:20280413T120000
DTEND;TZID=America/Edmonton:20280413T130000
DTSTAMP:20260422T151520
CREATED:20250919T163523Z
LAST-MODIFIED:20260312T233702Z
UID:10004585-1839240000-1839243600@www.jdicseniors.ca
SUMMARY:Lunch & Learn
DESCRIPTION:Every Tuesday & Thursday 12p.m. – 1:00p.m. join us for Lunch & Learn program. Our lunch-and-learn program is a fantastic way to receive important information. All speakers are invited based on members’ requests for essential topics.
URL:https://www.jdicseniors.ca/event/lunch-learn-2/2028-04-13/
LOCATION:The Centre\, 10052-117 St. NW\, Edmonton\, Alberta\, T5K 1X2\, Canada
CATEGORIES:Lunch & Learn
ORGANIZER;CN="JDIC":MAILTO:programmer@jdicseniors.ca
END:VEVENT
BEGIN:VEVENT
DTSTART;TZID=America/Edmonton:20280418T120000
DTEND;TZID=America/Edmonton:20280418T130000
DTSTAMP:20260422T151520
CREATED:20250919T163523Z
LAST-MODIFIED:20260312T233702Z
UID:10004586-1839672000-1839675600@www.jdicseniors.ca
SUMMARY:Lunch & Learn
DESCRIPTION:Every Tuesday & Thursday 12p.m. – 1:00p.m. join us for Lunch & Learn program. Our lunch-and-learn program is a fantastic way to receive important information. All speakers are invited based on members’ requests for essential topics.
URL:https://www.jdicseniors.ca/event/lunch-learn-2/2028-04-18/
LOCATION:The Centre\, 10052-117 St. NW\, Edmonton\, Alberta\, T5K 1X2\, Canada
CATEGORIES:Lunch & Learn
ORGANIZER;CN="JDIC":MAILTO:programmer@jdicseniors.ca
END:VEVENT
BEGIN:VEVENT
DTSTART;TZID=America/Edmonton:20280419T120000
DTEND;TZID=America/Edmonton:20280419T150000
DTSTAMP:20260422T151520
CREATED:20250919T162427Z
LAST-MODIFIED:20260312T233156Z
UID:10003313-1839758400-1839769200@www.jdicseniors.ca
SUMMARY:Sunday Club on Wednesday Lunch & Learn
DESCRIPTION:Join our Sunday Club to enjoy traditional European cuisine and a special presentation about world art\, music\, literature and other topics (in Russian).
URL:https://www.jdicseniors.ca/event/sunday-club-on-wednesday-lunch-learn-2/2028-04-19/
LOCATION:The Centre\, 10052-117 St. NW\, Edmonton\, Alberta\, T5K 1X2\, Canada
CATEGORIES:Lunch & Learn
ORGANIZER;CN="JDIC":MAILTO:programmer@jdicseniors.ca
END:VEVENT
BEGIN:VEVENT
DTSTART;TZID=America/Edmonton:20280420T120000
DTEND;TZID=America/Edmonton:20280420T130000
DTSTAMP:20260422T151520
CREATED:20250919T163523Z
LAST-MODIFIED:20260312T233702Z
UID:10004587-1839844800-1839848400@www.jdicseniors.ca
SUMMARY:Lunch & Learn
DESCRIPTION:Every Tuesday & Thursday 12p.m. – 1:00p.m. join us for Lunch & Learn program. Our lunch-and-learn program is a fantastic way to receive important information. All speakers are invited based on members’ requests for essential topics.
URL:https://www.jdicseniors.ca/event/lunch-learn-2/2028-04-20/
LOCATION:The Centre\, 10052-117 St. NW\, Edmonton\, Alberta\, T5K 1X2\, Canada
CATEGORIES:Lunch & Learn
ORGANIZER;CN="JDIC":MAILTO:programmer@jdicseniors.ca
END:VEVENT
BEGIN:VEVENT
DTSTART;TZID=America/Edmonton:20280425T120000
DTEND;TZID=America/Edmonton:20280425T130000
DTSTAMP:20260422T151520
CREATED:20250919T163523Z
LAST-MODIFIED:20260312T233702Z
UID:10004588-1840276800-1840280400@www.jdicseniors.ca
SUMMARY:Lunch & Learn
DESCRIPTION:Every Tuesday & Thursday 12p.m. – 1:00p.m. join us for Lunch & Learn program. Our lunch-and-learn program is a fantastic way to receive important information. All speakers are invited based on members’ requests for essential topics.
URL:https://www.jdicseniors.ca/event/lunch-learn-2/2028-04-25/
LOCATION:The Centre\, 10052-117 St. NW\, Edmonton\, Alberta\, T5K 1X2\, Canada
CATEGORIES:Lunch & Learn
ORGANIZER;CN="JDIC":MAILTO:programmer@jdicseniors.ca
END:VEVENT
BEGIN:VEVENT
DTSTART;TZID=America/Edmonton:20280426T120000
DTEND;TZID=America/Edmonton:20280426T150000
DTSTAMP:20260422T151520
CREATED:20250919T162427Z
LAST-MODIFIED:20260312T233156Z
UID:10003314-1840363200-1840374000@www.jdicseniors.ca
SUMMARY:Sunday Club on Wednesday Lunch & Learn
DESCRIPTION:Join our Sunday Club to enjoy traditional European cuisine and a special presentation about world art\, music\, literature and other topics (in Russian).
URL:https://www.jdicseniors.ca/event/sunday-club-on-wednesday-lunch-learn-2/2028-04-26/
LOCATION:The Centre\, 10052-117 St. NW\, Edmonton\, Alberta\, T5K 1X2\, Canada
CATEGORIES:Lunch & Learn
ORGANIZER;CN="JDIC":MAILTO:programmer@jdicseniors.ca
END:VEVENT
BEGIN:VEVENT
DTSTART;TZID=America/Edmonton:20280427T120000
DTEND;TZID=America/Edmonton:20280427T130000
DTSTAMP:20260422T151520
CREATED:20250919T163523Z
LAST-MODIFIED:20260312T233702Z
UID:10004589-1840449600-1840453200@www.jdicseniors.ca
SUMMARY:Lunch & Learn
DESCRIPTION:Every Tuesday & Thursday 12p.m. – 1:00p.m. join us for Lunch & Learn program. Our lunch-and-learn program is a fantastic way to receive important information. All speakers are invited based on members’ requests for essential topics.
URL:https://www.jdicseniors.ca/event/lunch-learn-2/2028-04-27/
LOCATION:The Centre\, 10052-117 St. NW\, Edmonton\, Alberta\, T5K 1X2\, Canada
CATEGORIES:Lunch & Learn
ORGANIZER;CN="JDIC":MAILTO:programmer@jdicseniors.ca
END:VEVENT
BEGIN:VEVENT
DTSTART;TZID=America/Edmonton:20280502T120000
DTEND;TZID=America/Edmonton:20280502T130000
DTSTAMP:20260422T151520
CREATED:20250919T163523Z
LAST-MODIFIED:20260312T233702Z
UID:10004590-1840881600-1840885200@www.jdicseniors.ca
SUMMARY:Lunch & Learn
DESCRIPTION:Every Tuesday & Thursday 12p.m. – 1:00p.m. join us for Lunch & Learn program. Our lunch-and-learn program is a fantastic way to receive important information. All speakers are invited based on members’ requests for essential topics.
URL:https://www.jdicseniors.ca/event/lunch-learn-2/2028-05-02/
LOCATION:The Centre\, 10052-117 St. NW\, Edmonton\, Alberta\, T5K 1X2\, Canada
CATEGORIES:Lunch & Learn
ORGANIZER;CN="JDIC":MAILTO:programmer@jdicseniors.ca
END:VEVENT
END:VCALENDAR