BEGIN:VCALENDAR
VERSION:2.0
PRODID:-//Jewish Senior Citizen’s Centre - ECPv6.15.17.1//NONSGML v1.0//EN
CALSCALE:GREGORIAN
METHOD:PUBLISH
X-ORIGINAL-URL:https://www.jdicseniors.ca
X-WR-CALDESC:Events for Jewish Senior Citizen’s Centre
REFRESH-INTERVAL;VALUE=DURATION:PT1H
X-Robots-Tag:noindex
X-PUBLISHED-TTL:PT1H
BEGIN:VTIMEZONE
TZID:America/Edmonton
BEGIN:DAYLIGHT
TZOFFSETFROM:-0700
TZOFFSETTO:-0600
TZNAME:MDT
DTSTART:20260308T090000
END:DAYLIGHT
BEGIN:STANDARD
TZOFFSETFROM:-0600
TZOFFSETTO:-0700
TZNAME:MST
DTSTART:20261101T080000
END:STANDARD
BEGIN:DAYLIGHT
TZOFFSETFROM:-0700
TZOFFSETTO:-0600
TZNAME:MDT
DTSTART:20270314T090000
END:DAYLIGHT
BEGIN:STANDARD
TZOFFSETFROM:-0600
TZOFFSETTO:-0700
TZNAME:MST
DTSTART:20271107T080000
END:STANDARD
BEGIN:DAYLIGHT
TZOFFSETFROM:-0700
TZOFFSETTO:-0600
TZNAME:MDT
DTSTART:20280312T090000
END:DAYLIGHT
BEGIN:STANDARD
TZOFFSETFROM:-0600
TZOFFSETTO:-0700
TZNAME:MST
DTSTART:20281105T080000
END:STANDARD
BEGIN:DAYLIGHT
TZOFFSETFROM:-0700
TZOFFSETTO:-0600
TZNAME:MDT
DTSTART:20290311T090000
END:DAYLIGHT
BEGIN:STANDARD
TZOFFSETFROM:-0600
TZOFFSETTO:-0700
TZNAME:MST
DTSTART:20291104T080000
END:STANDARD
END:VTIMEZONE
BEGIN:VEVENT
DTSTART;TZID=America/Edmonton:20271111T120000
DTEND;TZID=America/Edmonton:20271111T130000
DTSTAMP:20260422T085138
CREATED:20250919T163523Z
LAST-MODIFIED:20260312T233702Z
UID:10004541-1825934400-1825938000@www.jdicseniors.ca
SUMMARY:Lunch & Learn
DESCRIPTION:Every Tuesday & Thursday 12p.m. – 1:00p.m. join us for Lunch & Learn program. Our lunch-and-learn program is a fantastic way to receive important information. All speakers are invited based on members’ requests for essential topics.
URL:https://www.jdicseniors.ca/event/lunch-learn-2/2027-11-11/
LOCATION:The Centre\, 10052-117 St. NW\, Edmonton\, Alberta\, T5K 1X2\, Canada
CATEGORIES:Lunch & Learn
ORGANIZER;CN="JDIC":MAILTO:programmer@jdicseniors.ca
END:VEVENT
BEGIN:VEVENT
DTSTART;TZID=America/Edmonton:20271116T120000
DTEND;TZID=America/Edmonton:20271116T130000
DTSTAMP:20260422T085138
CREATED:20250919T163523Z
LAST-MODIFIED:20260312T233702Z
UID:10004542-1826366400-1826370000@www.jdicseniors.ca
SUMMARY:Lunch & Learn
DESCRIPTION:Every Tuesday & Thursday 12p.m. – 1:00p.m. join us for Lunch & Learn program. Our lunch-and-learn program is a fantastic way to receive important information. All speakers are invited based on members’ requests for essential topics.
URL:https://www.jdicseniors.ca/event/lunch-learn-2/2027-11-16/
LOCATION:The Centre\, 10052-117 St. NW\, Edmonton\, Alberta\, T5K 1X2\, Canada
CATEGORIES:Lunch & Learn
ORGANIZER;CN="JDIC":MAILTO:programmer@jdicseniors.ca
END:VEVENT
BEGIN:VEVENT
DTSTART;TZID=America/Edmonton:20271117T120000
DTEND;TZID=America/Edmonton:20271117T150000
DTSTAMP:20260422T085138
CREATED:20250919T162427Z
LAST-MODIFIED:20260312T233156Z
UID:10003291-1826452800-1826463600@www.jdicseniors.ca
SUMMARY:Sunday Club on Wednesday Lunch & Learn
DESCRIPTION:Join our Sunday Club to enjoy traditional European cuisine and a special presentation about world art\, music\, literature and other topics (in Russian).
URL:https://www.jdicseniors.ca/event/sunday-club-on-wednesday-lunch-learn-2/2027-11-17/
LOCATION:The Centre\, 10052-117 St. NW\, Edmonton\, Alberta\, T5K 1X2\, Canada
CATEGORIES:Lunch & Learn
ORGANIZER;CN="JDIC":MAILTO:programmer@jdicseniors.ca
END:VEVENT
BEGIN:VEVENT
DTSTART;TZID=America/Edmonton:20271118T120000
DTEND;TZID=America/Edmonton:20271118T130000
DTSTAMP:20260422T085138
CREATED:20250919T163523Z
LAST-MODIFIED:20260312T233702Z
UID:10004543-1826539200-1826542800@www.jdicseniors.ca
SUMMARY:Lunch & Learn
DESCRIPTION:Every Tuesday & Thursday 12p.m. – 1:00p.m. join us for Lunch & Learn program. Our lunch-and-learn program is a fantastic way to receive important information. All speakers are invited based on members’ requests for essential topics.
URL:https://www.jdicseniors.ca/event/lunch-learn-2/2027-11-18/
LOCATION:The Centre\, 10052-117 St. NW\, Edmonton\, Alberta\, T5K 1X2\, Canada
CATEGORIES:Lunch & Learn
ORGANIZER;CN="JDIC":MAILTO:programmer@jdicseniors.ca
END:VEVENT
BEGIN:VEVENT
DTSTART;TZID=America/Edmonton:20271123T120000
DTEND;TZID=America/Edmonton:20271123T130000
DTSTAMP:20260422T085138
CREATED:20250919T163523Z
LAST-MODIFIED:20260312T233702Z
UID:10004544-1826971200-1826974800@www.jdicseniors.ca
SUMMARY:Lunch & Learn
DESCRIPTION:Every Tuesday & Thursday 12p.m. – 1:00p.m. join us for Lunch & Learn program. Our lunch-and-learn program is a fantastic way to receive important information. All speakers are invited based on members’ requests for essential topics.
URL:https://www.jdicseniors.ca/event/lunch-learn-2/2027-11-23/
LOCATION:The Centre\, 10052-117 St. NW\, Edmonton\, Alberta\, T5K 1X2\, Canada
CATEGORIES:Lunch & Learn
ORGANIZER;CN="JDIC":MAILTO:programmer@jdicseniors.ca
END:VEVENT
BEGIN:VEVENT
DTSTART;TZID=America/Edmonton:20271124T120000
DTEND;TZID=America/Edmonton:20271124T150000
DTSTAMP:20260422T085138
CREATED:20250919T162427Z
LAST-MODIFIED:20260312T233156Z
UID:10003292-1827057600-1827068400@www.jdicseniors.ca
SUMMARY:Sunday Club on Wednesday Lunch & Learn
DESCRIPTION:Join our Sunday Club to enjoy traditional European cuisine and a special presentation about world art\, music\, literature and other topics (in Russian).
URL:https://www.jdicseniors.ca/event/sunday-club-on-wednesday-lunch-learn-2/2027-11-24/
LOCATION:The Centre\, 10052-117 St. NW\, Edmonton\, Alberta\, T5K 1X2\, Canada
CATEGORIES:Lunch & Learn
ORGANIZER;CN="JDIC":MAILTO:programmer@jdicseniors.ca
END:VEVENT
BEGIN:VEVENT
DTSTART;TZID=America/Edmonton:20271125T120000
DTEND;TZID=America/Edmonton:20271125T130000
DTSTAMP:20260422T085138
CREATED:20250919T163523Z
LAST-MODIFIED:20260312T233702Z
UID:10004545-1827144000-1827147600@www.jdicseniors.ca
SUMMARY:Lunch & Learn
DESCRIPTION:Every Tuesday & Thursday 12p.m. – 1:00p.m. join us for Lunch & Learn program. Our lunch-and-learn program is a fantastic way to receive important information. All speakers are invited based on members’ requests for essential topics.
URL:https://www.jdicseniors.ca/event/lunch-learn-2/2027-11-25/
LOCATION:The Centre\, 10052-117 St. NW\, Edmonton\, Alberta\, T5K 1X2\, Canada
CATEGORIES:Lunch & Learn
ORGANIZER;CN="JDIC":MAILTO:programmer@jdicseniors.ca
END:VEVENT
BEGIN:VEVENT
DTSTART;TZID=America/Edmonton:20271130T120000
DTEND;TZID=America/Edmonton:20271130T130000
DTSTAMP:20260422T085138
CREATED:20250919T163523Z
LAST-MODIFIED:20260312T233702Z
UID:10004546-1827576000-1827579600@www.jdicseniors.ca
SUMMARY:Lunch & Learn
DESCRIPTION:Every Tuesday & Thursday 12p.m. – 1:00p.m. join us for Lunch & Learn program. Our lunch-and-learn program is a fantastic way to receive important information. All speakers are invited based on members’ requests for essential topics.
URL:https://www.jdicseniors.ca/event/lunch-learn-2/2027-11-30/
LOCATION:The Centre\, 10052-117 St. NW\, Edmonton\, Alberta\, T5K 1X2\, Canada
CATEGORIES:Lunch & Learn
ORGANIZER;CN="JDIC":MAILTO:programmer@jdicseniors.ca
END:VEVENT
BEGIN:VEVENT
DTSTART;TZID=America/Edmonton:20271201T120000
DTEND;TZID=America/Edmonton:20271201T150000
DTSTAMP:20260422T085138
CREATED:20250919T162427Z
LAST-MODIFIED:20260312T233156Z
UID:10003293-1827662400-1827673200@www.jdicseniors.ca
SUMMARY:Sunday Club on Wednesday Lunch & Learn
DESCRIPTION:Join our Sunday Club to enjoy traditional European cuisine and a special presentation about world art\, music\, literature and other topics (in Russian).
URL:https://www.jdicseniors.ca/event/sunday-club-on-wednesday-lunch-learn-2/2027-12-01/
LOCATION:The Centre\, 10052-117 St. NW\, Edmonton\, Alberta\, T5K 1X2\, Canada
CATEGORIES:Lunch & Learn
ORGANIZER;CN="JDIC":MAILTO:programmer@jdicseniors.ca
END:VEVENT
BEGIN:VEVENT
DTSTART;TZID=America/Edmonton:20271202T120000
DTEND;TZID=America/Edmonton:20271202T130000
DTSTAMP:20260422T085138
CREATED:20250919T163523Z
LAST-MODIFIED:20260312T233702Z
UID:10004547-1827748800-1827752400@www.jdicseniors.ca
SUMMARY:Lunch & Learn
DESCRIPTION:Every Tuesday & Thursday 12p.m. – 1:00p.m. join us for Lunch & Learn program. Our lunch-and-learn program is a fantastic way to receive important information. All speakers are invited based on members’ requests for essential topics.
URL:https://www.jdicseniors.ca/event/lunch-learn-2/2027-12-02/
LOCATION:The Centre\, 10052-117 St. NW\, Edmonton\, Alberta\, T5K 1X2\, Canada
CATEGORIES:Lunch & Learn
ORGANIZER;CN="JDIC":MAILTO:programmer@jdicseniors.ca
END:VEVENT
BEGIN:VEVENT
DTSTART;TZID=America/Edmonton:20271207T120000
DTEND;TZID=America/Edmonton:20271207T130000
DTSTAMP:20260422T085138
CREATED:20250919T163523Z
LAST-MODIFIED:20260312T233702Z
UID:10004548-1828180800-1828184400@www.jdicseniors.ca
SUMMARY:Lunch & Learn
DESCRIPTION:Every Tuesday & Thursday 12p.m. – 1:00p.m. join us for Lunch & Learn program. Our lunch-and-learn program is a fantastic way to receive important information. All speakers are invited based on members’ requests for essential topics.
URL:https://www.jdicseniors.ca/event/lunch-learn-2/2027-12-07/
LOCATION:The Centre\, 10052-117 St. NW\, Edmonton\, Alberta\, T5K 1X2\, Canada
CATEGORIES:Lunch & Learn
ORGANIZER;CN="JDIC":MAILTO:programmer@jdicseniors.ca
END:VEVENT
BEGIN:VEVENT
DTSTART;TZID=America/Edmonton:20271208T120000
DTEND;TZID=America/Edmonton:20271208T150000
DTSTAMP:20260422T085138
CREATED:20250919T162427Z
LAST-MODIFIED:20260312T233156Z
UID:10003294-1828267200-1828278000@www.jdicseniors.ca
SUMMARY:Sunday Club on Wednesday Lunch & Learn
DESCRIPTION:Join our Sunday Club to enjoy traditional European cuisine and a special presentation about world art\, music\, literature and other topics (in Russian).
URL:https://www.jdicseniors.ca/event/sunday-club-on-wednesday-lunch-learn-2/2027-12-08/
LOCATION:The Centre\, 10052-117 St. NW\, Edmonton\, Alberta\, T5K 1X2\, Canada
CATEGORIES:Lunch & Learn
ORGANIZER;CN="JDIC":MAILTO:programmer@jdicseniors.ca
END:VEVENT
BEGIN:VEVENT
DTSTART;TZID=America/Edmonton:20271208T130000
DTEND;TZID=America/Edmonton:20271208T150000
DTSTAMP:20260422T085138
CREATED:20250919T163227Z
LAST-MODIFIED:20260312T234003Z
UID:10003122-1828270800-1828278000@www.jdicseniors.ca
SUMMARY:Not Boring Book Club
DESCRIPTION:Join our very talented Edmonton writer Debby Waldman to learn more about our unique Book Club. Join it and enjoy! \nPlease register with the Office to receive the Zoom link for meetings.
URL:https://www.jdicseniors.ca/event/not-boring-book-club-2/2027-12-08/
LOCATION:The Centre\, 10052-117 St. NW\, Edmonton\, Alberta\, T5K 1X2\, Canada
CATEGORIES:Lunch & Learn
ATTACH;FMTTYPE=image/jpeg:https://www.jdicseniors.ca/wp-content/uploads/2025/01/image.jpeg
ORGANIZER;CN="JDIC":MAILTO:programmer@jdicseniors.ca
END:VEVENT
BEGIN:VEVENT
DTSTART;TZID=America/Edmonton:20271209T120000
DTEND;TZID=America/Edmonton:20271209T130000
DTSTAMP:20260422T085138
CREATED:20250919T163523Z
LAST-MODIFIED:20260312T233702Z
UID:10004549-1828353600-1828357200@www.jdicseniors.ca
SUMMARY:Lunch & Learn
DESCRIPTION:Every Tuesday & Thursday 12p.m. – 1:00p.m. join us for Lunch & Learn program. Our lunch-and-learn program is a fantastic way to receive important information. All speakers are invited based on members’ requests for essential topics.
URL:https://www.jdicseniors.ca/event/lunch-learn-2/2027-12-09/
LOCATION:The Centre\, 10052-117 St. NW\, Edmonton\, Alberta\, T5K 1X2\, Canada
CATEGORIES:Lunch & Learn
ORGANIZER;CN="JDIC":MAILTO:programmer@jdicseniors.ca
END:VEVENT
BEGIN:VEVENT
DTSTART;TZID=America/Edmonton:20271214T120000
DTEND;TZID=America/Edmonton:20271214T130000
DTSTAMP:20260422T085138
CREATED:20250919T163523Z
LAST-MODIFIED:20260312T233702Z
UID:10004550-1828785600-1828789200@www.jdicseniors.ca
SUMMARY:Lunch & Learn
DESCRIPTION:Every Tuesday & Thursday 12p.m. – 1:00p.m. join us for Lunch & Learn program. Our lunch-and-learn program is a fantastic way to receive important information. All speakers are invited based on members’ requests for essential topics.
URL:https://www.jdicseniors.ca/event/lunch-learn-2/2027-12-14/
LOCATION:The Centre\, 10052-117 St. NW\, Edmonton\, Alberta\, T5K 1X2\, Canada
CATEGORIES:Lunch & Learn
ORGANIZER;CN="JDIC":MAILTO:programmer@jdicseniors.ca
END:VEVENT
BEGIN:VEVENT
DTSTART;TZID=America/Edmonton:20271215T120000
DTEND;TZID=America/Edmonton:20271215T150000
DTSTAMP:20260422T085138
CREATED:20250919T162427Z
LAST-MODIFIED:20260312T233156Z
UID:10003295-1828872000-1828882800@www.jdicseniors.ca
SUMMARY:Sunday Club on Wednesday Lunch & Learn
DESCRIPTION:Join our Sunday Club to enjoy traditional European cuisine and a special presentation about world art\, music\, literature and other topics (in Russian).
URL:https://www.jdicseniors.ca/event/sunday-club-on-wednesday-lunch-learn-2/2027-12-15/
LOCATION:The Centre\, 10052-117 St. NW\, Edmonton\, Alberta\, T5K 1X2\, Canada
CATEGORIES:Lunch & Learn
ORGANIZER;CN="JDIC":MAILTO:programmer@jdicseniors.ca
END:VEVENT
BEGIN:VEVENT
DTSTART;TZID=America/Edmonton:20271216T120000
DTEND;TZID=America/Edmonton:20271216T130000
DTSTAMP:20260422T085138
CREATED:20250919T163523Z
LAST-MODIFIED:20260312T233702Z
UID:10004551-1828958400-1828962000@www.jdicseniors.ca
SUMMARY:Lunch & Learn
DESCRIPTION:Every Tuesday & Thursday 12p.m. – 1:00p.m. join us for Lunch & Learn program. Our lunch-and-learn program is a fantastic way to receive important information. All speakers are invited based on members’ requests for essential topics.
URL:https://www.jdicseniors.ca/event/lunch-learn-2/2027-12-16/
LOCATION:The Centre\, 10052-117 St. NW\, Edmonton\, Alberta\, T5K 1X2\, Canada
CATEGORIES:Lunch & Learn
ORGANIZER;CN="JDIC":MAILTO:programmer@jdicseniors.ca
END:VEVENT
BEGIN:VEVENT
DTSTART;TZID=America/Edmonton:20271221T120000
DTEND;TZID=America/Edmonton:20271221T130000
DTSTAMP:20260422T085138
CREATED:20250919T163523Z
LAST-MODIFIED:20260312T233702Z
UID:10004552-1829390400-1829394000@www.jdicseniors.ca
SUMMARY:Lunch & Learn
DESCRIPTION:Every Tuesday & Thursday 12p.m. – 1:00p.m. join us for Lunch & Learn program. Our lunch-and-learn program is a fantastic way to receive important information. All speakers are invited based on members’ requests for essential topics.
URL:https://www.jdicseniors.ca/event/lunch-learn-2/2027-12-21/
LOCATION:The Centre\, 10052-117 St. NW\, Edmonton\, Alberta\, T5K 1X2\, Canada
CATEGORIES:Lunch & Learn
ORGANIZER;CN="JDIC":MAILTO:programmer@jdicseniors.ca
END:VEVENT
BEGIN:VEVENT
DTSTART;TZID=America/Edmonton:20271222T120000
DTEND;TZID=America/Edmonton:20271222T150000
DTSTAMP:20260422T085138
CREATED:20250919T162427Z
LAST-MODIFIED:20260312T233156Z
UID:10003296-1829476800-1829487600@www.jdicseniors.ca
SUMMARY:Sunday Club on Wednesday Lunch & Learn
DESCRIPTION:Join our Sunday Club to enjoy traditional European cuisine and a special presentation about world art\, music\, literature and other topics (in Russian).
URL:https://www.jdicseniors.ca/event/sunday-club-on-wednesday-lunch-learn-2/2027-12-22/
LOCATION:The Centre\, 10052-117 St. NW\, Edmonton\, Alberta\, T5K 1X2\, Canada
CATEGORIES:Lunch & Learn
ORGANIZER;CN="JDIC":MAILTO:programmer@jdicseniors.ca
END:VEVENT
BEGIN:VEVENT
DTSTART;TZID=America/Edmonton:20271223T120000
DTEND;TZID=America/Edmonton:20271223T130000
DTSTAMP:20260422T085138
CREATED:20250919T163523Z
LAST-MODIFIED:20260312T233702Z
UID:10004553-1829563200-1829566800@www.jdicseniors.ca
SUMMARY:Lunch & Learn
DESCRIPTION:Every Tuesday & Thursday 12p.m. – 1:00p.m. join us for Lunch & Learn program. Our lunch-and-learn program is a fantastic way to receive important information. All speakers are invited based on members’ requests for essential topics.
URL:https://www.jdicseniors.ca/event/lunch-learn-2/2027-12-23/
LOCATION:The Centre\, 10052-117 St. NW\, Edmonton\, Alberta\, T5K 1X2\, Canada
CATEGORIES:Lunch & Learn
ORGANIZER;CN="JDIC":MAILTO:programmer@jdicseniors.ca
END:VEVENT
BEGIN:VEVENT
DTSTART;TZID=America/Edmonton:20271228T120000
DTEND;TZID=America/Edmonton:20271228T130000
DTSTAMP:20260422T085138
CREATED:20250919T163523Z
LAST-MODIFIED:20260312T233702Z
UID:10004554-1829995200-1829998800@www.jdicseniors.ca
SUMMARY:Lunch & Learn
DESCRIPTION:Every Tuesday & Thursday 12p.m. – 1:00p.m. join us for Lunch & Learn program. Our lunch-and-learn program is a fantastic way to receive important information. All speakers are invited based on members’ requests for essential topics.
URL:https://www.jdicseniors.ca/event/lunch-learn-2/2027-12-28/
LOCATION:The Centre\, 10052-117 St. NW\, Edmonton\, Alberta\, T5K 1X2\, Canada
CATEGORIES:Lunch & Learn
ORGANIZER;CN="JDIC":MAILTO:programmer@jdicseniors.ca
END:VEVENT
BEGIN:VEVENT
DTSTART;TZID=America/Edmonton:20271229T120000
DTEND;TZID=America/Edmonton:20271229T150000
DTSTAMP:20260422T085138
CREATED:20250919T162427Z
LAST-MODIFIED:20260312T233156Z
UID:10003297-1830081600-1830092400@www.jdicseniors.ca
SUMMARY:Sunday Club on Wednesday Lunch & Learn
DESCRIPTION:Join our Sunday Club to enjoy traditional European cuisine and a special presentation about world art\, music\, literature and other topics (in Russian).
URL:https://www.jdicseniors.ca/event/sunday-club-on-wednesday-lunch-learn-2/2027-12-29/
LOCATION:The Centre\, 10052-117 St. NW\, Edmonton\, Alberta\, T5K 1X2\, Canada
CATEGORIES:Lunch & Learn
ORGANIZER;CN="JDIC":MAILTO:programmer@jdicseniors.ca
END:VEVENT
BEGIN:VEVENT
DTSTART;TZID=America/Edmonton:20271230T120000
DTEND;TZID=America/Edmonton:20271230T130000
DTSTAMP:20260422T085138
CREATED:20250919T163523Z
LAST-MODIFIED:20260312T233702Z
UID:10004555-1830168000-1830171600@www.jdicseniors.ca
SUMMARY:Lunch & Learn
DESCRIPTION:Every Tuesday & Thursday 12p.m. – 1:00p.m. join us for Lunch & Learn program. Our lunch-and-learn program is a fantastic way to receive important information. All speakers are invited based on members’ requests for essential topics.
URL:https://www.jdicseniors.ca/event/lunch-learn-2/2027-12-30/
LOCATION:The Centre\, 10052-117 St. NW\, Edmonton\, Alberta\, T5K 1X2\, Canada
CATEGORIES:Lunch & Learn
ORGANIZER;CN="JDIC":MAILTO:programmer@jdicseniors.ca
END:VEVENT
BEGIN:VEVENT
DTSTART;TZID=America/Edmonton:20280104T120000
DTEND;TZID=America/Edmonton:20280104T130000
DTSTAMP:20260422T085138
CREATED:20250919T163523Z
LAST-MODIFIED:20260312T233702Z
UID:10004556-1830600000-1830603600@www.jdicseniors.ca
SUMMARY:Lunch & Learn
DESCRIPTION:Every Tuesday & Thursday 12p.m. – 1:00p.m. join us for Lunch & Learn program. Our lunch-and-learn program is a fantastic way to receive important information. All speakers are invited based on members’ requests for essential topics.
URL:https://www.jdicseniors.ca/event/lunch-learn-2/2028-01-04/
LOCATION:The Centre\, 10052-117 St. NW\, Edmonton\, Alberta\, T5K 1X2\, Canada
CATEGORIES:Lunch & Learn
ORGANIZER;CN="JDIC":MAILTO:programmer@jdicseniors.ca
END:VEVENT
BEGIN:VEVENT
DTSTART;TZID=America/Edmonton:20280105T120000
DTEND;TZID=America/Edmonton:20280105T150000
DTSTAMP:20260422T085138
CREATED:20250919T162427Z
LAST-MODIFIED:20260312T233156Z
UID:10003298-1830686400-1830697200@www.jdicseniors.ca
SUMMARY:Sunday Club on Wednesday Lunch & Learn
DESCRIPTION:Join our Sunday Club to enjoy traditional European cuisine and a special presentation about world art\, music\, literature and other topics (in Russian).
URL:https://www.jdicseniors.ca/event/sunday-club-on-wednesday-lunch-learn-2/2028-01-05/
LOCATION:The Centre\, 10052-117 St. NW\, Edmonton\, Alberta\, T5K 1X2\, Canada
CATEGORIES:Lunch & Learn
ORGANIZER;CN="JDIC":MAILTO:programmer@jdicseniors.ca
END:VEVENT
BEGIN:VEVENT
DTSTART;TZID=America/Edmonton:20280106T120000
DTEND;TZID=America/Edmonton:20280106T130000
DTSTAMP:20260422T085138
CREATED:20250919T163523Z
LAST-MODIFIED:20260312T233702Z
UID:10004557-1830772800-1830776400@www.jdicseniors.ca
SUMMARY:Lunch & Learn
DESCRIPTION:Every Tuesday & Thursday 12p.m. – 1:00p.m. join us for Lunch & Learn program. Our lunch-and-learn program is a fantastic way to receive important information. All speakers are invited based on members’ requests for essential topics.
URL:https://www.jdicseniors.ca/event/lunch-learn-2/2028-01-06/
LOCATION:The Centre\, 10052-117 St. NW\, Edmonton\, Alberta\, T5K 1X2\, Canada
CATEGORIES:Lunch & Learn
ORGANIZER;CN="JDIC":MAILTO:programmer@jdicseniors.ca
END:VEVENT
BEGIN:VEVENT
DTSTART;TZID=America/Edmonton:20280111T120000
DTEND;TZID=America/Edmonton:20280111T130000
DTSTAMP:20260422T085138
CREATED:20250919T163523Z
LAST-MODIFIED:20260312T233702Z
UID:10004558-1831204800-1831208400@www.jdicseniors.ca
SUMMARY:Lunch & Learn
DESCRIPTION:Every Tuesday & Thursday 12p.m. – 1:00p.m. join us for Lunch & Learn program. Our lunch-and-learn program is a fantastic way to receive important information. All speakers are invited based on members’ requests for essential topics.
URL:https://www.jdicseniors.ca/event/lunch-learn-2/2028-01-11/
LOCATION:The Centre\, 10052-117 St. NW\, Edmonton\, Alberta\, T5K 1X2\, Canada
CATEGORIES:Lunch & Learn
ORGANIZER;CN="JDIC":MAILTO:programmer@jdicseniors.ca
END:VEVENT
BEGIN:VEVENT
DTSTART;TZID=America/Edmonton:20280112T120000
DTEND;TZID=America/Edmonton:20280112T150000
DTSTAMP:20260422T085138
CREATED:20250919T162427Z
LAST-MODIFIED:20260312T233156Z
UID:10003299-1831291200-1831302000@www.jdicseniors.ca
SUMMARY:Sunday Club on Wednesday Lunch & Learn
DESCRIPTION:Join our Sunday Club to enjoy traditional European cuisine and a special presentation about world art\, music\, literature and other topics (in Russian).
URL:https://www.jdicseniors.ca/event/sunday-club-on-wednesday-lunch-learn-2/2028-01-12/
LOCATION:The Centre\, 10052-117 St. NW\, Edmonton\, Alberta\, T5K 1X2\, Canada
CATEGORIES:Lunch & Learn
ORGANIZER;CN="JDIC":MAILTO:programmer@jdicseniors.ca
END:VEVENT
BEGIN:VEVENT
DTSTART;TZID=America/Edmonton:20280112T130000
DTEND;TZID=America/Edmonton:20280112T150000
DTSTAMP:20260422T085138
CREATED:20250919T163227Z
LAST-MODIFIED:20260312T234003Z
UID:10003123-1831294800-1831302000@www.jdicseniors.ca
SUMMARY:Not Boring Book Club
DESCRIPTION:Join our very talented Edmonton writer Debby Waldman to learn more about our unique Book Club. Join it and enjoy! \nPlease register with the Office to receive the Zoom link for meetings.
URL:https://www.jdicseniors.ca/event/not-boring-book-club-2/2028-01-12/
LOCATION:The Centre\, 10052-117 St. NW\, Edmonton\, Alberta\, T5K 1X2\, Canada
CATEGORIES:Lunch & Learn
ATTACH;FMTTYPE=image/jpeg:https://www.jdicseniors.ca/wp-content/uploads/2025/01/image.jpeg
ORGANIZER;CN="JDIC":MAILTO:programmer@jdicseniors.ca
END:VEVENT
BEGIN:VEVENT
DTSTART;TZID=America/Edmonton:20280113T120000
DTEND;TZID=America/Edmonton:20280113T130000
DTSTAMP:20260422T085138
CREATED:20250919T163523Z
LAST-MODIFIED:20260312T233702Z
UID:10004559-1831377600-1831381200@www.jdicseniors.ca
SUMMARY:Lunch & Learn
DESCRIPTION:Every Tuesday & Thursday 12p.m. – 1:00p.m. join us for Lunch & Learn program. Our lunch-and-learn program is a fantastic way to receive important information. All speakers are invited based on members’ requests for essential topics.
URL:https://www.jdicseniors.ca/event/lunch-learn-2/2028-01-13/
LOCATION:The Centre\, 10052-117 St. NW\, Edmonton\, Alberta\, T5K 1X2\, Canada
CATEGORIES:Lunch & Learn
ORGANIZER;CN="JDIC":MAILTO:programmer@jdicseniors.ca
END:VEVENT
END:VCALENDAR