BEGIN:VCALENDAR
VERSION:2.0
PRODID:-//Jewish Senior Citizen’s Centre - ECPv6.15.17.1//NONSGML v1.0//EN
CALSCALE:GREGORIAN
METHOD:PUBLISH
X-WR-CALNAME:Jewish Senior Citizen’s Centre
X-ORIGINAL-URL:https://www.jdicseniors.ca
X-WR-CALDESC:Events for Jewish Senior Citizen’s Centre
REFRESH-INTERVAL;VALUE=DURATION:PT1H
X-Robots-Tag:noindex
X-PUBLISHED-TTL:PT1H
BEGIN:VTIMEZONE
TZID:America/Edmonton
BEGIN:DAYLIGHT
TZOFFSETFROM:-0700
TZOFFSETTO:-0600
TZNAME:MDT
DTSTART:20260308T090000
END:DAYLIGHT
BEGIN:STANDARD
TZOFFSETFROM:-0600
TZOFFSETTO:-0700
TZNAME:MST
DTSTART:20261101T080000
END:STANDARD
BEGIN:DAYLIGHT
TZOFFSETFROM:-0700
TZOFFSETTO:-0600
TZNAME:MDT
DTSTART:20270314T090000
END:DAYLIGHT
BEGIN:STANDARD
TZOFFSETFROM:-0600
TZOFFSETTO:-0700
TZNAME:MST
DTSTART:20271107T080000
END:STANDARD
BEGIN:DAYLIGHT
TZOFFSETFROM:-0700
TZOFFSETTO:-0600
TZNAME:MDT
DTSTART:20280312T090000
END:DAYLIGHT
BEGIN:STANDARD
TZOFFSETFROM:-0600
TZOFFSETTO:-0700
TZNAME:MST
DTSTART:20281105T080000
END:STANDARD
END:VTIMEZONE
BEGIN:VEVENT
DTSTART;TZID=America/Edmonton:20270826T120000
DTEND;TZID=America/Edmonton:20270826T130000
DTSTAMP:20260422T035320
CREATED:20250919T163523Z
LAST-MODIFIED:20260312T233702Z
UID:10004519-1819281600-1819285200@www.jdicseniors.ca
SUMMARY:Lunch & Learn
DESCRIPTION:Every Tuesday & Thursday 12p.m. – 1:00p.m. join us for Lunch & Learn program. Our lunch-and-learn program is a fantastic way to receive important information. All speakers are invited based on members’ requests for essential topics.
URL:https://www.jdicseniors.ca/event/lunch-learn-2/2027-08-26/
LOCATION:The Centre\, 10052-117 St. NW\, Edmonton\, Alberta\, T5K 1X2\, Canada
CATEGORIES:Lunch & Learn
ORGANIZER;CN="JDIC":MAILTO:programmer@jdicseniors.ca
END:VEVENT
BEGIN:VEVENT
DTSTART;TZID=America/Edmonton:20270831T120000
DTEND;TZID=America/Edmonton:20270831T130000
DTSTAMP:20260422T035320
CREATED:20250919T163523Z
LAST-MODIFIED:20260312T233702Z
UID:10004520-1819713600-1819717200@www.jdicseniors.ca
SUMMARY:Lunch & Learn
DESCRIPTION:Every Tuesday & Thursday 12p.m. – 1:00p.m. join us for Lunch & Learn program. Our lunch-and-learn program is a fantastic way to receive important information. All speakers are invited based on members’ requests for essential topics.
URL:https://www.jdicseniors.ca/event/lunch-learn-2/2027-08-31/
LOCATION:The Centre\, 10052-117 St. NW\, Edmonton\, Alberta\, T5K 1X2\, Canada
CATEGORIES:Lunch & Learn
ORGANIZER;CN="JDIC":MAILTO:programmer@jdicseniors.ca
END:VEVENT
BEGIN:VEVENT
DTSTART;TZID=America/Edmonton:20270901T120000
DTEND;TZID=America/Edmonton:20270901T150000
DTSTAMP:20260422T035320
CREATED:20250919T162427Z
LAST-MODIFIED:20260312T233156Z
UID:10003280-1819800000-1819810800@www.jdicseniors.ca
SUMMARY:Sunday Club on Wednesday Lunch & Learn
DESCRIPTION:Join our Sunday Club to enjoy traditional European cuisine and a special presentation about world art\, music\, literature and other topics (in Russian).
URL:https://www.jdicseniors.ca/event/sunday-club-on-wednesday-lunch-learn-2/2027-09-01/
LOCATION:The Centre\, 10052-117 St. NW\, Edmonton\, Alberta\, T5K 1X2\, Canada
CATEGORIES:Lunch & Learn
ORGANIZER;CN="JDIC":MAILTO:programmer@jdicseniors.ca
END:VEVENT
BEGIN:VEVENT
DTSTART;TZID=America/Edmonton:20270902T120000
DTEND;TZID=America/Edmonton:20270902T130000
DTSTAMP:20260422T035320
CREATED:20250919T163523Z
LAST-MODIFIED:20260312T233702Z
UID:10004521-1819886400-1819890000@www.jdicseniors.ca
SUMMARY:Lunch & Learn
DESCRIPTION:Every Tuesday & Thursday 12p.m. – 1:00p.m. join us for Lunch & Learn program. Our lunch-and-learn program is a fantastic way to receive important information. All speakers are invited based on members’ requests for essential topics.
URL:https://www.jdicseniors.ca/event/lunch-learn-2/2027-09-02/
LOCATION:The Centre\, 10052-117 St. NW\, Edmonton\, Alberta\, T5K 1X2\, Canada
CATEGORIES:Lunch & Learn
ORGANIZER;CN="JDIC":MAILTO:programmer@jdicseniors.ca
END:VEVENT
BEGIN:VEVENT
DTSTART;TZID=America/Edmonton:20270907T120000
DTEND;TZID=America/Edmonton:20270907T130000
DTSTAMP:20260422T035320
CREATED:20250919T163523Z
LAST-MODIFIED:20260312T233702Z
UID:10004522-1820318400-1820322000@www.jdicseniors.ca
SUMMARY:Lunch & Learn
DESCRIPTION:Every Tuesday & Thursday 12p.m. – 1:00p.m. join us for Lunch & Learn program. Our lunch-and-learn program is a fantastic way to receive important information. All speakers are invited based on members’ requests for essential topics.
URL:https://www.jdicseniors.ca/event/lunch-learn-2/2027-09-07/
LOCATION:The Centre\, 10052-117 St. NW\, Edmonton\, Alberta\, T5K 1X2\, Canada
CATEGORIES:Lunch & Learn
ORGANIZER;CN="JDIC":MAILTO:programmer@jdicseniors.ca
END:VEVENT
BEGIN:VEVENT
DTSTART;TZID=America/Edmonton:20270908T120000
DTEND;TZID=America/Edmonton:20270908T150000
DTSTAMP:20260422T035320
CREATED:20250919T162427Z
LAST-MODIFIED:20260312T233156Z
UID:10003281-1820404800-1820415600@www.jdicseniors.ca
SUMMARY:Sunday Club on Wednesday Lunch & Learn
DESCRIPTION:Join our Sunday Club to enjoy traditional European cuisine and a special presentation about world art\, music\, literature and other topics (in Russian).
URL:https://www.jdicseniors.ca/event/sunday-club-on-wednesday-lunch-learn-2/2027-09-08/
LOCATION:The Centre\, 10052-117 St. NW\, Edmonton\, Alberta\, T5K 1X2\, Canada
CATEGORIES:Lunch & Learn
ORGANIZER;CN="JDIC":MAILTO:programmer@jdicseniors.ca
END:VEVENT
BEGIN:VEVENT
DTSTART;TZID=America/Edmonton:20270908T130000
DTEND;TZID=America/Edmonton:20270908T150000
DTSTAMP:20260422T035320
CREATED:20250919T163227Z
LAST-MODIFIED:20260312T234003Z
UID:10003119-1820408400-1820415600@www.jdicseniors.ca
SUMMARY:Not Boring Book Club
DESCRIPTION:Join our very talented Edmonton writer Debby Waldman to learn more about our unique Book Club. Join it and enjoy! \nPlease register with the Office to receive the Zoom link for meetings.
URL:https://www.jdicseniors.ca/event/not-boring-book-club-2/2027-09-08/
LOCATION:The Centre\, 10052-117 St. NW\, Edmonton\, Alberta\, T5K 1X2\, Canada
CATEGORIES:Lunch & Learn
ATTACH;FMTTYPE=image/jpeg:https://www.jdicseniors.ca/wp-content/uploads/2025/01/image.jpeg
ORGANIZER;CN="JDIC":MAILTO:programmer@jdicseniors.ca
END:VEVENT
BEGIN:VEVENT
DTSTART;TZID=America/Edmonton:20270909T120000
DTEND;TZID=America/Edmonton:20270909T130000
DTSTAMP:20260422T035320
CREATED:20250919T163523Z
LAST-MODIFIED:20260312T233702Z
UID:10004523-1820491200-1820494800@www.jdicseniors.ca
SUMMARY:Lunch & Learn
DESCRIPTION:Every Tuesday & Thursday 12p.m. – 1:00p.m. join us for Lunch & Learn program. Our lunch-and-learn program is a fantastic way to receive important information. All speakers are invited based on members’ requests for essential topics.
URL:https://www.jdicseniors.ca/event/lunch-learn-2/2027-09-09/
LOCATION:The Centre\, 10052-117 St. NW\, Edmonton\, Alberta\, T5K 1X2\, Canada
CATEGORIES:Lunch & Learn
ORGANIZER;CN="JDIC":MAILTO:programmer@jdicseniors.ca
END:VEVENT
BEGIN:VEVENT
DTSTART;TZID=America/Edmonton:20270914T120000
DTEND;TZID=America/Edmonton:20270914T130000
DTSTAMP:20260422T035320
CREATED:20250919T163523Z
LAST-MODIFIED:20260312T233702Z
UID:10004524-1820923200-1820926800@www.jdicseniors.ca
SUMMARY:Lunch & Learn
DESCRIPTION:Every Tuesday & Thursday 12p.m. – 1:00p.m. join us for Lunch & Learn program. Our lunch-and-learn program is a fantastic way to receive important information. All speakers are invited based on members’ requests for essential topics.
URL:https://www.jdicseniors.ca/event/lunch-learn-2/2027-09-14/
LOCATION:The Centre\, 10052-117 St. NW\, Edmonton\, Alberta\, T5K 1X2\, Canada
CATEGORIES:Lunch & Learn
ORGANIZER;CN="JDIC":MAILTO:programmer@jdicseniors.ca
END:VEVENT
BEGIN:VEVENT
DTSTART;TZID=America/Edmonton:20270915T120000
DTEND;TZID=America/Edmonton:20270915T150000
DTSTAMP:20260422T035320
CREATED:20250919T162427Z
LAST-MODIFIED:20260312T233156Z
UID:10003282-1821009600-1821020400@www.jdicseniors.ca
SUMMARY:Sunday Club on Wednesday Lunch & Learn
DESCRIPTION:Join our Sunday Club to enjoy traditional European cuisine and a special presentation about world art\, music\, literature and other topics (in Russian).
URL:https://www.jdicseniors.ca/event/sunday-club-on-wednesday-lunch-learn-2/2027-09-15/
LOCATION:The Centre\, 10052-117 St. NW\, Edmonton\, Alberta\, T5K 1X2\, Canada
CATEGORIES:Lunch & Learn
ORGANIZER;CN="JDIC":MAILTO:programmer@jdicseniors.ca
END:VEVENT
BEGIN:VEVENT
DTSTART;TZID=America/Edmonton:20270916T120000
DTEND;TZID=America/Edmonton:20270916T130000
DTSTAMP:20260422T035320
CREATED:20250919T163523Z
LAST-MODIFIED:20260312T233702Z
UID:10004525-1821096000-1821099600@www.jdicseniors.ca
SUMMARY:Lunch & Learn
DESCRIPTION:Every Tuesday & Thursday 12p.m. – 1:00p.m. join us for Lunch & Learn program. Our lunch-and-learn program is a fantastic way to receive important information. All speakers are invited based on members’ requests for essential topics.
URL:https://www.jdicseniors.ca/event/lunch-learn-2/2027-09-16/
LOCATION:The Centre\, 10052-117 St. NW\, Edmonton\, Alberta\, T5K 1X2\, Canada
CATEGORIES:Lunch & Learn
ORGANIZER;CN="JDIC":MAILTO:programmer@jdicseniors.ca
END:VEVENT
BEGIN:VEVENT
DTSTART;TZID=America/Edmonton:20270921T120000
DTEND;TZID=America/Edmonton:20270921T130000
DTSTAMP:20260422T035320
CREATED:20250919T163523Z
LAST-MODIFIED:20260312T233702Z
UID:10004526-1821528000-1821531600@www.jdicseniors.ca
SUMMARY:Lunch & Learn
DESCRIPTION:Every Tuesday & Thursday 12p.m. – 1:00p.m. join us for Lunch & Learn program. Our lunch-and-learn program is a fantastic way to receive important information. All speakers are invited based on members’ requests for essential topics.
URL:https://www.jdicseniors.ca/event/lunch-learn-2/2027-09-21/
LOCATION:The Centre\, 10052-117 St. NW\, Edmonton\, Alberta\, T5K 1X2\, Canada
CATEGORIES:Lunch & Learn
ORGANIZER;CN="JDIC":MAILTO:programmer@jdicseniors.ca
END:VEVENT
BEGIN:VEVENT
DTSTART;TZID=America/Edmonton:20270922T120000
DTEND;TZID=America/Edmonton:20270922T150000
DTSTAMP:20260422T035320
CREATED:20250919T162427Z
LAST-MODIFIED:20260312T233156Z
UID:10003283-1821614400-1821625200@www.jdicseniors.ca
SUMMARY:Sunday Club on Wednesday Lunch & Learn
DESCRIPTION:Join our Sunday Club to enjoy traditional European cuisine and a special presentation about world art\, music\, literature and other topics (in Russian).
URL:https://www.jdicseniors.ca/event/sunday-club-on-wednesday-lunch-learn-2/2027-09-22/
LOCATION:The Centre\, 10052-117 St. NW\, Edmonton\, Alberta\, T5K 1X2\, Canada
CATEGORIES:Lunch & Learn
ORGANIZER;CN="JDIC":MAILTO:programmer@jdicseniors.ca
END:VEVENT
BEGIN:VEVENT
DTSTART;TZID=America/Edmonton:20270923T120000
DTEND;TZID=America/Edmonton:20270923T130000
DTSTAMP:20260422T035320
CREATED:20250919T163523Z
LAST-MODIFIED:20260312T233702Z
UID:10004527-1821700800-1821704400@www.jdicseniors.ca
SUMMARY:Lunch & Learn
DESCRIPTION:Every Tuesday & Thursday 12p.m. – 1:00p.m. join us for Lunch & Learn program. Our lunch-and-learn program is a fantastic way to receive important information. All speakers are invited based on members’ requests for essential topics.
URL:https://www.jdicseniors.ca/event/lunch-learn-2/2027-09-23/
LOCATION:The Centre\, 10052-117 St. NW\, Edmonton\, Alberta\, T5K 1X2\, Canada
CATEGORIES:Lunch & Learn
ORGANIZER;CN="JDIC":MAILTO:programmer@jdicseniors.ca
END:VEVENT
BEGIN:VEVENT
DTSTART;TZID=America/Edmonton:20270928T120000
DTEND;TZID=America/Edmonton:20270928T130000
DTSTAMP:20260422T035320
CREATED:20250919T163523Z
LAST-MODIFIED:20260312T233702Z
UID:10004528-1822132800-1822136400@www.jdicseniors.ca
SUMMARY:Lunch & Learn
DESCRIPTION:Every Tuesday & Thursday 12p.m. – 1:00p.m. join us for Lunch & Learn program. Our lunch-and-learn program is a fantastic way to receive important information. All speakers are invited based on members’ requests for essential topics.
URL:https://www.jdicseniors.ca/event/lunch-learn-2/2027-09-28/
LOCATION:The Centre\, 10052-117 St. NW\, Edmonton\, Alberta\, T5K 1X2\, Canada
CATEGORIES:Lunch & Learn
ORGANIZER;CN="JDIC":MAILTO:programmer@jdicseniors.ca
END:VEVENT
BEGIN:VEVENT
DTSTART;TZID=America/Edmonton:20270929T120000
DTEND;TZID=America/Edmonton:20270929T150000
DTSTAMP:20260422T035320
CREATED:20250919T162427Z
LAST-MODIFIED:20260312T233156Z
UID:10003284-1822219200-1822230000@www.jdicseniors.ca
SUMMARY:Sunday Club on Wednesday Lunch & Learn
DESCRIPTION:Join our Sunday Club to enjoy traditional European cuisine and a special presentation about world art\, music\, literature and other topics (in Russian).
URL:https://www.jdicseniors.ca/event/sunday-club-on-wednesday-lunch-learn-2/2027-09-29/
LOCATION:The Centre\, 10052-117 St. NW\, Edmonton\, Alberta\, T5K 1X2\, Canada
CATEGORIES:Lunch & Learn
ORGANIZER;CN="JDIC":MAILTO:programmer@jdicseniors.ca
END:VEVENT
BEGIN:VEVENT
DTSTART;TZID=America/Edmonton:20270930T120000
DTEND;TZID=America/Edmonton:20270930T130000
DTSTAMP:20260422T035320
CREATED:20250919T163523Z
LAST-MODIFIED:20260312T233702Z
UID:10004529-1822305600-1822309200@www.jdicseniors.ca
SUMMARY:Lunch & Learn
DESCRIPTION:Every Tuesday & Thursday 12p.m. – 1:00p.m. join us for Lunch & Learn program. Our lunch-and-learn program is a fantastic way to receive important information. All speakers are invited based on members’ requests for essential topics.
URL:https://www.jdicseniors.ca/event/lunch-learn-2/2027-09-30/
LOCATION:The Centre\, 10052-117 St. NW\, Edmonton\, Alberta\, T5K 1X2\, Canada
CATEGORIES:Lunch & Learn
ORGANIZER;CN="JDIC":MAILTO:programmer@jdicseniors.ca
END:VEVENT
BEGIN:VEVENT
DTSTART;TZID=America/Edmonton:20271005T120000
DTEND;TZID=America/Edmonton:20271005T130000
DTSTAMP:20260422T035320
CREATED:20250919T163523Z
LAST-MODIFIED:20260312T233702Z
UID:10004530-1822737600-1822741200@www.jdicseniors.ca
SUMMARY:Lunch & Learn
DESCRIPTION:Every Tuesday & Thursday 12p.m. – 1:00p.m. join us for Lunch & Learn program. Our lunch-and-learn program is a fantastic way to receive important information. All speakers are invited based on members’ requests for essential topics.
URL:https://www.jdicseniors.ca/event/lunch-learn-2/2027-10-05/
LOCATION:The Centre\, 10052-117 St. NW\, Edmonton\, Alberta\, T5K 1X2\, Canada
CATEGORIES:Lunch & Learn
ORGANIZER;CN="JDIC":MAILTO:programmer@jdicseniors.ca
END:VEVENT
BEGIN:VEVENT
DTSTART;TZID=America/Edmonton:20271006T120000
DTEND;TZID=America/Edmonton:20271006T150000
DTSTAMP:20260422T035320
CREATED:20250919T162427Z
LAST-MODIFIED:20260312T233156Z
UID:10003285-1822824000-1822834800@www.jdicseniors.ca
SUMMARY:Sunday Club on Wednesday Lunch & Learn
DESCRIPTION:Join our Sunday Club to enjoy traditional European cuisine and a special presentation about world art\, music\, literature and other topics (in Russian).
URL:https://www.jdicseniors.ca/event/sunday-club-on-wednesday-lunch-learn-2/2027-10-06/
LOCATION:The Centre\, 10052-117 St. NW\, Edmonton\, Alberta\, T5K 1X2\, Canada
CATEGORIES:Lunch & Learn
ORGANIZER;CN="JDIC":MAILTO:programmer@jdicseniors.ca
END:VEVENT
BEGIN:VEVENT
DTSTART;TZID=America/Edmonton:20271007T120000
DTEND;TZID=America/Edmonton:20271007T130000
DTSTAMP:20260422T035320
CREATED:20250919T163523Z
LAST-MODIFIED:20260312T233702Z
UID:10004531-1822910400-1822914000@www.jdicseniors.ca
SUMMARY:Lunch & Learn
DESCRIPTION:Every Tuesday & Thursday 12p.m. – 1:00p.m. join us for Lunch & Learn program. Our lunch-and-learn program is a fantastic way to receive important information. All speakers are invited based on members’ requests for essential topics.
URL:https://www.jdicseniors.ca/event/lunch-learn-2/2027-10-07/
LOCATION:The Centre\, 10052-117 St. NW\, Edmonton\, Alberta\, T5K 1X2\, Canada
CATEGORIES:Lunch & Learn
ORGANIZER;CN="JDIC":MAILTO:programmer@jdicseniors.ca
END:VEVENT
BEGIN:VEVENT
DTSTART;TZID=America/Edmonton:20271012T120000
DTEND;TZID=America/Edmonton:20271012T130000
DTSTAMP:20260422T035320
CREATED:20250919T163523Z
LAST-MODIFIED:20260312T233702Z
UID:10004532-1823342400-1823346000@www.jdicseniors.ca
SUMMARY:Lunch & Learn
DESCRIPTION:Every Tuesday & Thursday 12p.m. – 1:00p.m. join us for Lunch & Learn program. Our lunch-and-learn program is a fantastic way to receive important information. All speakers are invited based on members’ requests for essential topics.
URL:https://www.jdicseniors.ca/event/lunch-learn-2/2027-10-12/
LOCATION:The Centre\, 10052-117 St. NW\, Edmonton\, Alberta\, T5K 1X2\, Canada
CATEGORIES:Lunch & Learn
ORGANIZER;CN="JDIC":MAILTO:programmer@jdicseniors.ca
END:VEVENT
BEGIN:VEVENT
DTSTART;TZID=America/Edmonton:20271013T120000
DTEND;TZID=America/Edmonton:20271013T150000
DTSTAMP:20260422T035320
CREATED:20250919T162427Z
LAST-MODIFIED:20260312T233156Z
UID:10003286-1823428800-1823439600@www.jdicseniors.ca
SUMMARY:Sunday Club on Wednesday Lunch & Learn
DESCRIPTION:Join our Sunday Club to enjoy traditional European cuisine and a special presentation about world art\, music\, literature and other topics (in Russian).
URL:https://www.jdicseniors.ca/event/sunday-club-on-wednesday-lunch-learn-2/2027-10-13/
LOCATION:The Centre\, 10052-117 St. NW\, Edmonton\, Alberta\, T5K 1X2\, Canada
CATEGORIES:Lunch & Learn
ORGANIZER;CN="JDIC":MAILTO:programmer@jdicseniors.ca
END:VEVENT
BEGIN:VEVENT
DTSTART;TZID=America/Edmonton:20271013T130000
DTEND;TZID=America/Edmonton:20271013T150000
DTSTAMP:20260422T035320
CREATED:20250919T163227Z
LAST-MODIFIED:20260312T234003Z
UID:10003120-1823432400-1823439600@www.jdicseniors.ca
SUMMARY:Not Boring Book Club
DESCRIPTION:Join our very talented Edmonton writer Debby Waldman to learn more about our unique Book Club. Join it and enjoy! \nPlease register with the Office to receive the Zoom link for meetings.
URL:https://www.jdicseniors.ca/event/not-boring-book-club-2/2027-10-13/
LOCATION:The Centre\, 10052-117 St. NW\, Edmonton\, Alberta\, T5K 1X2\, Canada
CATEGORIES:Lunch & Learn
ATTACH;FMTTYPE=image/jpeg:https://www.jdicseniors.ca/wp-content/uploads/2025/01/image.jpeg
ORGANIZER;CN="JDIC":MAILTO:programmer@jdicseniors.ca
END:VEVENT
BEGIN:VEVENT
DTSTART;TZID=America/Edmonton:20271014T120000
DTEND;TZID=America/Edmonton:20271014T130000
DTSTAMP:20260422T035320
CREATED:20250919T163523Z
LAST-MODIFIED:20260312T233702Z
UID:10004533-1823515200-1823518800@www.jdicseniors.ca
SUMMARY:Lunch & Learn
DESCRIPTION:Every Tuesday & Thursday 12p.m. – 1:00p.m. join us for Lunch & Learn program. Our lunch-and-learn program is a fantastic way to receive important information. All speakers are invited based on members’ requests for essential topics.
URL:https://www.jdicseniors.ca/event/lunch-learn-2/2027-10-14/
LOCATION:The Centre\, 10052-117 St. NW\, Edmonton\, Alberta\, T5K 1X2\, Canada
CATEGORIES:Lunch & Learn
ORGANIZER;CN="JDIC":MAILTO:programmer@jdicseniors.ca
END:VEVENT
BEGIN:VEVENT
DTSTART;TZID=America/Edmonton:20271019T120000
DTEND;TZID=America/Edmonton:20271019T130000
DTSTAMP:20260422T035320
CREATED:20250919T163523Z
LAST-MODIFIED:20260312T233702Z
UID:10004534-1823947200-1823950800@www.jdicseniors.ca
SUMMARY:Lunch & Learn
DESCRIPTION:Every Tuesday & Thursday 12p.m. – 1:00p.m. join us for Lunch & Learn program. Our lunch-and-learn program is a fantastic way to receive important information. All speakers are invited based on members’ requests for essential topics.
URL:https://www.jdicseniors.ca/event/lunch-learn-2/2027-10-19/
LOCATION:The Centre\, 10052-117 St. NW\, Edmonton\, Alberta\, T5K 1X2\, Canada
CATEGORIES:Lunch & Learn
ORGANIZER;CN="JDIC":MAILTO:programmer@jdicseniors.ca
END:VEVENT
BEGIN:VEVENT
DTSTART;TZID=America/Edmonton:20271020T120000
DTEND;TZID=America/Edmonton:20271020T150000
DTSTAMP:20260422T035320
CREATED:20250919T162427Z
LAST-MODIFIED:20260312T233156Z
UID:10003287-1824033600-1824044400@www.jdicseniors.ca
SUMMARY:Sunday Club on Wednesday Lunch & Learn
DESCRIPTION:Join our Sunday Club to enjoy traditional European cuisine and a special presentation about world art\, music\, literature and other topics (in Russian).
URL:https://www.jdicseniors.ca/event/sunday-club-on-wednesday-lunch-learn-2/2027-10-20/
LOCATION:The Centre\, 10052-117 St. NW\, Edmonton\, Alberta\, T5K 1X2\, Canada
CATEGORIES:Lunch & Learn
ORGANIZER;CN="JDIC":MAILTO:programmer@jdicseniors.ca
END:VEVENT
BEGIN:VEVENT
DTSTART;TZID=America/Edmonton:20271021T120000
DTEND;TZID=America/Edmonton:20271021T130000
DTSTAMP:20260422T035320
CREATED:20250919T163523Z
LAST-MODIFIED:20260312T233702Z
UID:10004535-1824120000-1824123600@www.jdicseniors.ca
SUMMARY:Lunch & Learn
DESCRIPTION:Every Tuesday & Thursday 12p.m. – 1:00p.m. join us for Lunch & Learn program. Our lunch-and-learn program is a fantastic way to receive important information. All speakers are invited based on members’ requests for essential topics.
URL:https://www.jdicseniors.ca/event/lunch-learn-2/2027-10-21/
LOCATION:The Centre\, 10052-117 St. NW\, Edmonton\, Alberta\, T5K 1X2\, Canada
CATEGORIES:Lunch & Learn
ORGANIZER;CN="JDIC":MAILTO:programmer@jdicseniors.ca
END:VEVENT
BEGIN:VEVENT
DTSTART;TZID=America/Edmonton:20271026T120000
DTEND;TZID=America/Edmonton:20271026T130000
DTSTAMP:20260422T035320
CREATED:20250919T163523Z
LAST-MODIFIED:20260312T233702Z
UID:10004536-1824552000-1824555600@www.jdicseniors.ca
SUMMARY:Lunch & Learn
DESCRIPTION:Every Tuesday & Thursday 12p.m. – 1:00p.m. join us for Lunch & Learn program. Our lunch-and-learn program is a fantastic way to receive important information. All speakers are invited based on members’ requests for essential topics.
URL:https://www.jdicseniors.ca/event/lunch-learn-2/2027-10-26/
LOCATION:The Centre\, 10052-117 St. NW\, Edmonton\, Alberta\, T5K 1X2\, Canada
CATEGORIES:Lunch & Learn
ORGANIZER;CN="JDIC":MAILTO:programmer@jdicseniors.ca
END:VEVENT
BEGIN:VEVENT
DTSTART;TZID=America/Edmonton:20271027T120000
DTEND;TZID=America/Edmonton:20271027T150000
DTSTAMP:20260422T035320
CREATED:20250919T162427Z
LAST-MODIFIED:20260312T233156Z
UID:10003288-1824638400-1824649200@www.jdicseniors.ca
SUMMARY:Sunday Club on Wednesday Lunch & Learn
DESCRIPTION:Join our Sunday Club to enjoy traditional European cuisine and a special presentation about world art\, music\, literature and other topics (in Russian).
URL:https://www.jdicseniors.ca/event/sunday-club-on-wednesday-lunch-learn-2/2027-10-27/
LOCATION:The Centre\, 10052-117 St. NW\, Edmonton\, Alberta\, T5K 1X2\, Canada
CATEGORIES:Lunch & Learn
ORGANIZER;CN="JDIC":MAILTO:programmer@jdicseniors.ca
END:VEVENT
BEGIN:VEVENT
DTSTART;TZID=America/Edmonton:20271028T120000
DTEND;TZID=America/Edmonton:20271028T130000
DTSTAMP:20260422T035320
CREATED:20250919T163523Z
LAST-MODIFIED:20260312T233702Z
UID:10004537-1824724800-1824728400@www.jdicseniors.ca
SUMMARY:Lunch & Learn
DESCRIPTION:Every Tuesday & Thursday 12p.m. – 1:00p.m. join us for Lunch & Learn program. Our lunch-and-learn program is a fantastic way to receive important information. All speakers are invited based on members’ requests for essential topics.
URL:https://www.jdicseniors.ca/event/lunch-learn-2/2027-10-28/
LOCATION:The Centre\, 10052-117 St. NW\, Edmonton\, Alberta\, T5K 1X2\, Canada
CATEGORIES:Lunch & Learn
ORGANIZER;CN="JDIC":MAILTO:programmer@jdicseniors.ca
END:VEVENT
END:VCALENDAR