BEGIN:VCALENDAR
VERSION:2.0
PRODID:-//Jewish Senior Citizen’s Centre - ECPv6.15.17.1//NONSGML v1.0//EN
CALSCALE:GREGORIAN
METHOD:PUBLISH
X-ORIGINAL-URL:https://www.jdicseniors.ca
X-WR-CALDESC:Events for Jewish Senior Citizen’s Centre
REFRESH-INTERVAL;VALUE=DURATION:PT1H
X-Robots-Tag:noindex
X-PUBLISHED-TTL:PT1H
BEGIN:VTIMEZONE
TZID:America/Edmonton
BEGIN:DAYLIGHT
TZOFFSETFROM:-0700
TZOFFSETTO:-0600
TZNAME:MDT
DTSTART:20240310T090000
END:DAYLIGHT
BEGIN:STANDARD
TZOFFSETFROM:-0600
TZOFFSETTO:-0700
TZNAME:MST
DTSTART:20241103T080000
END:STANDARD
BEGIN:DAYLIGHT
TZOFFSETFROM:-0700
TZOFFSETTO:-0600
TZNAME:MDT
DTSTART:20250309T090000
END:DAYLIGHT
BEGIN:STANDARD
TZOFFSETFROM:-0600
TZOFFSETTO:-0700
TZNAME:MST
DTSTART:20251102T080000
END:STANDARD
BEGIN:DAYLIGHT
TZOFFSETFROM:-0700
TZOFFSETTO:-0600
TZNAME:MDT
DTSTART:20260308T090000
END:DAYLIGHT
BEGIN:STANDARD
TZOFFSETFROM:-0600
TZOFFSETTO:-0700
TZNAME:MST
DTSTART:20261101T080000
END:STANDARD
END:VTIMEZONE
BEGIN:VEVENT
DTSTART;TZID=America/Edmonton:20250910T120000
DTEND;TZID=America/Edmonton:20250910T150000
DTSTAMP:20260419T182026
CREATED:20250228T225818Z
LAST-MODIFIED:20250228T225818Z
UID:10003177-1757505600-1757516400@www.jdicseniors.ca
SUMMARY:Sunday Club on Wednesday Lunch & Learn
DESCRIPTION:Join our Sunday Club to enjoy traditional European cuisine and a special presentation about world art\, music\, literature and other topics (in Russian).
URL:https://www.jdicseniors.ca/event/sunday-club-on-wednesday-lunch-learn/2025-09-10/
LOCATION:The Centre\, 10052-117 St. NW\, Edmonton\, Alberta\, T5K 1X2\, Canada
CATEGORIES:Lunch & Learn
ORGANIZER;CN="JDIC":MAILTO:programmer@jdicseniors.ca
END:VEVENT
BEGIN:VEVENT
DTSTART;TZID=America/Edmonton:20250910T130000
DTEND;TZID=America/Edmonton:20250910T150000
DTSTAMP:20260419T182026
CREATED:20250125T203717Z
LAST-MODIFIED:20250228T225612Z
UID:10003095-1757509200-1757516400@www.jdicseniors.ca
SUMMARY:Not Boring Book Club
DESCRIPTION:Join our very talented Edmonton writer Debby Waldman to learn more about our unique Book Club. Join it and enjoy! \nMarch 12\, 1 pm: Sky Full of Elephants by Cebo Campbell \nApril 9: 10 AM (note the time): Songs for the Brokenhearted by Ayelet Tsabari\, who will be joining  the book club that day. \nMay 14\, 1 pm: James by Percival Everett \nPlease register with the Office to receive the Zoom link for meetings.
URL:https://www.jdicseniors.ca/event/not-boring-book-club/2025-09-10/
LOCATION:The Centre\, 10052-117 St. NW\, Edmonton\, Alberta\, T5K 1X2\, Canada
CATEGORIES:Lunch & Learn
ATTACH;FMTTYPE=image/jpeg:https://www.jdicseniors.ca/wp-content/uploads/2025/01/image.jpeg
ORGANIZER;CN="JDIC":MAILTO:programmer@jdicseniors.ca
END:VEVENT
END:VCALENDAR