BEGIN:VCALENDAR
VERSION:2.0
PRODID:-//Jewish Senior Citizen’s Centre - ECPv6.15.17.1//NONSGML v1.0//EN
CALSCALE:GREGORIAN
METHOD:PUBLISH
X-ORIGINAL-URL:https://www.jdicseniors.ca
X-WR-CALDESC:Events for Jewish Senior Citizen’s Centre
REFRESH-INTERVAL;VALUE=DURATION:PT1H
X-Robots-Tag:noindex
X-PUBLISHED-TTL:PT1H
BEGIN:VTIMEZONE
TZID:America/Edmonton
BEGIN:DAYLIGHT
TZOFFSETFROM:-0700
TZOFFSETTO:-0600
TZNAME:MDT
DTSTART:20280312T090000
END:DAYLIGHT
BEGIN:STANDARD
TZOFFSETFROM:-0600
TZOFFSETTO:-0700
TZNAME:MST
DTSTART:20281105T080000
END:STANDARD
BEGIN:DAYLIGHT
TZOFFSETFROM:-0700
TZOFFSETTO:-0600
TZNAME:MDT
DTSTART:20290311T090000
END:DAYLIGHT
BEGIN:STANDARD
TZOFFSETFROM:-0600
TZOFFSETTO:-0700
TZNAME:MST
DTSTART:20291104T080000
END:STANDARD
BEGIN:DAYLIGHT
TZOFFSETFROM:-0700
TZOFFSETTO:-0600
TZNAME:MDT
DTSTART:20300310T090000
END:DAYLIGHT
BEGIN:STANDARD
TZOFFSETFROM:-0600
TZOFFSETTO:-0700
TZNAME:MST
DTSTART:20301103T080000
END:STANDARD
END:VTIMEZONE
BEGIN:VEVENT
DTSTART;TZID=America/Edmonton:20290125T110000
DTEND;TZID=America/Edmonton:20290125T120000
DTSTAMP:20260423T043410
CREATED:20250919T163612Z
LAST-MODIFIED:20260312T233456Z
UID:10000364-1864033200-1864036800@www.jdicseniors.ca
SUMMARY:Muscle in Motion with Anna Kratochvil | In-person or Online
DESCRIPTION:Use Balls\, Bands & Weights to Exercise & Laugh\nThursdays @ 11:00a.m. \nhttps://us02web.Zoom.us/j/82287922466 \nFee: $7 drop-in or card of 10 classes $60
URL:https://www.jdicseniors.ca/event/muscle-in-motion-with-anna-kratochvil-2-2-2-2-2-2-2-2-2-2-2-2/2029-01-25/
LOCATION:Zoom
CATEGORIES:Health & Wellness
ATTACH;FMTTYPE=image/jpeg:https://www.jdicseniors.ca/wp-content/uploads/2023/12/PHOTO-2024-03-01-21-56-45.jpg
ORGANIZER;CN="JDIC":MAILTO:programmer@jdicseniors.ca
END:VEVENT
BEGIN:VEVENT
DTSTART;TZID=America/Edmonton:20290129T090000
DTEND;TZID=America/Edmonton:20290129T100000
DTSTAMP:20260423T043410
CREATED:20250919T163923Z
LAST-MODIFIED:20260324T145856Z
UID:10002703-1864371600-1864375200@www.jdicseniors.ca
SUMMARY:YOGA Classes | Online or In-Person
DESCRIPTION:YOGA Classes\nWe are looking forward to seeing all of you on Monday mornings at 9:00am to 10:00am.  \nMonday mornings @ 9:00a.m.–10:00a.m.\nOld and new faces are very WELCOME in-person & via Zoom! \nPlease register\nhttps://tinyurl.com/297jwcb4\n \nFee: $7 drop-in or card of 10 classes $60 \nInstructor:\n\nSandy Mah
URL:https://www.jdicseniors.ca/event/yoga-classes-2-2-4-2-2-2-2/2029-01-29/
LOCATION:Zoom
CATEGORIES:Health & Wellness
ATTACH;FMTTYPE=image/jpeg:https://www.jdicseniors.ca/wp-content/uploads/2023/12/pexels-mikhail-nilov-7530023.jpg
ORGANIZER;CN="JDIC":MAILTO:programmer@jdicseniors.ca
END:VEVENT
BEGIN:VEVENT
DTSTART;TZID=America/Edmonton:20290130T104500
DTEND;TZID=America/Edmonton:20290130T114500
DTSTAMP:20260423T043410
CREATED:20250919T163732Z
LAST-MODIFIED:20260312T232849Z
UID:10000895-1864464300-1864467900@www.jdicseniors.ca
SUMMARY:Use it or Lose it With Bonnie Austen | In-person or Online
DESCRIPTION:Use it or Lose it With Bonnie Austen\nCardio & Strength training\, Flexibility & Balance & Laugher \nTuesdays @10:45a.m.\nhttps://us02web.Zoom.us/j/89274775349 \nFee: $7 drop-in or card of 10 classes $60
URL:https://www.jdicseniors.ca/event/use-it-or-lose-it-with-bonnie-austen-2-2-2/2029-01-30/
LOCATION:Zoom
CATEGORIES:Health & Wellness
ATTACH;FMTTYPE=image/png:https://www.jdicseniors.ca/wp-content/uploads/2023/12/Screen-Shot-2023-12-04-at-4.45.12-PM.png
ORGANIZER;CN="JDIC":MAILTO:programmer@jdicseniors.ca
END:VEVENT
BEGIN:VEVENT
DTSTART;TZID=America/Edmonton:20290131T110000
DTEND;TZID=America/Edmonton:20290131T120000
DTSTAMP:20260423T043410
CREATED:20260324T145644Z
LAST-MODIFIED:20260325T141519Z
UID:10006113-1864551600-1864555200@www.jdicseniors.ca
SUMMARY:Tai Chi
DESCRIPTION:Join our Tai Chi Master\nTai Chi is performed as a gentle\, low-impact movement in which practitioners perform a series of deliberate\, flowing motions while focusing on deep\, slow breaths.  \nWednesdays @ 11a.m.\nFee: $7 drop-in or card of 10 classes $60
URL:https://www.jdicseniors.ca/event/tai-chi/2029-01-31/
LOCATION:The Centre\, 10052-117 St. NW\, Edmonton\, Alberta\, T5K 1X2\, Canada
CATEGORIES:Health & Wellness
ORGANIZER;CN="JDIC":MAILTO:programmer@jdicseniors.ca
END:VEVENT
BEGIN:VEVENT
DTSTART;TZID=America/Edmonton:20290201T110000
DTEND;TZID=America/Edmonton:20290201T120000
DTSTAMP:20260423T043410
CREATED:20250919T163612Z
LAST-MODIFIED:20260312T233456Z
UID:10000365-1864638000-1864641600@www.jdicseniors.ca
SUMMARY:Muscle in Motion with Anna Kratochvil | In-person or Online
DESCRIPTION:Use Balls\, Bands & Weights to Exercise & Laugh\nThursdays @ 11:00a.m. \nhttps://us02web.Zoom.us/j/82287922466 \nFee: $7 drop-in or card of 10 classes $60
URL:https://www.jdicseniors.ca/event/muscle-in-motion-with-anna-kratochvil-2-2-2-2-2-2-2-2-2-2-2-2/2029-02-01/
LOCATION:Zoom
CATEGORIES:Health & Wellness
ATTACH;FMTTYPE=image/jpeg:https://www.jdicseniors.ca/wp-content/uploads/2023/12/PHOTO-2024-03-01-21-56-45.jpg
ORGANIZER;CN="JDIC":MAILTO:programmer@jdicseniors.ca
END:VEVENT
BEGIN:VEVENT
DTSTART;TZID=America/Edmonton:20290205T090000
DTEND;TZID=America/Edmonton:20290205T100000
DTSTAMP:20260423T043410
CREATED:20250919T163923Z
LAST-MODIFIED:20260324T145856Z
UID:10002704-1864976400-1864980000@www.jdicseniors.ca
SUMMARY:YOGA Classes | Online or In-Person
DESCRIPTION:YOGA Classes\nWe are looking forward to seeing all of you on Monday mornings at 9:00am to 10:00am.  \nMonday mornings @ 9:00a.m.–10:00a.m.\nOld and new faces are very WELCOME in-person & via Zoom! \nPlease register\nhttps://tinyurl.com/297jwcb4\n \nFee: $7 drop-in or card of 10 classes $60 \nInstructor:\n\nSandy Mah
URL:https://www.jdicseniors.ca/event/yoga-classes-2-2-4-2-2-2-2/2029-02-05/
LOCATION:Zoom
CATEGORIES:Health & Wellness
ATTACH;FMTTYPE=image/jpeg:https://www.jdicseniors.ca/wp-content/uploads/2023/12/pexels-mikhail-nilov-7530023.jpg
ORGANIZER;CN="JDIC":MAILTO:programmer@jdicseniors.ca
END:VEVENT
BEGIN:VEVENT
DTSTART;TZID=America/Edmonton:20290206T104500
DTEND;TZID=America/Edmonton:20290206T114500
DTSTAMP:20260423T043410
CREATED:20250919T163732Z
LAST-MODIFIED:20260312T232849Z
UID:10000896-1865069100-1865072700@www.jdicseniors.ca
SUMMARY:Use it or Lose it With Bonnie Austen | In-person or Online
DESCRIPTION:Use it or Lose it With Bonnie Austen\nCardio & Strength training\, Flexibility & Balance & Laugher \nTuesdays @10:45a.m.\nhttps://us02web.Zoom.us/j/89274775349 \nFee: $7 drop-in or card of 10 classes $60
URL:https://www.jdicseniors.ca/event/use-it-or-lose-it-with-bonnie-austen-2-2-2/2029-02-06/
LOCATION:Zoom
CATEGORIES:Health & Wellness
ATTACH;FMTTYPE=image/png:https://www.jdicseniors.ca/wp-content/uploads/2023/12/Screen-Shot-2023-12-04-at-4.45.12-PM.png
ORGANIZER;CN="JDIC":MAILTO:programmer@jdicseniors.ca
END:VEVENT
BEGIN:VEVENT
DTSTART;TZID=America/Edmonton:20290207T110000
DTEND;TZID=America/Edmonton:20290207T120000
DTSTAMP:20260423T043410
CREATED:20260324T145644Z
LAST-MODIFIED:20260325T141519Z
UID:10006114-1865156400-1865160000@www.jdicseniors.ca
SUMMARY:Tai Chi
DESCRIPTION:Join our Tai Chi Master\nTai Chi is performed as a gentle\, low-impact movement in which practitioners perform a series of deliberate\, flowing motions while focusing on deep\, slow breaths.  \nWednesdays @ 11a.m.\nFee: $7 drop-in or card of 10 classes $60
URL:https://www.jdicseniors.ca/event/tai-chi/2029-02-07/
LOCATION:The Centre\, 10052-117 St. NW\, Edmonton\, Alberta\, T5K 1X2\, Canada
CATEGORIES:Health & Wellness
ORGANIZER;CN="JDIC":MAILTO:programmer@jdicseniors.ca
END:VEVENT
BEGIN:VEVENT
DTSTART;TZID=America/Edmonton:20290208T110000
DTEND;TZID=America/Edmonton:20290208T120000
DTSTAMP:20260423T043410
CREATED:20250919T163612Z
LAST-MODIFIED:20260312T233456Z
UID:10000366-1865242800-1865246400@www.jdicseniors.ca
SUMMARY:Muscle in Motion with Anna Kratochvil | In-person or Online
DESCRIPTION:Use Balls\, Bands & Weights to Exercise & Laugh\nThursdays @ 11:00a.m. \nhttps://us02web.Zoom.us/j/82287922466 \nFee: $7 drop-in or card of 10 classes $60
URL:https://www.jdicseniors.ca/event/muscle-in-motion-with-anna-kratochvil-2-2-2-2-2-2-2-2-2-2-2-2/2029-02-08/
LOCATION:Zoom
CATEGORIES:Health & Wellness
ATTACH;FMTTYPE=image/jpeg:https://www.jdicseniors.ca/wp-content/uploads/2023/12/PHOTO-2024-03-01-21-56-45.jpg
ORGANIZER;CN="JDIC":MAILTO:programmer@jdicseniors.ca
END:VEVENT
BEGIN:VEVENT
DTSTART;TZID=America/Edmonton:20290212T090000
DTEND;TZID=America/Edmonton:20290212T100000
DTSTAMP:20260423T043410
CREATED:20250919T163923Z
LAST-MODIFIED:20260324T145856Z
UID:10002705-1865581200-1865584800@www.jdicseniors.ca
SUMMARY:YOGA Classes | Online or In-Person
DESCRIPTION:YOGA Classes\nWe are looking forward to seeing all of you on Monday mornings at 9:00am to 10:00am.  \nMonday mornings @ 9:00a.m.–10:00a.m.\nOld and new faces are very WELCOME in-person & via Zoom! \nPlease register\nhttps://tinyurl.com/297jwcb4\n \nFee: $7 drop-in or card of 10 classes $60 \nInstructor:\n\nSandy Mah
URL:https://www.jdicseniors.ca/event/yoga-classes-2-2-4-2-2-2-2/2029-02-12/
LOCATION:Zoom
CATEGORIES:Health & Wellness
ATTACH;FMTTYPE=image/jpeg:https://www.jdicseniors.ca/wp-content/uploads/2023/12/pexels-mikhail-nilov-7530023.jpg
ORGANIZER;CN="JDIC":MAILTO:programmer@jdicseniors.ca
END:VEVENT
BEGIN:VEVENT
DTSTART;TZID=America/Edmonton:20290213T104500
DTEND;TZID=America/Edmonton:20290213T114500
DTSTAMP:20260423T043410
CREATED:20250919T163732Z
LAST-MODIFIED:20260312T232849Z
UID:10000897-1865673900-1865677500@www.jdicseniors.ca
SUMMARY:Use it or Lose it With Bonnie Austen | In-person or Online
DESCRIPTION:Use it or Lose it With Bonnie Austen\nCardio & Strength training\, Flexibility & Balance & Laugher \nTuesdays @10:45a.m.\nhttps://us02web.Zoom.us/j/89274775349 \nFee: $7 drop-in or card of 10 classes $60
URL:https://www.jdicseniors.ca/event/use-it-or-lose-it-with-bonnie-austen-2-2-2/2029-02-13/
LOCATION:Zoom
CATEGORIES:Health & Wellness
ATTACH;FMTTYPE=image/png:https://www.jdicseniors.ca/wp-content/uploads/2023/12/Screen-Shot-2023-12-04-at-4.45.12-PM.png
ORGANIZER;CN="JDIC":MAILTO:programmer@jdicseniors.ca
END:VEVENT
BEGIN:VEVENT
DTSTART;TZID=America/Edmonton:20290214T110000
DTEND;TZID=America/Edmonton:20290214T120000
DTSTAMP:20260423T043410
CREATED:20260324T145644Z
LAST-MODIFIED:20260325T141519Z
UID:10006115-1865761200-1865764800@www.jdicseniors.ca
SUMMARY:Tai Chi
DESCRIPTION:Join our Tai Chi Master\nTai Chi is performed as a gentle\, low-impact movement in which practitioners perform a series of deliberate\, flowing motions while focusing on deep\, slow breaths.  \nWednesdays @ 11a.m.\nFee: $7 drop-in or card of 10 classes $60
URL:https://www.jdicseniors.ca/event/tai-chi/2029-02-14/
LOCATION:The Centre\, 10052-117 St. NW\, Edmonton\, Alberta\, T5K 1X2\, Canada
CATEGORIES:Health & Wellness
ORGANIZER;CN="JDIC":MAILTO:programmer@jdicseniors.ca
END:VEVENT
BEGIN:VEVENT
DTSTART;TZID=America/Edmonton:20290215T110000
DTEND;TZID=America/Edmonton:20290215T120000
DTSTAMP:20260423T043410
CREATED:20250919T163612Z
LAST-MODIFIED:20260312T233456Z
UID:10000367-1865847600-1865851200@www.jdicseniors.ca
SUMMARY:Muscle in Motion with Anna Kratochvil | In-person or Online
DESCRIPTION:Use Balls\, Bands & Weights to Exercise & Laugh\nThursdays @ 11:00a.m. \nhttps://us02web.Zoom.us/j/82287922466 \nFee: $7 drop-in or card of 10 classes $60
URL:https://www.jdicseniors.ca/event/muscle-in-motion-with-anna-kratochvil-2-2-2-2-2-2-2-2-2-2-2-2/2029-02-15/
LOCATION:Zoom
CATEGORIES:Health & Wellness
ATTACH;FMTTYPE=image/jpeg:https://www.jdicseniors.ca/wp-content/uploads/2023/12/PHOTO-2024-03-01-21-56-45.jpg
ORGANIZER;CN="JDIC":MAILTO:programmer@jdicseniors.ca
END:VEVENT
BEGIN:VEVENT
DTSTART;TZID=America/Edmonton:20290219T090000
DTEND;TZID=America/Edmonton:20290219T100000
DTSTAMP:20260423T043410
CREATED:20250919T163923Z
LAST-MODIFIED:20260324T145856Z
UID:10002706-1866186000-1866189600@www.jdicseniors.ca
SUMMARY:YOGA Classes | Online or In-Person
DESCRIPTION:YOGA Classes\nWe are looking forward to seeing all of you on Monday mornings at 9:00am to 10:00am.  \nMonday mornings @ 9:00a.m.–10:00a.m.\nOld and new faces are very WELCOME in-person & via Zoom! \nPlease register\nhttps://tinyurl.com/297jwcb4\n \nFee: $7 drop-in or card of 10 classes $60 \nInstructor:\n\nSandy Mah
URL:https://www.jdicseniors.ca/event/yoga-classes-2-2-4-2-2-2-2/2029-02-19/
LOCATION:Zoom
CATEGORIES:Health & Wellness
ATTACH;FMTTYPE=image/jpeg:https://www.jdicseniors.ca/wp-content/uploads/2023/12/pexels-mikhail-nilov-7530023.jpg
ORGANIZER;CN="JDIC":MAILTO:programmer@jdicseniors.ca
END:VEVENT
BEGIN:VEVENT
DTSTART;TZID=America/Edmonton:20290220T104500
DTEND;TZID=America/Edmonton:20290220T114500
DTSTAMP:20260423T043410
CREATED:20250919T163732Z
LAST-MODIFIED:20260312T232849Z
UID:10000898-1866278700-1866282300@www.jdicseniors.ca
SUMMARY:Use it or Lose it With Bonnie Austen | In-person or Online
DESCRIPTION:Use it or Lose it With Bonnie Austen\nCardio & Strength training\, Flexibility & Balance & Laugher \nTuesdays @10:45a.m.\nhttps://us02web.Zoom.us/j/89274775349 \nFee: $7 drop-in or card of 10 classes $60
URL:https://www.jdicseniors.ca/event/use-it-or-lose-it-with-bonnie-austen-2-2-2/2029-02-20/
LOCATION:Zoom
CATEGORIES:Health & Wellness
ATTACH;FMTTYPE=image/png:https://www.jdicseniors.ca/wp-content/uploads/2023/12/Screen-Shot-2023-12-04-at-4.45.12-PM.png
ORGANIZER;CN="JDIC":MAILTO:programmer@jdicseniors.ca
END:VEVENT
BEGIN:VEVENT
DTSTART;TZID=America/Edmonton:20290221T110000
DTEND;TZID=America/Edmonton:20290221T120000
DTSTAMP:20260423T043410
CREATED:20260324T145644Z
LAST-MODIFIED:20260325T141519Z
UID:10006116-1866366000-1866369600@www.jdicseniors.ca
SUMMARY:Tai Chi
DESCRIPTION:Join our Tai Chi Master\nTai Chi is performed as a gentle\, low-impact movement in which practitioners perform a series of deliberate\, flowing motions while focusing on deep\, slow breaths.  \nWednesdays @ 11a.m.\nFee: $7 drop-in or card of 10 classes $60
URL:https://www.jdicseniors.ca/event/tai-chi/2029-02-21/
LOCATION:The Centre\, 10052-117 St. NW\, Edmonton\, Alberta\, T5K 1X2\, Canada
CATEGORIES:Health & Wellness
ORGANIZER;CN="JDIC":MAILTO:programmer@jdicseniors.ca
END:VEVENT
BEGIN:VEVENT
DTSTART;TZID=America/Edmonton:20290222T110000
DTEND;TZID=America/Edmonton:20290222T120000
DTSTAMP:20260423T043410
CREATED:20250919T163612Z
LAST-MODIFIED:20260312T233456Z
UID:10000368-1866452400-1866456000@www.jdicseniors.ca
SUMMARY:Muscle in Motion with Anna Kratochvil | In-person or Online
DESCRIPTION:Use Balls\, Bands & Weights to Exercise & Laugh\nThursdays @ 11:00a.m. \nhttps://us02web.Zoom.us/j/82287922466 \nFee: $7 drop-in or card of 10 classes $60
URL:https://www.jdicseniors.ca/event/muscle-in-motion-with-anna-kratochvil-2-2-2-2-2-2-2-2-2-2-2-2/2029-02-22/
LOCATION:Zoom
CATEGORIES:Health & Wellness
ATTACH;FMTTYPE=image/jpeg:https://www.jdicseniors.ca/wp-content/uploads/2023/12/PHOTO-2024-03-01-21-56-45.jpg
ORGANIZER;CN="JDIC":MAILTO:programmer@jdicseniors.ca
END:VEVENT
BEGIN:VEVENT
DTSTART;TZID=America/Edmonton:20290226T090000
DTEND;TZID=America/Edmonton:20290226T100000
DTSTAMP:20260423T043410
CREATED:20250919T163923Z
LAST-MODIFIED:20260324T145856Z
UID:10002707-1866790800-1866794400@www.jdicseniors.ca
SUMMARY:YOGA Classes | Online or In-Person
DESCRIPTION:YOGA Classes\nWe are looking forward to seeing all of you on Monday mornings at 9:00am to 10:00am.  \nMonday mornings @ 9:00a.m.–10:00a.m.\nOld and new faces are very WELCOME in-person & via Zoom! \nPlease register\nhttps://tinyurl.com/297jwcb4\n \nFee: $7 drop-in or card of 10 classes $60 \nInstructor:\n\nSandy Mah
URL:https://www.jdicseniors.ca/event/yoga-classes-2-2-4-2-2-2-2/2029-02-26/
LOCATION:Zoom
CATEGORIES:Health & Wellness
ATTACH;FMTTYPE=image/jpeg:https://www.jdicseniors.ca/wp-content/uploads/2023/12/pexels-mikhail-nilov-7530023.jpg
ORGANIZER;CN="JDIC":MAILTO:programmer@jdicseniors.ca
END:VEVENT
BEGIN:VEVENT
DTSTART;TZID=America/Edmonton:20290227T104500
DTEND;TZID=America/Edmonton:20290227T114500
DTSTAMP:20260423T043410
CREATED:20250919T163732Z
LAST-MODIFIED:20260312T232849Z
UID:10000899-1866883500-1866887100@www.jdicseniors.ca
SUMMARY:Use it or Lose it With Bonnie Austen | In-person or Online
DESCRIPTION:Use it or Lose it With Bonnie Austen\nCardio & Strength training\, Flexibility & Balance & Laugher \nTuesdays @10:45a.m.\nhttps://us02web.Zoom.us/j/89274775349 \nFee: $7 drop-in or card of 10 classes $60
URL:https://www.jdicseniors.ca/event/use-it-or-lose-it-with-bonnie-austen-2-2-2/2029-02-27/
LOCATION:Zoom
CATEGORIES:Health & Wellness
ATTACH;FMTTYPE=image/png:https://www.jdicseniors.ca/wp-content/uploads/2023/12/Screen-Shot-2023-12-04-at-4.45.12-PM.png
ORGANIZER;CN="JDIC":MAILTO:programmer@jdicseniors.ca
END:VEVENT
BEGIN:VEVENT
DTSTART;TZID=America/Edmonton:20290228T110000
DTEND;TZID=America/Edmonton:20290228T120000
DTSTAMP:20260423T043410
CREATED:20260324T145644Z
LAST-MODIFIED:20260325T141519Z
UID:10006117-1866970800-1866974400@www.jdicseniors.ca
SUMMARY:Tai Chi
DESCRIPTION:Join our Tai Chi Master\nTai Chi is performed as a gentle\, low-impact movement in which practitioners perform a series of deliberate\, flowing motions while focusing on deep\, slow breaths.  \nWednesdays @ 11a.m.\nFee: $7 drop-in or card of 10 classes $60
URL:https://www.jdicseniors.ca/event/tai-chi/2029-02-28/
LOCATION:The Centre\, 10052-117 St. NW\, Edmonton\, Alberta\, T5K 1X2\, Canada
CATEGORIES:Health & Wellness
ORGANIZER;CN="JDIC":MAILTO:programmer@jdicseniors.ca
END:VEVENT
BEGIN:VEVENT
DTSTART;TZID=America/Edmonton:20290301T110000
DTEND;TZID=America/Edmonton:20290301T120000
DTSTAMP:20260423T043410
CREATED:20250919T163612Z
LAST-MODIFIED:20260312T233456Z
UID:10000369-1867057200-1867060800@www.jdicseniors.ca
SUMMARY:Muscle in Motion with Anna Kratochvil | In-person or Online
DESCRIPTION:Use Balls\, Bands & Weights to Exercise & Laugh\nThursdays @ 11:00a.m. \nhttps://us02web.Zoom.us/j/82287922466 \nFee: $7 drop-in or card of 10 classes $60
URL:https://www.jdicseniors.ca/event/muscle-in-motion-with-anna-kratochvil-2-2-2-2-2-2-2-2-2-2-2-2/2029-03-01/
LOCATION:Zoom
CATEGORIES:Health & Wellness
ATTACH;FMTTYPE=image/jpeg:https://www.jdicseniors.ca/wp-content/uploads/2023/12/PHOTO-2024-03-01-21-56-45.jpg
ORGANIZER;CN="JDIC":MAILTO:programmer@jdicseniors.ca
END:VEVENT
BEGIN:VEVENT
DTSTART;TZID=America/Edmonton:20290305T090000
DTEND;TZID=America/Edmonton:20290305T100000
DTSTAMP:20260423T043410
CREATED:20250919T163923Z
LAST-MODIFIED:20260324T145856Z
UID:10002708-1867395600-1867399200@www.jdicseniors.ca
SUMMARY:YOGA Classes | Online or In-Person
DESCRIPTION:YOGA Classes\nWe are looking forward to seeing all of you on Monday mornings at 9:00am to 10:00am.  \nMonday mornings @ 9:00a.m.–10:00a.m.\nOld and new faces are very WELCOME in-person & via Zoom! \nPlease register\nhttps://tinyurl.com/297jwcb4\n \nFee: $7 drop-in or card of 10 classes $60 \nInstructor:\n\nSandy Mah
URL:https://www.jdicseniors.ca/event/yoga-classes-2-2-4-2-2-2-2/2029-03-05/
LOCATION:Zoom
CATEGORIES:Health & Wellness
ATTACH;FMTTYPE=image/jpeg:https://www.jdicseniors.ca/wp-content/uploads/2023/12/pexels-mikhail-nilov-7530023.jpg
ORGANIZER;CN="JDIC":MAILTO:programmer@jdicseniors.ca
END:VEVENT
BEGIN:VEVENT
DTSTART;TZID=America/Edmonton:20290306T104500
DTEND;TZID=America/Edmonton:20290306T114500
DTSTAMP:20260423T043410
CREATED:20250919T163732Z
LAST-MODIFIED:20260312T232849Z
UID:10000900-1867488300-1867491900@www.jdicseniors.ca
SUMMARY:Use it or Lose it With Bonnie Austen | In-person or Online
DESCRIPTION:Use it or Lose it With Bonnie Austen\nCardio & Strength training\, Flexibility & Balance & Laugher \nTuesdays @10:45a.m.\nhttps://us02web.Zoom.us/j/89274775349 \nFee: $7 drop-in or card of 10 classes $60
URL:https://www.jdicseniors.ca/event/use-it-or-lose-it-with-bonnie-austen-2-2-2/2029-03-06/
LOCATION:Zoom
CATEGORIES:Health & Wellness
ATTACH;FMTTYPE=image/png:https://www.jdicseniors.ca/wp-content/uploads/2023/12/Screen-Shot-2023-12-04-at-4.45.12-PM.png
ORGANIZER;CN="JDIC":MAILTO:programmer@jdicseniors.ca
END:VEVENT
BEGIN:VEVENT
DTSTART;TZID=America/Edmonton:20290307T110000
DTEND;TZID=America/Edmonton:20290307T120000
DTSTAMP:20260423T043410
CREATED:20260324T145644Z
LAST-MODIFIED:20260325T141519Z
UID:10006118-1867575600-1867579200@www.jdicseniors.ca
SUMMARY:Tai Chi
DESCRIPTION:Join our Tai Chi Master\nTai Chi is performed as a gentle\, low-impact movement in which practitioners perform a series of deliberate\, flowing motions while focusing on deep\, slow breaths.  \nWednesdays @ 11a.m.\nFee: $7 drop-in or card of 10 classes $60
URL:https://www.jdicseniors.ca/event/tai-chi/2029-03-07/
LOCATION:The Centre\, 10052-117 St. NW\, Edmonton\, Alberta\, T5K 1X2\, Canada
CATEGORIES:Health & Wellness
ORGANIZER;CN="JDIC":MAILTO:programmer@jdicseniors.ca
END:VEVENT
BEGIN:VEVENT
DTSTART;TZID=America/Edmonton:20290308T110000
DTEND;TZID=America/Edmonton:20290308T120000
DTSTAMP:20260423T043410
CREATED:20250919T163612Z
LAST-MODIFIED:20260312T233456Z
UID:10000370-1867662000-1867665600@www.jdicseniors.ca
SUMMARY:Muscle in Motion with Anna Kratochvil | In-person or Online
DESCRIPTION:Use Balls\, Bands & Weights to Exercise & Laugh\nThursdays @ 11:00a.m. \nhttps://us02web.Zoom.us/j/82287922466 \nFee: $7 drop-in or card of 10 classes $60
URL:https://www.jdicseniors.ca/event/muscle-in-motion-with-anna-kratochvil-2-2-2-2-2-2-2-2-2-2-2-2/2029-03-08/
LOCATION:Zoom
CATEGORIES:Health & Wellness
ATTACH;FMTTYPE=image/jpeg:https://www.jdicseniors.ca/wp-content/uploads/2023/12/PHOTO-2024-03-01-21-56-45.jpg
ORGANIZER;CN="JDIC":MAILTO:programmer@jdicseniors.ca
END:VEVENT
BEGIN:VEVENT
DTSTART;TZID=America/Edmonton:20290312T090000
DTEND;TZID=America/Edmonton:20290312T100000
DTSTAMP:20260423T043410
CREATED:20250919T163923Z
LAST-MODIFIED:20260324T145856Z
UID:10002709-1868000400-1868004000@www.jdicseniors.ca
SUMMARY:YOGA Classes | Online or In-Person
DESCRIPTION:YOGA Classes\nWe are looking forward to seeing all of you on Monday mornings at 9:00am to 10:00am.  \nMonday mornings @ 9:00a.m.–10:00a.m.\nOld and new faces are very WELCOME in-person & via Zoom! \nPlease register\nhttps://tinyurl.com/297jwcb4\n \nFee: $7 drop-in or card of 10 classes $60 \nInstructor:\n\nSandy Mah
URL:https://www.jdicseniors.ca/event/yoga-classes-2-2-4-2-2-2-2/2029-03-12/
LOCATION:Zoom
CATEGORIES:Health & Wellness
ATTACH;FMTTYPE=image/jpeg:https://www.jdicseniors.ca/wp-content/uploads/2023/12/pexels-mikhail-nilov-7530023.jpg
ORGANIZER;CN="JDIC":MAILTO:programmer@jdicseniors.ca
END:VEVENT
BEGIN:VEVENT
DTSTART;TZID=America/Edmonton:20290313T104500
DTEND;TZID=America/Edmonton:20290313T114500
DTSTAMP:20260423T043410
CREATED:20250919T163732Z
LAST-MODIFIED:20260312T232849Z
UID:10000901-1868093100-1868096700@www.jdicseniors.ca
SUMMARY:Use it or Lose it With Bonnie Austen | In-person or Online
DESCRIPTION:Use it or Lose it With Bonnie Austen\nCardio & Strength training\, Flexibility & Balance & Laugher \nTuesdays @10:45a.m.\nhttps://us02web.Zoom.us/j/89274775349 \nFee: $7 drop-in or card of 10 classes $60
URL:https://www.jdicseniors.ca/event/use-it-or-lose-it-with-bonnie-austen-2-2-2/2029-03-13/
LOCATION:Zoom
CATEGORIES:Health & Wellness
ATTACH;FMTTYPE=image/png:https://www.jdicseniors.ca/wp-content/uploads/2023/12/Screen-Shot-2023-12-04-at-4.45.12-PM.png
ORGANIZER;CN="JDIC":MAILTO:programmer@jdicseniors.ca
END:VEVENT
BEGIN:VEVENT
DTSTART;TZID=America/Edmonton:20290314T110000
DTEND;TZID=America/Edmonton:20290314T120000
DTSTAMP:20260423T043410
CREATED:20260324T145644Z
LAST-MODIFIED:20260325T141519Z
UID:10006119-1868180400-1868184000@www.jdicseniors.ca
SUMMARY:Tai Chi
DESCRIPTION:Join our Tai Chi Master\nTai Chi is performed as a gentle\, low-impact movement in which practitioners perform a series of deliberate\, flowing motions while focusing on deep\, slow breaths.  \nWednesdays @ 11a.m.\nFee: $7 drop-in or card of 10 classes $60
URL:https://www.jdicseniors.ca/event/tai-chi/2029-03-14/
LOCATION:The Centre\, 10052-117 St. NW\, Edmonton\, Alberta\, T5K 1X2\, Canada
CATEGORIES:Health & Wellness
ORGANIZER;CN="JDIC":MAILTO:programmer@jdicseniors.ca
END:VEVENT
BEGIN:VEVENT
DTSTART;TZID=America/Edmonton:20290315T110000
DTEND;TZID=America/Edmonton:20290315T120000
DTSTAMP:20260423T043410
CREATED:20250919T163612Z
LAST-MODIFIED:20260312T233456Z
UID:10000371-1868266800-1868270400@www.jdicseniors.ca
SUMMARY:Muscle in Motion with Anna Kratochvil | In-person or Online
DESCRIPTION:Use Balls\, Bands & Weights to Exercise & Laugh\nThursdays @ 11:00a.m. \nhttps://us02web.Zoom.us/j/82287922466 \nFee: $7 drop-in or card of 10 classes $60
URL:https://www.jdicseniors.ca/event/muscle-in-motion-with-anna-kratochvil-2-2-2-2-2-2-2-2-2-2-2-2/2029-03-15/
LOCATION:Zoom
CATEGORIES:Health & Wellness
ATTACH;FMTTYPE=image/jpeg:https://www.jdicseniors.ca/wp-content/uploads/2023/12/PHOTO-2024-03-01-21-56-45.jpg
ORGANIZER;CN="JDIC":MAILTO:programmer@jdicseniors.ca
END:VEVENT
BEGIN:VEVENT
DTSTART;TZID=America/Edmonton:20290319T090000
DTEND;TZID=America/Edmonton:20290319T100000
DTSTAMP:20260423T043410
CREATED:20250919T163923Z
LAST-MODIFIED:20260324T145856Z
UID:10002710-1868605200-1868608800@www.jdicseniors.ca
SUMMARY:YOGA Classes | Online or In-Person
DESCRIPTION:YOGA Classes\nWe are looking forward to seeing all of you on Monday mornings at 9:00am to 10:00am.  \nMonday mornings @ 9:00a.m.–10:00a.m.\nOld and new faces are very WELCOME in-person & via Zoom! \nPlease register\nhttps://tinyurl.com/297jwcb4\n \nFee: $7 drop-in or card of 10 classes $60 \nInstructor:\n\nSandy Mah
URL:https://www.jdicseniors.ca/event/yoga-classes-2-2-4-2-2-2-2/2029-03-19/
LOCATION:Zoom
CATEGORIES:Health & Wellness
ATTACH;FMTTYPE=image/jpeg:https://www.jdicseniors.ca/wp-content/uploads/2023/12/pexels-mikhail-nilov-7530023.jpg
ORGANIZER;CN="JDIC":MAILTO:programmer@jdicseniors.ca
END:VEVENT
END:VCALENDAR