BEGIN:VCALENDAR
VERSION:2.0
PRODID:-//Jewish Senior Citizen’s Centre - ECPv6.15.17.1//NONSGML v1.0//EN
CALSCALE:GREGORIAN
METHOD:PUBLISH
X-WR-CALNAME:Jewish Senior Citizen’s Centre
X-ORIGINAL-URL:https://www.jdicseniors.ca
X-WR-CALDESC:Events for Jewish Senior Citizen’s Centre
REFRESH-INTERVAL;VALUE=DURATION:PT1H
X-Robots-Tag:noindex
X-PUBLISHED-TTL:PT1H
BEGIN:VTIMEZONE
TZID:America/Edmonton
BEGIN:DAYLIGHT
TZOFFSETFROM:-0700
TZOFFSETTO:-0600
TZNAME:MDT
DTSTART:20270314T090000
END:DAYLIGHT
BEGIN:STANDARD
TZOFFSETFROM:-0600
TZOFFSETTO:-0700
TZNAME:MST
DTSTART:20271107T080000
END:STANDARD
BEGIN:DAYLIGHT
TZOFFSETFROM:-0700
TZOFFSETTO:-0600
TZNAME:MDT
DTSTART:20280312T090000
END:DAYLIGHT
BEGIN:STANDARD
TZOFFSETFROM:-0600
TZOFFSETTO:-0700
TZNAME:MST
DTSTART:20281105T080000
END:STANDARD
BEGIN:DAYLIGHT
TZOFFSETFROM:-0700
TZOFFSETTO:-0600
TZNAME:MDT
DTSTART:20290311T090000
END:DAYLIGHT
BEGIN:STANDARD
TZOFFSETFROM:-0600
TZOFFSETTO:-0700
TZNAME:MST
DTSTART:20291104T080000
END:STANDARD
END:VTIMEZONE
BEGIN:VEVENT
DTSTART;TZID=America/Edmonton:20280517T110000
DTEND;TZID=America/Edmonton:20280517T120000
DTSTAMP:20260422T085202
CREATED:20260324T145644Z
LAST-MODIFIED:20260325T141519Z
UID:10006076-1842174000-1842177600@www.jdicseniors.ca
SUMMARY:Tai Chi
DESCRIPTION:Join our Tai Chi Master\nTai Chi is performed as a gentle\, low-impact movement in which practitioners perform a series of deliberate\, flowing motions while focusing on deep\, slow breaths.  \nWednesdays @ 11a.m.\nFee: $7 drop-in or card of 10 classes $60
URL:https://www.jdicseniors.ca/event/tai-chi/2028-05-17/
LOCATION:The Centre\, 10052-117 St. NW\, Edmonton\, Alberta\, T5K 1X2\, Canada
CATEGORIES:Health & Wellness
ORGANIZER;CN="JDIC":MAILTO:programmer@jdicseniors.ca
END:VEVENT
BEGIN:VEVENT
DTSTART;TZID=America/Edmonton:20280518T110000
DTEND;TZID=America/Edmonton:20280518T120000
DTSTAMP:20260422T085202
CREATED:20250919T163612Z
LAST-MODIFIED:20260312T233456Z
UID:10000328-1842260400-1842264000@www.jdicseniors.ca
SUMMARY:Muscle in Motion with Anna Kratochvil | In-person or Online
DESCRIPTION:Use Balls\, Bands & Weights to Exercise & Laugh\nThursdays @ 11:00a.m. \nhttps://us02web.Zoom.us/j/82287922466 \nFee: $7 drop-in or card of 10 classes $60
URL:https://www.jdicseniors.ca/event/muscle-in-motion-with-anna-kratochvil-2-2-2-2-2-2-2-2-2-2-2-2/2028-05-18/
LOCATION:Zoom
CATEGORIES:Health & Wellness
ATTACH;FMTTYPE=image/jpeg:https://www.jdicseniors.ca/wp-content/uploads/2023/12/PHOTO-2024-03-01-21-56-45.jpg
ORGANIZER;CN="JDIC":MAILTO:programmer@jdicseniors.ca
END:VEVENT
BEGIN:VEVENT
DTSTART;TZID=America/Edmonton:20280522T090000
DTEND;TZID=America/Edmonton:20280522T100000
DTSTAMP:20260422T085202
CREATED:20250919T163923Z
LAST-MODIFIED:20260324T145856Z
UID:10002667-1842598800-1842602400@www.jdicseniors.ca
SUMMARY:YOGA Classes | Online or In-Person
DESCRIPTION:YOGA Classes\nWe are looking forward to seeing all of you on Monday mornings at 9:00am to 10:00am.  \nMonday mornings @ 9:00a.m.–10:00a.m.\nOld and new faces are very WELCOME in-person & via Zoom! \nPlease register\nhttps://tinyurl.com/297jwcb4\n \nFee: $7 drop-in or card of 10 classes $60 \nInstructor:\n\nSandy Mah
URL:https://www.jdicseniors.ca/event/yoga-classes-2-2-4-2-2-2-2/2028-05-22/
LOCATION:Zoom
CATEGORIES:Health & Wellness
ATTACH;FMTTYPE=image/jpeg:https://www.jdicseniors.ca/wp-content/uploads/2023/12/pexels-mikhail-nilov-7530023.jpg
ORGANIZER;CN="JDIC":MAILTO:programmer@jdicseniors.ca
END:VEVENT
BEGIN:VEVENT
DTSTART;TZID=America/Edmonton:20280523T104500
DTEND;TZID=America/Edmonton:20280523T114500
DTSTAMP:20260422T085202
CREATED:20250919T163732Z
LAST-MODIFIED:20260312T232849Z
UID:10000859-1842691500-1842695100@www.jdicseniors.ca
SUMMARY:Use it or Lose it With Bonnie Austen | In-person or Online
DESCRIPTION:Use it or Lose it With Bonnie Austen\nCardio & Strength training\, Flexibility & Balance & Laugher \nTuesdays @10:45a.m.\nhttps://us02web.Zoom.us/j/89274775349 \nFee: $7 drop-in or card of 10 classes $60
URL:https://www.jdicseniors.ca/event/use-it-or-lose-it-with-bonnie-austen-2-2-2/2028-05-23/
LOCATION:Zoom
CATEGORIES:Health & Wellness
ATTACH;FMTTYPE=image/png:https://www.jdicseniors.ca/wp-content/uploads/2023/12/Screen-Shot-2023-12-04-at-4.45.12-PM.png
ORGANIZER;CN="JDIC":MAILTO:programmer@jdicseniors.ca
END:VEVENT
BEGIN:VEVENT
DTSTART;TZID=America/Edmonton:20280524T110000
DTEND;TZID=America/Edmonton:20280524T120000
DTSTAMP:20260422T085202
CREATED:20260324T145644Z
LAST-MODIFIED:20260325T141519Z
UID:10006077-1842778800-1842782400@www.jdicseniors.ca
SUMMARY:Tai Chi
DESCRIPTION:Join our Tai Chi Master\nTai Chi is performed as a gentle\, low-impact movement in which practitioners perform a series of deliberate\, flowing motions while focusing on deep\, slow breaths.  \nWednesdays @ 11a.m.\nFee: $7 drop-in or card of 10 classes $60
URL:https://www.jdicseniors.ca/event/tai-chi/2028-05-24/
LOCATION:The Centre\, 10052-117 St. NW\, Edmonton\, Alberta\, T5K 1X2\, Canada
CATEGORIES:Health & Wellness
ORGANIZER;CN="JDIC":MAILTO:programmer@jdicseniors.ca
END:VEVENT
BEGIN:VEVENT
DTSTART;TZID=America/Edmonton:20280525T110000
DTEND;TZID=America/Edmonton:20280525T120000
DTSTAMP:20260422T085202
CREATED:20250919T163612Z
LAST-MODIFIED:20260312T233456Z
UID:10000329-1842865200-1842868800@www.jdicseniors.ca
SUMMARY:Muscle in Motion with Anna Kratochvil | In-person or Online
DESCRIPTION:Use Balls\, Bands & Weights to Exercise & Laugh\nThursdays @ 11:00a.m. \nhttps://us02web.Zoom.us/j/82287922466 \nFee: $7 drop-in or card of 10 classes $60
URL:https://www.jdicseniors.ca/event/muscle-in-motion-with-anna-kratochvil-2-2-2-2-2-2-2-2-2-2-2-2/2028-05-25/
LOCATION:Zoom
CATEGORIES:Health & Wellness
ATTACH;FMTTYPE=image/jpeg:https://www.jdicseniors.ca/wp-content/uploads/2023/12/PHOTO-2024-03-01-21-56-45.jpg
ORGANIZER;CN="JDIC":MAILTO:programmer@jdicseniors.ca
END:VEVENT
BEGIN:VEVENT
DTSTART;TZID=America/Edmonton:20280529T090000
DTEND;TZID=America/Edmonton:20280529T100000
DTSTAMP:20260422T085202
CREATED:20250919T163923Z
LAST-MODIFIED:20260324T145856Z
UID:10002668-1843203600-1843207200@www.jdicseniors.ca
SUMMARY:YOGA Classes | Online or In-Person
DESCRIPTION:YOGA Classes\nWe are looking forward to seeing all of you on Monday mornings at 9:00am to 10:00am.  \nMonday mornings @ 9:00a.m.–10:00a.m.\nOld and new faces are very WELCOME in-person & via Zoom! \nPlease register\nhttps://tinyurl.com/297jwcb4\n \nFee: $7 drop-in or card of 10 classes $60 \nInstructor:\n\nSandy Mah
URL:https://www.jdicseniors.ca/event/yoga-classes-2-2-4-2-2-2-2/2028-05-29/
LOCATION:Zoom
CATEGORIES:Health & Wellness
ATTACH;FMTTYPE=image/jpeg:https://www.jdicseniors.ca/wp-content/uploads/2023/12/pexels-mikhail-nilov-7530023.jpg
ORGANIZER;CN="JDIC":MAILTO:programmer@jdicseniors.ca
END:VEVENT
BEGIN:VEVENT
DTSTART;TZID=America/Edmonton:20280530T104500
DTEND;TZID=America/Edmonton:20280530T114500
DTSTAMP:20260422T085202
CREATED:20250919T163732Z
LAST-MODIFIED:20260312T232849Z
UID:10000860-1843296300-1843299900@www.jdicseniors.ca
SUMMARY:Use it or Lose it With Bonnie Austen | In-person or Online
DESCRIPTION:Use it or Lose it With Bonnie Austen\nCardio & Strength training\, Flexibility & Balance & Laugher \nTuesdays @10:45a.m.\nhttps://us02web.Zoom.us/j/89274775349 \nFee: $7 drop-in or card of 10 classes $60
URL:https://www.jdicseniors.ca/event/use-it-or-lose-it-with-bonnie-austen-2-2-2/2028-05-30/
LOCATION:Zoom
CATEGORIES:Health & Wellness
ATTACH;FMTTYPE=image/png:https://www.jdicseniors.ca/wp-content/uploads/2023/12/Screen-Shot-2023-12-04-at-4.45.12-PM.png
ORGANIZER;CN="JDIC":MAILTO:programmer@jdicseniors.ca
END:VEVENT
BEGIN:VEVENT
DTSTART;TZID=America/Edmonton:20280531T110000
DTEND;TZID=America/Edmonton:20280531T120000
DTSTAMP:20260422T085202
CREATED:20260324T145644Z
LAST-MODIFIED:20260325T141519Z
UID:10006078-1843383600-1843387200@www.jdicseniors.ca
SUMMARY:Tai Chi
DESCRIPTION:Join our Tai Chi Master\nTai Chi is performed as a gentle\, low-impact movement in which practitioners perform a series of deliberate\, flowing motions while focusing on deep\, slow breaths.  \nWednesdays @ 11a.m.\nFee: $7 drop-in or card of 10 classes $60
URL:https://www.jdicseniors.ca/event/tai-chi/2028-05-31/
LOCATION:The Centre\, 10052-117 St. NW\, Edmonton\, Alberta\, T5K 1X2\, Canada
CATEGORIES:Health & Wellness
ORGANIZER;CN="JDIC":MAILTO:programmer@jdicseniors.ca
END:VEVENT
BEGIN:VEVENT
DTSTART;TZID=America/Edmonton:20280601T110000
DTEND;TZID=America/Edmonton:20280601T120000
DTSTAMP:20260422T085202
CREATED:20250919T163612Z
LAST-MODIFIED:20260312T233456Z
UID:10000330-1843470000-1843473600@www.jdicseniors.ca
SUMMARY:Muscle in Motion with Anna Kratochvil | In-person or Online
DESCRIPTION:Use Balls\, Bands & Weights to Exercise & Laugh\nThursdays @ 11:00a.m. \nhttps://us02web.Zoom.us/j/82287922466 \nFee: $7 drop-in or card of 10 classes $60
URL:https://www.jdicseniors.ca/event/muscle-in-motion-with-anna-kratochvil-2-2-2-2-2-2-2-2-2-2-2-2/2028-06-01/
LOCATION:Zoom
CATEGORIES:Health & Wellness
ATTACH;FMTTYPE=image/jpeg:https://www.jdicseniors.ca/wp-content/uploads/2023/12/PHOTO-2024-03-01-21-56-45.jpg
ORGANIZER;CN="JDIC":MAILTO:programmer@jdicseniors.ca
END:VEVENT
BEGIN:VEVENT
DTSTART;TZID=America/Edmonton:20280605T090000
DTEND;TZID=America/Edmonton:20280605T100000
DTSTAMP:20260422T085202
CREATED:20250919T163923Z
LAST-MODIFIED:20260324T145856Z
UID:10002669-1843808400-1843812000@www.jdicseniors.ca
SUMMARY:YOGA Classes | Online or In-Person
DESCRIPTION:YOGA Classes\nWe are looking forward to seeing all of you on Monday mornings at 9:00am to 10:00am.  \nMonday mornings @ 9:00a.m.–10:00a.m.\nOld and new faces are very WELCOME in-person & via Zoom! \nPlease register\nhttps://tinyurl.com/297jwcb4\n \nFee: $7 drop-in or card of 10 classes $60 \nInstructor:\n\nSandy Mah
URL:https://www.jdicseniors.ca/event/yoga-classes-2-2-4-2-2-2-2/2028-06-05/
LOCATION:Zoom
CATEGORIES:Health & Wellness
ATTACH;FMTTYPE=image/jpeg:https://www.jdicseniors.ca/wp-content/uploads/2023/12/pexels-mikhail-nilov-7530023.jpg
ORGANIZER;CN="JDIC":MAILTO:programmer@jdicseniors.ca
END:VEVENT
BEGIN:VEVENT
DTSTART;TZID=America/Edmonton:20280606T104500
DTEND;TZID=America/Edmonton:20280606T114500
DTSTAMP:20260422T085202
CREATED:20250919T163732Z
LAST-MODIFIED:20260312T232849Z
UID:10000861-1843901100-1843904700@www.jdicseniors.ca
SUMMARY:Use it or Lose it With Bonnie Austen | In-person or Online
DESCRIPTION:Use it or Lose it With Bonnie Austen\nCardio & Strength training\, Flexibility & Balance & Laugher \nTuesdays @10:45a.m.\nhttps://us02web.Zoom.us/j/89274775349 \nFee: $7 drop-in or card of 10 classes $60
URL:https://www.jdicseniors.ca/event/use-it-or-lose-it-with-bonnie-austen-2-2-2/2028-06-06/
LOCATION:Zoom
CATEGORIES:Health & Wellness
ATTACH;FMTTYPE=image/png:https://www.jdicseniors.ca/wp-content/uploads/2023/12/Screen-Shot-2023-12-04-at-4.45.12-PM.png
ORGANIZER;CN="JDIC":MAILTO:programmer@jdicseniors.ca
END:VEVENT
BEGIN:VEVENT
DTSTART;TZID=America/Edmonton:20280607T110000
DTEND;TZID=America/Edmonton:20280607T120000
DTSTAMP:20260422T085202
CREATED:20260324T145644Z
LAST-MODIFIED:20260325T141519Z
UID:10006079-1843988400-1843992000@www.jdicseniors.ca
SUMMARY:Tai Chi
DESCRIPTION:Join our Tai Chi Master\nTai Chi is performed as a gentle\, low-impact movement in which practitioners perform a series of deliberate\, flowing motions while focusing on deep\, slow breaths.  \nWednesdays @ 11a.m.\nFee: $7 drop-in or card of 10 classes $60
URL:https://www.jdicseniors.ca/event/tai-chi/2028-06-07/
LOCATION:The Centre\, 10052-117 St. NW\, Edmonton\, Alberta\, T5K 1X2\, Canada
CATEGORIES:Health & Wellness
ORGANIZER;CN="JDIC":MAILTO:programmer@jdicseniors.ca
END:VEVENT
BEGIN:VEVENT
DTSTART;TZID=America/Edmonton:20280608T110000
DTEND;TZID=America/Edmonton:20280608T120000
DTSTAMP:20260422T085202
CREATED:20250919T163612Z
LAST-MODIFIED:20260312T233456Z
UID:10000331-1844074800-1844078400@www.jdicseniors.ca
SUMMARY:Muscle in Motion with Anna Kratochvil | In-person or Online
DESCRIPTION:Use Balls\, Bands & Weights to Exercise & Laugh\nThursdays @ 11:00a.m. \nhttps://us02web.Zoom.us/j/82287922466 \nFee: $7 drop-in or card of 10 classes $60
URL:https://www.jdicseniors.ca/event/muscle-in-motion-with-anna-kratochvil-2-2-2-2-2-2-2-2-2-2-2-2/2028-06-08/
LOCATION:Zoom
CATEGORIES:Health & Wellness
ATTACH;FMTTYPE=image/jpeg:https://www.jdicseniors.ca/wp-content/uploads/2023/12/PHOTO-2024-03-01-21-56-45.jpg
ORGANIZER;CN="JDIC":MAILTO:programmer@jdicseniors.ca
END:VEVENT
BEGIN:VEVENT
DTSTART;TZID=America/Edmonton:20280612T090000
DTEND;TZID=America/Edmonton:20280612T100000
DTSTAMP:20260422T085202
CREATED:20250919T163923Z
LAST-MODIFIED:20260324T145856Z
UID:10002670-1844413200-1844416800@www.jdicseniors.ca
SUMMARY:YOGA Classes | Online or In-Person
DESCRIPTION:YOGA Classes\nWe are looking forward to seeing all of you on Monday mornings at 9:00am to 10:00am.  \nMonday mornings @ 9:00a.m.–10:00a.m.\nOld and new faces are very WELCOME in-person & via Zoom! \nPlease register\nhttps://tinyurl.com/297jwcb4\n \nFee: $7 drop-in or card of 10 classes $60 \nInstructor:\n\nSandy Mah
URL:https://www.jdicseniors.ca/event/yoga-classes-2-2-4-2-2-2-2/2028-06-12/
LOCATION:Zoom
CATEGORIES:Health & Wellness
ATTACH;FMTTYPE=image/jpeg:https://www.jdicseniors.ca/wp-content/uploads/2023/12/pexels-mikhail-nilov-7530023.jpg
ORGANIZER;CN="JDIC":MAILTO:programmer@jdicseniors.ca
END:VEVENT
BEGIN:VEVENT
DTSTART;TZID=America/Edmonton:20280613T104500
DTEND;TZID=America/Edmonton:20280613T114500
DTSTAMP:20260422T085202
CREATED:20250919T163732Z
LAST-MODIFIED:20260312T232849Z
UID:10000862-1844505900-1844509500@www.jdicseniors.ca
SUMMARY:Use it or Lose it With Bonnie Austen | In-person or Online
DESCRIPTION:Use it or Lose it With Bonnie Austen\nCardio & Strength training\, Flexibility & Balance & Laugher \nTuesdays @10:45a.m.\nhttps://us02web.Zoom.us/j/89274775349 \nFee: $7 drop-in or card of 10 classes $60
URL:https://www.jdicseniors.ca/event/use-it-or-lose-it-with-bonnie-austen-2-2-2/2028-06-13/
LOCATION:Zoom
CATEGORIES:Health & Wellness
ATTACH;FMTTYPE=image/png:https://www.jdicseniors.ca/wp-content/uploads/2023/12/Screen-Shot-2023-12-04-at-4.45.12-PM.png
ORGANIZER;CN="JDIC":MAILTO:programmer@jdicseniors.ca
END:VEVENT
BEGIN:VEVENT
DTSTART;TZID=America/Edmonton:20280614T110000
DTEND;TZID=America/Edmonton:20280614T120000
DTSTAMP:20260422T085202
CREATED:20260324T145644Z
LAST-MODIFIED:20260325T141519Z
UID:10006080-1844593200-1844596800@www.jdicseniors.ca
SUMMARY:Tai Chi
DESCRIPTION:Join our Tai Chi Master\nTai Chi is performed as a gentle\, low-impact movement in which practitioners perform a series of deliberate\, flowing motions while focusing on deep\, slow breaths.  \nWednesdays @ 11a.m.\nFee: $7 drop-in or card of 10 classes $60
URL:https://www.jdicseniors.ca/event/tai-chi/2028-06-14/
LOCATION:The Centre\, 10052-117 St. NW\, Edmonton\, Alberta\, T5K 1X2\, Canada
CATEGORIES:Health & Wellness
ORGANIZER;CN="JDIC":MAILTO:programmer@jdicseniors.ca
END:VEVENT
BEGIN:VEVENT
DTSTART;TZID=America/Edmonton:20280615T110000
DTEND;TZID=America/Edmonton:20280615T120000
DTSTAMP:20260422T085202
CREATED:20250919T163612Z
LAST-MODIFIED:20260312T233456Z
UID:10000332-1844679600-1844683200@www.jdicseniors.ca
SUMMARY:Muscle in Motion with Anna Kratochvil | In-person or Online
DESCRIPTION:Use Balls\, Bands & Weights to Exercise & Laugh\nThursdays @ 11:00a.m. \nhttps://us02web.Zoom.us/j/82287922466 \nFee: $7 drop-in or card of 10 classes $60
URL:https://www.jdicseniors.ca/event/muscle-in-motion-with-anna-kratochvil-2-2-2-2-2-2-2-2-2-2-2-2/2028-06-15/
LOCATION:Zoom
CATEGORIES:Health & Wellness
ATTACH;FMTTYPE=image/jpeg:https://www.jdicseniors.ca/wp-content/uploads/2023/12/PHOTO-2024-03-01-21-56-45.jpg
ORGANIZER;CN="JDIC":MAILTO:programmer@jdicseniors.ca
END:VEVENT
BEGIN:VEVENT
DTSTART;TZID=America/Edmonton:20280619T090000
DTEND;TZID=America/Edmonton:20280619T100000
DTSTAMP:20260422T085202
CREATED:20250919T163923Z
LAST-MODIFIED:20260324T145856Z
UID:10002671-1845018000-1845021600@www.jdicseniors.ca
SUMMARY:YOGA Classes | Online or In-Person
DESCRIPTION:YOGA Classes\nWe are looking forward to seeing all of you on Monday mornings at 9:00am to 10:00am.  \nMonday mornings @ 9:00a.m.–10:00a.m.\nOld and new faces are very WELCOME in-person & via Zoom! \nPlease register\nhttps://tinyurl.com/297jwcb4\n \nFee: $7 drop-in or card of 10 classes $60 \nInstructor:\n\nSandy Mah
URL:https://www.jdicseniors.ca/event/yoga-classes-2-2-4-2-2-2-2/2028-06-19/
LOCATION:Zoom
CATEGORIES:Health & Wellness
ATTACH;FMTTYPE=image/jpeg:https://www.jdicseniors.ca/wp-content/uploads/2023/12/pexels-mikhail-nilov-7530023.jpg
ORGANIZER;CN="JDIC":MAILTO:programmer@jdicseniors.ca
END:VEVENT
BEGIN:VEVENT
DTSTART;TZID=America/Edmonton:20280620T104500
DTEND;TZID=America/Edmonton:20280620T114500
DTSTAMP:20260422T085202
CREATED:20250919T163732Z
LAST-MODIFIED:20260312T232849Z
UID:10000863-1845110700-1845114300@www.jdicseniors.ca
SUMMARY:Use it or Lose it With Bonnie Austen | In-person or Online
DESCRIPTION:Use it or Lose it With Bonnie Austen\nCardio & Strength training\, Flexibility & Balance & Laugher \nTuesdays @10:45a.m.\nhttps://us02web.Zoom.us/j/89274775349 \nFee: $7 drop-in or card of 10 classes $60
URL:https://www.jdicseniors.ca/event/use-it-or-lose-it-with-bonnie-austen-2-2-2/2028-06-20/
LOCATION:Zoom
CATEGORIES:Health & Wellness
ATTACH;FMTTYPE=image/png:https://www.jdicseniors.ca/wp-content/uploads/2023/12/Screen-Shot-2023-12-04-at-4.45.12-PM.png
ORGANIZER;CN="JDIC":MAILTO:programmer@jdicseniors.ca
END:VEVENT
BEGIN:VEVENT
DTSTART;TZID=America/Edmonton:20280621T110000
DTEND;TZID=America/Edmonton:20280621T120000
DTSTAMP:20260422T085202
CREATED:20260324T145644Z
LAST-MODIFIED:20260325T141519Z
UID:10006081-1845198000-1845201600@www.jdicseniors.ca
SUMMARY:Tai Chi
DESCRIPTION:Join our Tai Chi Master\nTai Chi is performed as a gentle\, low-impact movement in which practitioners perform a series of deliberate\, flowing motions while focusing on deep\, slow breaths.  \nWednesdays @ 11a.m.\nFee: $7 drop-in or card of 10 classes $60
URL:https://www.jdicseniors.ca/event/tai-chi/2028-06-21/
LOCATION:The Centre\, 10052-117 St. NW\, Edmonton\, Alberta\, T5K 1X2\, Canada
CATEGORIES:Health & Wellness
ORGANIZER;CN="JDIC":MAILTO:programmer@jdicseniors.ca
END:VEVENT
BEGIN:VEVENT
DTSTART;TZID=America/Edmonton:20280622T110000
DTEND;TZID=America/Edmonton:20280622T120000
DTSTAMP:20260422T085202
CREATED:20250919T163612Z
LAST-MODIFIED:20260312T233456Z
UID:10000333-1845284400-1845288000@www.jdicseniors.ca
SUMMARY:Muscle in Motion with Anna Kratochvil | In-person or Online
DESCRIPTION:Use Balls\, Bands & Weights to Exercise & Laugh\nThursdays @ 11:00a.m. \nhttps://us02web.Zoom.us/j/82287922466 \nFee: $7 drop-in or card of 10 classes $60
URL:https://www.jdicseniors.ca/event/muscle-in-motion-with-anna-kratochvil-2-2-2-2-2-2-2-2-2-2-2-2/2028-06-22/
LOCATION:Zoom
CATEGORIES:Health & Wellness
ATTACH;FMTTYPE=image/jpeg:https://www.jdicseniors.ca/wp-content/uploads/2023/12/PHOTO-2024-03-01-21-56-45.jpg
ORGANIZER;CN="JDIC":MAILTO:programmer@jdicseniors.ca
END:VEVENT
BEGIN:VEVENT
DTSTART;TZID=America/Edmonton:20280626T090000
DTEND;TZID=America/Edmonton:20280626T100000
DTSTAMP:20260422T085202
CREATED:20250919T163923Z
LAST-MODIFIED:20260324T145856Z
UID:10002672-1845622800-1845626400@www.jdicseniors.ca
SUMMARY:YOGA Classes | Online or In-Person
DESCRIPTION:YOGA Classes\nWe are looking forward to seeing all of you on Monday mornings at 9:00am to 10:00am.  \nMonday mornings @ 9:00a.m.–10:00a.m.\nOld and new faces are very WELCOME in-person & via Zoom! \nPlease register\nhttps://tinyurl.com/297jwcb4\n \nFee: $7 drop-in or card of 10 classes $60 \nInstructor:\n\nSandy Mah
URL:https://www.jdicseniors.ca/event/yoga-classes-2-2-4-2-2-2-2/2028-06-26/
LOCATION:Zoom
CATEGORIES:Health & Wellness
ATTACH;FMTTYPE=image/jpeg:https://www.jdicseniors.ca/wp-content/uploads/2023/12/pexels-mikhail-nilov-7530023.jpg
ORGANIZER;CN="JDIC":MAILTO:programmer@jdicseniors.ca
END:VEVENT
BEGIN:VEVENT
DTSTART;TZID=America/Edmonton:20280627T104500
DTEND;TZID=America/Edmonton:20280627T114500
DTSTAMP:20260422T085202
CREATED:20250919T163732Z
LAST-MODIFIED:20260312T232849Z
UID:10000864-1845715500-1845719100@www.jdicseniors.ca
SUMMARY:Use it or Lose it With Bonnie Austen | In-person or Online
DESCRIPTION:Use it or Lose it With Bonnie Austen\nCardio & Strength training\, Flexibility & Balance & Laugher \nTuesdays @10:45a.m.\nhttps://us02web.Zoom.us/j/89274775349 \nFee: $7 drop-in or card of 10 classes $60
URL:https://www.jdicseniors.ca/event/use-it-or-lose-it-with-bonnie-austen-2-2-2/2028-06-27/
LOCATION:Zoom
CATEGORIES:Health & Wellness
ATTACH;FMTTYPE=image/png:https://www.jdicseniors.ca/wp-content/uploads/2023/12/Screen-Shot-2023-12-04-at-4.45.12-PM.png
ORGANIZER;CN="JDIC":MAILTO:programmer@jdicseniors.ca
END:VEVENT
BEGIN:VEVENT
DTSTART;TZID=America/Edmonton:20280628T110000
DTEND;TZID=America/Edmonton:20280628T120000
DTSTAMP:20260422T085202
CREATED:20260324T145644Z
LAST-MODIFIED:20260325T141519Z
UID:10006082-1845802800-1845806400@www.jdicseniors.ca
SUMMARY:Tai Chi
DESCRIPTION:Join our Tai Chi Master\nTai Chi is performed as a gentle\, low-impact movement in which practitioners perform a series of deliberate\, flowing motions while focusing on deep\, slow breaths.  \nWednesdays @ 11a.m.\nFee: $7 drop-in or card of 10 classes $60
URL:https://www.jdicseniors.ca/event/tai-chi/2028-06-28/
LOCATION:The Centre\, 10052-117 St. NW\, Edmonton\, Alberta\, T5K 1X2\, Canada
CATEGORIES:Health & Wellness
ORGANIZER;CN="JDIC":MAILTO:programmer@jdicseniors.ca
END:VEVENT
BEGIN:VEVENT
DTSTART;TZID=America/Edmonton:20280629T110000
DTEND;TZID=America/Edmonton:20280629T120000
DTSTAMP:20260422T085202
CREATED:20250919T163612Z
LAST-MODIFIED:20260312T233456Z
UID:10000334-1845889200-1845892800@www.jdicseniors.ca
SUMMARY:Muscle in Motion with Anna Kratochvil | In-person or Online
DESCRIPTION:Use Balls\, Bands & Weights to Exercise & Laugh\nThursdays @ 11:00a.m. \nhttps://us02web.Zoom.us/j/82287922466 \nFee: $7 drop-in or card of 10 classes $60
URL:https://www.jdicseniors.ca/event/muscle-in-motion-with-anna-kratochvil-2-2-2-2-2-2-2-2-2-2-2-2/2028-06-29/
LOCATION:Zoom
CATEGORIES:Health & Wellness
ATTACH;FMTTYPE=image/jpeg:https://www.jdicseniors.ca/wp-content/uploads/2023/12/PHOTO-2024-03-01-21-56-45.jpg
ORGANIZER;CN="JDIC":MAILTO:programmer@jdicseniors.ca
END:VEVENT
BEGIN:VEVENT
DTSTART;TZID=America/Edmonton:20280703T090000
DTEND;TZID=America/Edmonton:20280703T100000
DTSTAMP:20260422T085202
CREATED:20250919T163923Z
LAST-MODIFIED:20260324T145856Z
UID:10002673-1846227600-1846231200@www.jdicseniors.ca
SUMMARY:YOGA Classes | Online or In-Person
DESCRIPTION:YOGA Classes\nWe are looking forward to seeing all of you on Monday mornings at 9:00am to 10:00am.  \nMonday mornings @ 9:00a.m.–10:00a.m.\nOld and new faces are very WELCOME in-person & via Zoom! \nPlease register\nhttps://tinyurl.com/297jwcb4\n \nFee: $7 drop-in or card of 10 classes $60 \nInstructor:\n\nSandy Mah
URL:https://www.jdicseniors.ca/event/yoga-classes-2-2-4-2-2-2-2/2028-07-03/
LOCATION:Zoom
CATEGORIES:Health & Wellness
ATTACH;FMTTYPE=image/jpeg:https://www.jdicseniors.ca/wp-content/uploads/2023/12/pexels-mikhail-nilov-7530023.jpg
ORGANIZER;CN="JDIC":MAILTO:programmer@jdicseniors.ca
END:VEVENT
BEGIN:VEVENT
DTSTART;TZID=America/Edmonton:20280704T104500
DTEND;TZID=America/Edmonton:20280704T114500
DTSTAMP:20260422T085202
CREATED:20250919T163732Z
LAST-MODIFIED:20260312T232849Z
UID:10000865-1846320300-1846323900@www.jdicseniors.ca
SUMMARY:Use it or Lose it With Bonnie Austen | In-person or Online
DESCRIPTION:Use it or Lose it With Bonnie Austen\nCardio & Strength training\, Flexibility & Balance & Laugher \nTuesdays @10:45a.m.\nhttps://us02web.Zoom.us/j/89274775349 \nFee: $7 drop-in or card of 10 classes $60
URL:https://www.jdicseniors.ca/event/use-it-or-lose-it-with-bonnie-austen-2-2-2/2028-07-04/
LOCATION:Zoom
CATEGORIES:Health & Wellness
ATTACH;FMTTYPE=image/png:https://www.jdicseniors.ca/wp-content/uploads/2023/12/Screen-Shot-2023-12-04-at-4.45.12-PM.png
ORGANIZER;CN="JDIC":MAILTO:programmer@jdicseniors.ca
END:VEVENT
BEGIN:VEVENT
DTSTART;TZID=America/Edmonton:20280705T110000
DTEND;TZID=America/Edmonton:20280705T120000
DTSTAMP:20260422T085202
CREATED:20260324T145644Z
LAST-MODIFIED:20260325T141519Z
UID:10006083-1846407600-1846411200@www.jdicseniors.ca
SUMMARY:Tai Chi
DESCRIPTION:Join our Tai Chi Master\nTai Chi is performed as a gentle\, low-impact movement in which practitioners perform a series of deliberate\, flowing motions while focusing on deep\, slow breaths.  \nWednesdays @ 11a.m.\nFee: $7 drop-in or card of 10 classes $60
URL:https://www.jdicseniors.ca/event/tai-chi/2028-07-05/
LOCATION:The Centre\, 10052-117 St. NW\, Edmonton\, Alberta\, T5K 1X2\, Canada
CATEGORIES:Health & Wellness
ORGANIZER;CN="JDIC":MAILTO:programmer@jdicseniors.ca
END:VEVENT
BEGIN:VEVENT
DTSTART;TZID=America/Edmonton:20280706T110000
DTEND;TZID=America/Edmonton:20280706T120000
DTSTAMP:20260422T085202
CREATED:20250919T163612Z
LAST-MODIFIED:20260312T233456Z
UID:10000335-1846494000-1846497600@www.jdicseniors.ca
SUMMARY:Muscle in Motion with Anna Kratochvil | In-person or Online
DESCRIPTION:Use Balls\, Bands & Weights to Exercise & Laugh\nThursdays @ 11:00a.m. \nhttps://us02web.Zoom.us/j/82287922466 \nFee: $7 drop-in or card of 10 classes $60
URL:https://www.jdicseniors.ca/event/muscle-in-motion-with-anna-kratochvil-2-2-2-2-2-2-2-2-2-2-2-2/2028-07-06/
LOCATION:Zoom
CATEGORIES:Health & Wellness
ATTACH;FMTTYPE=image/jpeg:https://www.jdicseniors.ca/wp-content/uploads/2023/12/PHOTO-2024-03-01-21-56-45.jpg
ORGANIZER;CN="JDIC":MAILTO:programmer@jdicseniors.ca
END:VEVENT
END:VCALENDAR