BEGIN:VCALENDAR
VERSION:2.0
PRODID:-//Jewish Senior Citizen’s Centre - ECPv6.15.17.1//NONSGML v1.0//EN
CALSCALE:GREGORIAN
METHOD:PUBLISH
X-WR-CALNAME:Jewish Senior Citizen’s Centre
X-ORIGINAL-URL:https://www.jdicseniors.ca
X-WR-CALDESC:Events for Jewish Senior Citizen’s Centre
REFRESH-INTERVAL;VALUE=DURATION:PT1H
X-Robots-Tag:noindex
X-PUBLISHED-TTL:PT1H
BEGIN:VTIMEZONE
TZID:America/Edmonton
BEGIN:DAYLIGHT
TZOFFSETFROM:-0700
TZOFFSETTO:-0600
TZNAME:MDT
DTSTART:20270314T090000
END:DAYLIGHT
BEGIN:STANDARD
TZOFFSETFROM:-0600
TZOFFSETTO:-0700
TZNAME:MST
DTSTART:20271107T080000
END:STANDARD
BEGIN:DAYLIGHT
TZOFFSETFROM:-0700
TZOFFSETTO:-0600
TZNAME:MDT
DTSTART:20280312T090000
END:DAYLIGHT
BEGIN:STANDARD
TZOFFSETFROM:-0600
TZOFFSETTO:-0700
TZNAME:MST
DTSTART:20281105T080000
END:STANDARD
BEGIN:DAYLIGHT
TZOFFSETFROM:-0700
TZOFFSETTO:-0600
TZNAME:MDT
DTSTART:20290311T090000
END:DAYLIGHT
BEGIN:STANDARD
TZOFFSETFROM:-0600
TZOFFSETTO:-0700
TZNAME:MST
DTSTART:20291104T080000
END:STANDARD
END:VTIMEZONE
BEGIN:VEVENT
DTSTART;TZID=America/Edmonton:20280405T110000
DTEND;TZID=America/Edmonton:20280405T120000
DTSTAMP:20260422T053207
CREATED:20260324T145644Z
LAST-MODIFIED:20260325T141519Z
UID:10006070-1838545200-1838548800@www.jdicseniors.ca
SUMMARY:Tai Chi
DESCRIPTION:Join our Tai Chi Master\nTai Chi is performed as a gentle\, low-impact movement in which practitioners perform a series of deliberate\, flowing motions while focusing on deep\, slow breaths.  \nWednesdays @ 11a.m.\nFee: $7 drop-in or card of 10 classes $60
URL:https://www.jdicseniors.ca/event/tai-chi/2028-04-05/
LOCATION:The Centre\, 10052-117 St. NW\, Edmonton\, Alberta\, T5K 1X2\, Canada
CATEGORIES:Health & Wellness
ORGANIZER;CN="JDIC":MAILTO:programmer@jdicseniors.ca
END:VEVENT
BEGIN:VEVENT
DTSTART;TZID=America/Edmonton:20280406T110000
DTEND;TZID=America/Edmonton:20280406T120000
DTSTAMP:20260422T053207
CREATED:20250919T163612Z
LAST-MODIFIED:20260312T233456Z
UID:10000322-1838631600-1838635200@www.jdicseniors.ca
SUMMARY:Muscle in Motion with Anna Kratochvil | In-person or Online
DESCRIPTION:Use Balls\, Bands & Weights to Exercise & Laugh\nThursdays @ 11:00a.m. \nhttps://us02web.Zoom.us/j/82287922466 \nFee: $7 drop-in or card of 10 classes $60
URL:https://www.jdicseniors.ca/event/muscle-in-motion-with-anna-kratochvil-2-2-2-2-2-2-2-2-2-2-2-2/2028-04-06/
LOCATION:Zoom
CATEGORIES:Health & Wellness
ATTACH;FMTTYPE=image/jpeg:https://www.jdicseniors.ca/wp-content/uploads/2023/12/PHOTO-2024-03-01-21-56-45.jpg
ORGANIZER;CN="JDIC":MAILTO:programmer@jdicseniors.ca
END:VEVENT
BEGIN:VEVENT
DTSTART;TZID=America/Edmonton:20280410T090000
DTEND;TZID=America/Edmonton:20280410T100000
DTSTAMP:20260422T053207
CREATED:20250919T163923Z
LAST-MODIFIED:20260324T145856Z
UID:10002661-1838970000-1838973600@www.jdicseniors.ca
SUMMARY:YOGA Classes | Online or In-Person
DESCRIPTION:YOGA Classes\nWe are looking forward to seeing all of you on Monday mornings at 9:00am to 10:00am.  \nMonday mornings @ 9:00a.m.–10:00a.m.\nOld and new faces are very WELCOME in-person & via Zoom! \nPlease register\nhttps://tinyurl.com/297jwcb4\n \nFee: $7 drop-in or card of 10 classes $60 \nInstructor:\n\nSandy Mah
URL:https://www.jdicseniors.ca/event/yoga-classes-2-2-4-2-2-2-2/2028-04-10/
LOCATION:Zoom
CATEGORIES:Health & Wellness
ATTACH;FMTTYPE=image/jpeg:https://www.jdicseniors.ca/wp-content/uploads/2023/12/pexels-mikhail-nilov-7530023.jpg
ORGANIZER;CN="JDIC":MAILTO:programmer@jdicseniors.ca
END:VEVENT
BEGIN:VEVENT
DTSTART;TZID=America/Edmonton:20280411T104500
DTEND;TZID=America/Edmonton:20280411T114500
DTSTAMP:20260422T053207
CREATED:20250919T163732Z
LAST-MODIFIED:20260312T232849Z
UID:10000853-1839062700-1839066300@www.jdicseniors.ca
SUMMARY:Use it or Lose it With Bonnie Austen | In-person or Online
DESCRIPTION:Use it or Lose it With Bonnie Austen\nCardio & Strength training\, Flexibility & Balance & Laugher \nTuesdays @10:45a.m.\nhttps://us02web.Zoom.us/j/89274775349 \nFee: $7 drop-in or card of 10 classes $60
URL:https://www.jdicseniors.ca/event/use-it-or-lose-it-with-bonnie-austen-2-2-2/2028-04-11/
LOCATION:Zoom
CATEGORIES:Health & Wellness
ATTACH;FMTTYPE=image/png:https://www.jdicseniors.ca/wp-content/uploads/2023/12/Screen-Shot-2023-12-04-at-4.45.12-PM.png
ORGANIZER;CN="JDIC":MAILTO:programmer@jdicseniors.ca
END:VEVENT
BEGIN:VEVENT
DTSTART;TZID=America/Edmonton:20280412T110000
DTEND;TZID=America/Edmonton:20280412T120000
DTSTAMP:20260422T053207
CREATED:20260324T145644Z
LAST-MODIFIED:20260325T141519Z
UID:10006071-1839150000-1839153600@www.jdicseniors.ca
SUMMARY:Tai Chi
DESCRIPTION:Join our Tai Chi Master\nTai Chi is performed as a gentle\, low-impact movement in which practitioners perform a series of deliberate\, flowing motions while focusing on deep\, slow breaths.  \nWednesdays @ 11a.m.\nFee: $7 drop-in or card of 10 classes $60
URL:https://www.jdicseniors.ca/event/tai-chi/2028-04-12/
LOCATION:The Centre\, 10052-117 St. NW\, Edmonton\, Alberta\, T5K 1X2\, Canada
CATEGORIES:Health & Wellness
ORGANIZER;CN="JDIC":MAILTO:programmer@jdicseniors.ca
END:VEVENT
BEGIN:VEVENT
DTSTART;TZID=America/Edmonton:20280413T110000
DTEND;TZID=America/Edmonton:20280413T120000
DTSTAMP:20260422T053207
CREATED:20250919T163612Z
LAST-MODIFIED:20260312T233456Z
UID:10000323-1839236400-1839240000@www.jdicseniors.ca
SUMMARY:Muscle in Motion with Anna Kratochvil | In-person or Online
DESCRIPTION:Use Balls\, Bands & Weights to Exercise & Laugh\nThursdays @ 11:00a.m. \nhttps://us02web.Zoom.us/j/82287922466 \nFee: $7 drop-in or card of 10 classes $60
URL:https://www.jdicseniors.ca/event/muscle-in-motion-with-anna-kratochvil-2-2-2-2-2-2-2-2-2-2-2-2/2028-04-13/
LOCATION:Zoom
CATEGORIES:Health & Wellness
ATTACH;FMTTYPE=image/jpeg:https://www.jdicseniors.ca/wp-content/uploads/2023/12/PHOTO-2024-03-01-21-56-45.jpg
ORGANIZER;CN="JDIC":MAILTO:programmer@jdicseniors.ca
END:VEVENT
BEGIN:VEVENT
DTSTART;TZID=America/Edmonton:20280417T090000
DTEND;TZID=America/Edmonton:20280417T100000
DTSTAMP:20260422T053207
CREATED:20250919T163923Z
LAST-MODIFIED:20260324T145856Z
UID:10002662-1839574800-1839578400@www.jdicseniors.ca
SUMMARY:YOGA Classes | Online or In-Person
DESCRIPTION:YOGA Classes\nWe are looking forward to seeing all of you on Monday mornings at 9:00am to 10:00am.  \nMonday mornings @ 9:00a.m.–10:00a.m.\nOld and new faces are very WELCOME in-person & via Zoom! \nPlease register\nhttps://tinyurl.com/297jwcb4\n \nFee: $7 drop-in or card of 10 classes $60 \nInstructor:\n\nSandy Mah
URL:https://www.jdicseniors.ca/event/yoga-classes-2-2-4-2-2-2-2/2028-04-17/
LOCATION:Zoom
CATEGORIES:Health & Wellness
ATTACH;FMTTYPE=image/jpeg:https://www.jdicseniors.ca/wp-content/uploads/2023/12/pexels-mikhail-nilov-7530023.jpg
ORGANIZER;CN="JDIC":MAILTO:programmer@jdicseniors.ca
END:VEVENT
BEGIN:VEVENT
DTSTART;TZID=America/Edmonton:20280418T104500
DTEND;TZID=America/Edmonton:20280418T114500
DTSTAMP:20260422T053207
CREATED:20250919T163732Z
LAST-MODIFIED:20260312T232849Z
UID:10000854-1839667500-1839671100@www.jdicseniors.ca
SUMMARY:Use it or Lose it With Bonnie Austen | In-person or Online
DESCRIPTION:Use it or Lose it With Bonnie Austen\nCardio & Strength training\, Flexibility & Balance & Laugher \nTuesdays @10:45a.m.\nhttps://us02web.Zoom.us/j/89274775349 \nFee: $7 drop-in or card of 10 classes $60
URL:https://www.jdicseniors.ca/event/use-it-or-lose-it-with-bonnie-austen-2-2-2/2028-04-18/
LOCATION:Zoom
CATEGORIES:Health & Wellness
ATTACH;FMTTYPE=image/png:https://www.jdicseniors.ca/wp-content/uploads/2023/12/Screen-Shot-2023-12-04-at-4.45.12-PM.png
ORGANIZER;CN="JDIC":MAILTO:programmer@jdicseniors.ca
END:VEVENT
BEGIN:VEVENT
DTSTART;TZID=America/Edmonton:20280419T110000
DTEND;TZID=America/Edmonton:20280419T120000
DTSTAMP:20260422T053207
CREATED:20260324T145644Z
LAST-MODIFIED:20260325T141519Z
UID:10006072-1839754800-1839758400@www.jdicseniors.ca
SUMMARY:Tai Chi
DESCRIPTION:Join our Tai Chi Master\nTai Chi is performed as a gentle\, low-impact movement in which practitioners perform a series of deliberate\, flowing motions while focusing on deep\, slow breaths.  \nWednesdays @ 11a.m.\nFee: $7 drop-in or card of 10 classes $60
URL:https://www.jdicseniors.ca/event/tai-chi/2028-04-19/
LOCATION:The Centre\, 10052-117 St. NW\, Edmonton\, Alberta\, T5K 1X2\, Canada
CATEGORIES:Health & Wellness
ORGANIZER;CN="JDIC":MAILTO:programmer@jdicseniors.ca
END:VEVENT
BEGIN:VEVENT
DTSTART;TZID=America/Edmonton:20280420T110000
DTEND;TZID=America/Edmonton:20280420T120000
DTSTAMP:20260422T053207
CREATED:20250919T163612Z
LAST-MODIFIED:20260312T233456Z
UID:10000324-1839841200-1839844800@www.jdicseniors.ca
SUMMARY:Muscle in Motion with Anna Kratochvil | In-person or Online
DESCRIPTION:Use Balls\, Bands & Weights to Exercise & Laugh\nThursdays @ 11:00a.m. \nhttps://us02web.Zoom.us/j/82287922466 \nFee: $7 drop-in or card of 10 classes $60
URL:https://www.jdicseniors.ca/event/muscle-in-motion-with-anna-kratochvil-2-2-2-2-2-2-2-2-2-2-2-2/2028-04-20/
LOCATION:Zoom
CATEGORIES:Health & Wellness
ATTACH;FMTTYPE=image/jpeg:https://www.jdicseniors.ca/wp-content/uploads/2023/12/PHOTO-2024-03-01-21-56-45.jpg
ORGANIZER;CN="JDIC":MAILTO:programmer@jdicseniors.ca
END:VEVENT
BEGIN:VEVENT
DTSTART;TZID=America/Edmonton:20280424T090000
DTEND;TZID=America/Edmonton:20280424T100000
DTSTAMP:20260422T053207
CREATED:20250919T163923Z
LAST-MODIFIED:20260324T145856Z
UID:10002663-1840179600-1840183200@www.jdicseniors.ca
SUMMARY:YOGA Classes | Online or In-Person
DESCRIPTION:YOGA Classes\nWe are looking forward to seeing all of you on Monday mornings at 9:00am to 10:00am.  \nMonday mornings @ 9:00a.m.–10:00a.m.\nOld and new faces are very WELCOME in-person & via Zoom! \nPlease register\nhttps://tinyurl.com/297jwcb4\n \nFee: $7 drop-in or card of 10 classes $60 \nInstructor:\n\nSandy Mah
URL:https://www.jdicseniors.ca/event/yoga-classes-2-2-4-2-2-2-2/2028-04-24/
LOCATION:Zoom
CATEGORIES:Health & Wellness
ATTACH;FMTTYPE=image/jpeg:https://www.jdicseniors.ca/wp-content/uploads/2023/12/pexels-mikhail-nilov-7530023.jpg
ORGANIZER;CN="JDIC":MAILTO:programmer@jdicseniors.ca
END:VEVENT
BEGIN:VEVENT
DTSTART;TZID=America/Edmonton:20280425T104500
DTEND;TZID=America/Edmonton:20280425T114500
DTSTAMP:20260422T053207
CREATED:20250919T163732Z
LAST-MODIFIED:20260312T232849Z
UID:10000855-1840272300-1840275900@www.jdicseniors.ca
SUMMARY:Use it or Lose it With Bonnie Austen | In-person or Online
DESCRIPTION:Use it or Lose it With Bonnie Austen\nCardio & Strength training\, Flexibility & Balance & Laugher \nTuesdays @10:45a.m.\nhttps://us02web.Zoom.us/j/89274775349 \nFee: $7 drop-in or card of 10 classes $60
URL:https://www.jdicseniors.ca/event/use-it-or-lose-it-with-bonnie-austen-2-2-2/2028-04-25/
LOCATION:Zoom
CATEGORIES:Health & Wellness
ATTACH;FMTTYPE=image/png:https://www.jdicseniors.ca/wp-content/uploads/2023/12/Screen-Shot-2023-12-04-at-4.45.12-PM.png
ORGANIZER;CN="JDIC":MAILTO:programmer@jdicseniors.ca
END:VEVENT
BEGIN:VEVENT
DTSTART;TZID=America/Edmonton:20280426T110000
DTEND;TZID=America/Edmonton:20280426T120000
DTSTAMP:20260422T053207
CREATED:20260324T145644Z
LAST-MODIFIED:20260325T141519Z
UID:10006073-1840359600-1840363200@www.jdicseniors.ca
SUMMARY:Tai Chi
DESCRIPTION:Join our Tai Chi Master\nTai Chi is performed as a gentle\, low-impact movement in which practitioners perform a series of deliberate\, flowing motions while focusing on deep\, slow breaths.  \nWednesdays @ 11a.m.\nFee: $7 drop-in or card of 10 classes $60
URL:https://www.jdicseniors.ca/event/tai-chi/2028-04-26/
LOCATION:The Centre\, 10052-117 St. NW\, Edmonton\, Alberta\, T5K 1X2\, Canada
CATEGORIES:Health & Wellness
ORGANIZER;CN="JDIC":MAILTO:programmer@jdicseniors.ca
END:VEVENT
BEGIN:VEVENT
DTSTART;TZID=America/Edmonton:20280427T110000
DTEND;TZID=America/Edmonton:20280427T120000
DTSTAMP:20260422T053207
CREATED:20250919T163612Z
LAST-MODIFIED:20260312T233456Z
UID:10000325-1840446000-1840449600@www.jdicseniors.ca
SUMMARY:Muscle in Motion with Anna Kratochvil | In-person or Online
DESCRIPTION:Use Balls\, Bands & Weights to Exercise & Laugh\nThursdays @ 11:00a.m. \nhttps://us02web.Zoom.us/j/82287922466 \nFee: $7 drop-in or card of 10 classes $60
URL:https://www.jdicseniors.ca/event/muscle-in-motion-with-anna-kratochvil-2-2-2-2-2-2-2-2-2-2-2-2/2028-04-27/
LOCATION:Zoom
CATEGORIES:Health & Wellness
ATTACH;FMTTYPE=image/jpeg:https://www.jdicseniors.ca/wp-content/uploads/2023/12/PHOTO-2024-03-01-21-56-45.jpg
ORGANIZER;CN="JDIC":MAILTO:programmer@jdicseniors.ca
END:VEVENT
BEGIN:VEVENT
DTSTART;TZID=America/Edmonton:20280501T090000
DTEND;TZID=America/Edmonton:20280501T100000
DTSTAMP:20260422T053207
CREATED:20250919T163923Z
LAST-MODIFIED:20260324T145856Z
UID:10002664-1840784400-1840788000@www.jdicseniors.ca
SUMMARY:YOGA Classes | Online or In-Person
DESCRIPTION:YOGA Classes\nWe are looking forward to seeing all of you on Monday mornings at 9:00am to 10:00am.  \nMonday mornings @ 9:00a.m.–10:00a.m.\nOld and new faces are very WELCOME in-person & via Zoom! \nPlease register\nhttps://tinyurl.com/297jwcb4\n \nFee: $7 drop-in or card of 10 classes $60 \nInstructor:\n\nSandy Mah
URL:https://www.jdicseniors.ca/event/yoga-classes-2-2-4-2-2-2-2/2028-05-01/
LOCATION:Zoom
CATEGORIES:Health & Wellness
ATTACH;FMTTYPE=image/jpeg:https://www.jdicseniors.ca/wp-content/uploads/2023/12/pexels-mikhail-nilov-7530023.jpg
ORGANIZER;CN="JDIC":MAILTO:programmer@jdicseniors.ca
END:VEVENT
BEGIN:VEVENT
DTSTART;TZID=America/Edmonton:20280502T104500
DTEND;TZID=America/Edmonton:20280502T114500
DTSTAMP:20260422T053207
CREATED:20250919T163732Z
LAST-MODIFIED:20260312T232849Z
UID:10000856-1840877100-1840880700@www.jdicseniors.ca
SUMMARY:Use it or Lose it With Bonnie Austen | In-person or Online
DESCRIPTION:Use it or Lose it With Bonnie Austen\nCardio & Strength training\, Flexibility & Balance & Laugher \nTuesdays @10:45a.m.\nhttps://us02web.Zoom.us/j/89274775349 \nFee: $7 drop-in or card of 10 classes $60
URL:https://www.jdicseniors.ca/event/use-it-or-lose-it-with-bonnie-austen-2-2-2/2028-05-02/
LOCATION:Zoom
CATEGORIES:Health & Wellness
ATTACH;FMTTYPE=image/png:https://www.jdicseniors.ca/wp-content/uploads/2023/12/Screen-Shot-2023-12-04-at-4.45.12-PM.png
ORGANIZER;CN="JDIC":MAILTO:programmer@jdicseniors.ca
END:VEVENT
BEGIN:VEVENT
DTSTART;TZID=America/Edmonton:20280503T110000
DTEND;TZID=America/Edmonton:20280503T120000
DTSTAMP:20260422T053207
CREATED:20260324T145644Z
LAST-MODIFIED:20260325T141519Z
UID:10006074-1840964400-1840968000@www.jdicseniors.ca
SUMMARY:Tai Chi
DESCRIPTION:Join our Tai Chi Master\nTai Chi is performed as a gentle\, low-impact movement in which practitioners perform a series of deliberate\, flowing motions while focusing on deep\, slow breaths.  \nWednesdays @ 11a.m.\nFee: $7 drop-in or card of 10 classes $60
URL:https://www.jdicseniors.ca/event/tai-chi/2028-05-03/
LOCATION:The Centre\, 10052-117 St. NW\, Edmonton\, Alberta\, T5K 1X2\, Canada
CATEGORIES:Health & Wellness
ORGANIZER;CN="JDIC":MAILTO:programmer@jdicseniors.ca
END:VEVENT
BEGIN:VEVENT
DTSTART;TZID=America/Edmonton:20280504T110000
DTEND;TZID=America/Edmonton:20280504T120000
DTSTAMP:20260422T053207
CREATED:20250919T163612Z
LAST-MODIFIED:20260312T233456Z
UID:10000326-1841050800-1841054400@www.jdicseniors.ca
SUMMARY:Muscle in Motion with Anna Kratochvil | In-person or Online
DESCRIPTION:Use Balls\, Bands & Weights to Exercise & Laugh\nThursdays @ 11:00a.m. \nhttps://us02web.Zoom.us/j/82287922466 \nFee: $7 drop-in or card of 10 classes $60
URL:https://www.jdicseniors.ca/event/muscle-in-motion-with-anna-kratochvil-2-2-2-2-2-2-2-2-2-2-2-2/2028-05-04/
LOCATION:Zoom
CATEGORIES:Health & Wellness
ATTACH;FMTTYPE=image/jpeg:https://www.jdicseniors.ca/wp-content/uploads/2023/12/PHOTO-2024-03-01-21-56-45.jpg
ORGANIZER;CN="JDIC":MAILTO:programmer@jdicseniors.ca
END:VEVENT
BEGIN:VEVENT
DTSTART;TZID=America/Edmonton:20280508T090000
DTEND;TZID=America/Edmonton:20280508T100000
DTSTAMP:20260422T053207
CREATED:20250919T163923Z
LAST-MODIFIED:20260324T145856Z
UID:10002665-1841389200-1841392800@www.jdicseniors.ca
SUMMARY:YOGA Classes | Online or In-Person
DESCRIPTION:YOGA Classes\nWe are looking forward to seeing all of you on Monday mornings at 9:00am to 10:00am.  \nMonday mornings @ 9:00a.m.–10:00a.m.\nOld and new faces are very WELCOME in-person & via Zoom! \nPlease register\nhttps://tinyurl.com/297jwcb4\n \nFee: $7 drop-in or card of 10 classes $60 \nInstructor:\n\nSandy Mah
URL:https://www.jdicseniors.ca/event/yoga-classes-2-2-4-2-2-2-2/2028-05-08/
LOCATION:Zoom
CATEGORIES:Health & Wellness
ATTACH;FMTTYPE=image/jpeg:https://www.jdicseniors.ca/wp-content/uploads/2023/12/pexels-mikhail-nilov-7530023.jpg
ORGANIZER;CN="JDIC":MAILTO:programmer@jdicseniors.ca
END:VEVENT
BEGIN:VEVENT
DTSTART;TZID=America/Edmonton:20280509T104500
DTEND;TZID=America/Edmonton:20280509T114500
DTSTAMP:20260422T053207
CREATED:20250919T163732Z
LAST-MODIFIED:20260312T232849Z
UID:10000857-1841481900-1841485500@www.jdicseniors.ca
SUMMARY:Use it or Lose it With Bonnie Austen | In-person or Online
DESCRIPTION:Use it or Lose it With Bonnie Austen\nCardio & Strength training\, Flexibility & Balance & Laugher \nTuesdays @10:45a.m.\nhttps://us02web.Zoom.us/j/89274775349 \nFee: $7 drop-in or card of 10 classes $60
URL:https://www.jdicseniors.ca/event/use-it-or-lose-it-with-bonnie-austen-2-2-2/2028-05-09/
LOCATION:Zoom
CATEGORIES:Health & Wellness
ATTACH;FMTTYPE=image/png:https://www.jdicseniors.ca/wp-content/uploads/2023/12/Screen-Shot-2023-12-04-at-4.45.12-PM.png
ORGANIZER;CN="JDIC":MAILTO:programmer@jdicseniors.ca
END:VEVENT
BEGIN:VEVENT
DTSTART;TZID=America/Edmonton:20280510T110000
DTEND;TZID=America/Edmonton:20280510T120000
DTSTAMP:20260422T053207
CREATED:20260324T145644Z
LAST-MODIFIED:20260325T141519Z
UID:10006075-1841569200-1841572800@www.jdicseniors.ca
SUMMARY:Tai Chi
DESCRIPTION:Join our Tai Chi Master\nTai Chi is performed as a gentle\, low-impact movement in which practitioners perform a series of deliberate\, flowing motions while focusing on deep\, slow breaths.  \nWednesdays @ 11a.m.\nFee: $7 drop-in or card of 10 classes $60
URL:https://www.jdicseniors.ca/event/tai-chi/2028-05-10/
LOCATION:The Centre\, 10052-117 St. NW\, Edmonton\, Alberta\, T5K 1X2\, Canada
CATEGORIES:Health & Wellness
ORGANIZER;CN="JDIC":MAILTO:programmer@jdicseniors.ca
END:VEVENT
BEGIN:VEVENT
DTSTART;TZID=America/Edmonton:20280511T110000
DTEND;TZID=America/Edmonton:20280511T120000
DTSTAMP:20260422T053207
CREATED:20250919T163612Z
LAST-MODIFIED:20260312T233456Z
UID:10000327-1841655600-1841659200@www.jdicseniors.ca
SUMMARY:Muscle in Motion with Anna Kratochvil | In-person or Online
DESCRIPTION:Use Balls\, Bands & Weights to Exercise & Laugh\nThursdays @ 11:00a.m. \nhttps://us02web.Zoom.us/j/82287922466 \nFee: $7 drop-in or card of 10 classes $60
URL:https://www.jdicseniors.ca/event/muscle-in-motion-with-anna-kratochvil-2-2-2-2-2-2-2-2-2-2-2-2/2028-05-11/
LOCATION:Zoom
CATEGORIES:Health & Wellness
ATTACH;FMTTYPE=image/jpeg:https://www.jdicseniors.ca/wp-content/uploads/2023/12/PHOTO-2024-03-01-21-56-45.jpg
ORGANIZER;CN="JDIC":MAILTO:programmer@jdicseniors.ca
END:VEVENT
BEGIN:VEVENT
DTSTART;TZID=America/Edmonton:20280515T090000
DTEND;TZID=America/Edmonton:20280515T100000
DTSTAMP:20260422T053207
CREATED:20250919T163923Z
LAST-MODIFIED:20260324T145856Z
UID:10002666-1841994000-1841997600@www.jdicseniors.ca
SUMMARY:YOGA Classes | Online or In-Person
DESCRIPTION:YOGA Classes\nWe are looking forward to seeing all of you on Monday mornings at 9:00am to 10:00am.  \nMonday mornings @ 9:00a.m.–10:00a.m.\nOld and new faces are very WELCOME in-person & via Zoom! \nPlease register\nhttps://tinyurl.com/297jwcb4\n \nFee: $7 drop-in or card of 10 classes $60 \nInstructor:\n\nSandy Mah
URL:https://www.jdicseniors.ca/event/yoga-classes-2-2-4-2-2-2-2/2028-05-15/
LOCATION:Zoom
CATEGORIES:Health & Wellness
ATTACH;FMTTYPE=image/jpeg:https://www.jdicseniors.ca/wp-content/uploads/2023/12/pexels-mikhail-nilov-7530023.jpg
ORGANIZER;CN="JDIC":MAILTO:programmer@jdicseniors.ca
END:VEVENT
BEGIN:VEVENT
DTSTART;TZID=America/Edmonton:20280516T104500
DTEND;TZID=America/Edmonton:20280516T114500
DTSTAMP:20260422T053207
CREATED:20250919T163732Z
LAST-MODIFIED:20260312T232849Z
UID:10000858-1842086700-1842090300@www.jdicseniors.ca
SUMMARY:Use it or Lose it With Bonnie Austen | In-person or Online
DESCRIPTION:Use it or Lose it With Bonnie Austen\nCardio & Strength training\, Flexibility & Balance & Laugher \nTuesdays @10:45a.m.\nhttps://us02web.Zoom.us/j/89274775349 \nFee: $7 drop-in or card of 10 classes $60
URL:https://www.jdicseniors.ca/event/use-it-or-lose-it-with-bonnie-austen-2-2-2/2028-05-16/
LOCATION:Zoom
CATEGORIES:Health & Wellness
ATTACH;FMTTYPE=image/png:https://www.jdicseniors.ca/wp-content/uploads/2023/12/Screen-Shot-2023-12-04-at-4.45.12-PM.png
ORGANIZER;CN="JDIC":MAILTO:programmer@jdicseniors.ca
END:VEVENT
BEGIN:VEVENT
DTSTART;TZID=America/Edmonton:20280517T110000
DTEND;TZID=America/Edmonton:20280517T120000
DTSTAMP:20260422T053207
CREATED:20260324T145644Z
LAST-MODIFIED:20260325T141519Z
UID:10006076-1842174000-1842177600@www.jdicseniors.ca
SUMMARY:Tai Chi
DESCRIPTION:Join our Tai Chi Master\nTai Chi is performed as a gentle\, low-impact movement in which practitioners perform a series of deliberate\, flowing motions while focusing on deep\, slow breaths.  \nWednesdays @ 11a.m.\nFee: $7 drop-in or card of 10 classes $60
URL:https://www.jdicseniors.ca/event/tai-chi/2028-05-17/
LOCATION:The Centre\, 10052-117 St. NW\, Edmonton\, Alberta\, T5K 1X2\, Canada
CATEGORIES:Health & Wellness
ORGANIZER;CN="JDIC":MAILTO:programmer@jdicseniors.ca
END:VEVENT
BEGIN:VEVENT
DTSTART;TZID=America/Edmonton:20280518T110000
DTEND;TZID=America/Edmonton:20280518T120000
DTSTAMP:20260422T053207
CREATED:20250919T163612Z
LAST-MODIFIED:20260312T233456Z
UID:10000328-1842260400-1842264000@www.jdicseniors.ca
SUMMARY:Muscle in Motion with Anna Kratochvil | In-person or Online
DESCRIPTION:Use Balls\, Bands & Weights to Exercise & Laugh\nThursdays @ 11:00a.m. \nhttps://us02web.Zoom.us/j/82287922466 \nFee: $7 drop-in or card of 10 classes $60
URL:https://www.jdicseniors.ca/event/muscle-in-motion-with-anna-kratochvil-2-2-2-2-2-2-2-2-2-2-2-2/2028-05-18/
LOCATION:Zoom
CATEGORIES:Health & Wellness
ATTACH;FMTTYPE=image/jpeg:https://www.jdicseniors.ca/wp-content/uploads/2023/12/PHOTO-2024-03-01-21-56-45.jpg
ORGANIZER;CN="JDIC":MAILTO:programmer@jdicseniors.ca
END:VEVENT
BEGIN:VEVENT
DTSTART;TZID=America/Edmonton:20280522T090000
DTEND;TZID=America/Edmonton:20280522T100000
DTSTAMP:20260422T053207
CREATED:20250919T163923Z
LAST-MODIFIED:20260324T145856Z
UID:10002667-1842598800-1842602400@www.jdicseniors.ca
SUMMARY:YOGA Classes | Online or In-Person
DESCRIPTION:YOGA Classes\nWe are looking forward to seeing all of you on Monday mornings at 9:00am to 10:00am.  \nMonday mornings @ 9:00a.m.–10:00a.m.\nOld and new faces are very WELCOME in-person & via Zoom! \nPlease register\nhttps://tinyurl.com/297jwcb4\n \nFee: $7 drop-in or card of 10 classes $60 \nInstructor:\n\nSandy Mah
URL:https://www.jdicseniors.ca/event/yoga-classes-2-2-4-2-2-2-2/2028-05-22/
LOCATION:Zoom
CATEGORIES:Health & Wellness
ATTACH;FMTTYPE=image/jpeg:https://www.jdicseniors.ca/wp-content/uploads/2023/12/pexels-mikhail-nilov-7530023.jpg
ORGANIZER;CN="JDIC":MAILTO:programmer@jdicseniors.ca
END:VEVENT
BEGIN:VEVENT
DTSTART;TZID=America/Edmonton:20280523T104500
DTEND;TZID=America/Edmonton:20280523T114500
DTSTAMP:20260422T053207
CREATED:20250919T163732Z
LAST-MODIFIED:20260312T232849Z
UID:10000859-1842691500-1842695100@www.jdicseniors.ca
SUMMARY:Use it or Lose it With Bonnie Austen | In-person or Online
DESCRIPTION:Use it or Lose it With Bonnie Austen\nCardio & Strength training\, Flexibility & Balance & Laugher \nTuesdays @10:45a.m.\nhttps://us02web.Zoom.us/j/89274775349 \nFee: $7 drop-in or card of 10 classes $60
URL:https://www.jdicseniors.ca/event/use-it-or-lose-it-with-bonnie-austen-2-2-2/2028-05-23/
LOCATION:Zoom
CATEGORIES:Health & Wellness
ATTACH;FMTTYPE=image/png:https://www.jdicseniors.ca/wp-content/uploads/2023/12/Screen-Shot-2023-12-04-at-4.45.12-PM.png
ORGANIZER;CN="JDIC":MAILTO:programmer@jdicseniors.ca
END:VEVENT
BEGIN:VEVENT
DTSTART;TZID=America/Edmonton:20280524T110000
DTEND;TZID=America/Edmonton:20280524T120000
DTSTAMP:20260422T053207
CREATED:20260324T145644Z
LAST-MODIFIED:20260325T141519Z
UID:10006077-1842778800-1842782400@www.jdicseniors.ca
SUMMARY:Tai Chi
DESCRIPTION:Join our Tai Chi Master\nTai Chi is performed as a gentle\, low-impact movement in which practitioners perform a series of deliberate\, flowing motions while focusing on deep\, slow breaths.  \nWednesdays @ 11a.m.\nFee: $7 drop-in or card of 10 classes $60
URL:https://www.jdicseniors.ca/event/tai-chi/2028-05-24/
LOCATION:The Centre\, 10052-117 St. NW\, Edmonton\, Alberta\, T5K 1X2\, Canada
CATEGORIES:Health & Wellness
ORGANIZER;CN="JDIC":MAILTO:programmer@jdicseniors.ca
END:VEVENT
BEGIN:VEVENT
DTSTART;TZID=America/Edmonton:20280525T110000
DTEND;TZID=America/Edmonton:20280525T120000
DTSTAMP:20260422T053207
CREATED:20250919T163612Z
LAST-MODIFIED:20260312T233456Z
UID:10000329-1842865200-1842868800@www.jdicseniors.ca
SUMMARY:Muscle in Motion with Anna Kratochvil | In-person or Online
DESCRIPTION:Use Balls\, Bands & Weights to Exercise & Laugh\nThursdays @ 11:00a.m. \nhttps://us02web.Zoom.us/j/82287922466 \nFee: $7 drop-in or card of 10 classes $60
URL:https://www.jdicseniors.ca/event/muscle-in-motion-with-anna-kratochvil-2-2-2-2-2-2-2-2-2-2-2-2/2028-05-25/
LOCATION:Zoom
CATEGORIES:Health & Wellness
ATTACH;FMTTYPE=image/jpeg:https://www.jdicseniors.ca/wp-content/uploads/2023/12/PHOTO-2024-03-01-21-56-45.jpg
ORGANIZER;CN="JDIC":MAILTO:programmer@jdicseniors.ca
END:VEVENT
END:VCALENDAR