BEGIN:VCALENDAR
VERSION:2.0
PRODID:-//Jewish Senior Citizen’s Centre - ECPv6.15.17.1//NONSGML v1.0//EN
CALSCALE:GREGORIAN
METHOD:PUBLISH
X-ORIGINAL-URL:https://www.jdicseniors.ca
X-WR-CALDESC:Events for Jewish Senior Citizen’s Centre
REFRESH-INTERVAL;VALUE=DURATION:PT1H
X-Robots-Tag:noindex
X-PUBLISHED-TTL:PT1H
BEGIN:VTIMEZONE
TZID:America/Edmonton
BEGIN:DAYLIGHT
TZOFFSETFROM:-0700
TZOFFSETTO:-0600
TZNAME:MDT
DTSTART:20260308T090000
END:DAYLIGHT
BEGIN:STANDARD
TZOFFSETFROM:-0600
TZOFFSETTO:-0700
TZNAME:MST
DTSTART:20261101T080000
END:STANDARD
BEGIN:DAYLIGHT
TZOFFSETFROM:-0700
TZOFFSETTO:-0600
TZNAME:MDT
DTSTART:20270314T090000
END:DAYLIGHT
BEGIN:STANDARD
TZOFFSETFROM:-0600
TZOFFSETTO:-0700
TZNAME:MST
DTSTART:20271107T080000
END:STANDARD
BEGIN:DAYLIGHT
TZOFFSETFROM:-0700
TZOFFSETTO:-0600
TZNAME:MDT
DTSTART:20280312T090000
END:DAYLIGHT
BEGIN:STANDARD
TZOFFSETFROM:-0600
TZOFFSETTO:-0700
TZNAME:MST
DTSTART:20281105T080000
END:STANDARD
END:VTIMEZONE
BEGIN:VEVENT
DTSTART;TZID=America/Edmonton:20270906T090000
DTEND;TZID=America/Edmonton:20270906T100000
DTSTAMP:20260419T092852
CREATED:20250919T163923Z
LAST-MODIFIED:20260324T145856Z
UID:10002630-1820221200-1820224800@www.jdicseniors.ca
SUMMARY:YOGA Classes | Online or In-Person
DESCRIPTION:YOGA Classes\nWe are looking forward to seeing all of you on Monday mornings at 9:00am to 10:00am.  \nMonday mornings @ 9:00a.m.–10:00a.m.\nOld and new faces are very WELCOME in-person & via Zoom! \nPlease register\nhttps://tinyurl.com/297jwcb4\n \nFee: $7 drop-in or card of 10 classes $60 \nInstructor:\n\nSandy Mah
URL:https://www.jdicseniors.ca/event/yoga-classes-2-2-4-2-2-2-2/2027-09-06/
LOCATION:Zoom
CATEGORIES:Health & Wellness
ATTACH;FMTTYPE=image/jpeg:https://www.jdicseniors.ca/wp-content/uploads/2023/12/pexels-mikhail-nilov-7530023.jpg
ORGANIZER;CN="JDIC":MAILTO:programmer@jdicseniors.ca
END:VEVENT
BEGIN:VEVENT
DTSTART;TZID=America/Edmonton:20270907T104500
DTEND;TZID=America/Edmonton:20270907T114500
DTSTAMP:20260419T092852
CREATED:20250919T163732Z
LAST-MODIFIED:20260312T232849Z
UID:10000822-1820313900-1820317500@www.jdicseniors.ca
SUMMARY:Use it or Lose it With Bonnie Austen | In-person or Online
DESCRIPTION:Use it or Lose it With Bonnie Austen\nCardio & Strength training\, Flexibility & Balance & Laugher \nTuesdays @10:45a.m.\nhttps://us02web.Zoom.us/j/89274775349 \nFee: $7 drop-in or card of 10 classes $60
URL:https://www.jdicseniors.ca/event/use-it-or-lose-it-with-bonnie-austen-2-2-2/2027-09-07/
LOCATION:Zoom
CATEGORIES:Health & Wellness
ATTACH;FMTTYPE=image/png:https://www.jdicseniors.ca/wp-content/uploads/2023/12/Screen-Shot-2023-12-04-at-4.45.12-PM.png
ORGANIZER;CN="JDIC":MAILTO:programmer@jdicseniors.ca
END:VEVENT
BEGIN:VEVENT
DTSTART;TZID=America/Edmonton:20270908T110000
DTEND;TZID=America/Edmonton:20270908T120000
DTSTAMP:20260419T092852
CREATED:20260324T145644Z
LAST-MODIFIED:20260325T141519Z
UID:10006040-1820401200-1820404800@www.jdicseniors.ca
SUMMARY:Tai Chi
DESCRIPTION:Join our Tai Chi Master\nTai Chi is performed as a gentle\, low-impact movement in which practitioners perform a series of deliberate\, flowing motions while focusing on deep\, slow breaths.  \nWednesdays @ 11a.m.\nFee: $7 drop-in or card of 10 classes $60
URL:https://www.jdicseniors.ca/event/tai-chi/2027-09-08/
LOCATION:The Centre\, 10052-117 St. NW\, Edmonton\, Alberta\, T5K 1X2\, Canada
CATEGORIES:Health & Wellness
ORGANIZER;CN="JDIC":MAILTO:programmer@jdicseniors.ca
END:VEVENT
BEGIN:VEVENT
DTSTART;TZID=America/Edmonton:20270909T110000
DTEND;TZID=America/Edmonton:20270909T120000
DTSTAMP:20260419T092852
CREATED:20250919T163612Z
LAST-MODIFIED:20260312T233456Z
UID:10000292-1820487600-1820491200@www.jdicseniors.ca
SUMMARY:Muscle in Motion with Anna Kratochvil | In-person or Online
DESCRIPTION:Use Balls\, Bands & Weights to Exercise & Laugh\nThursdays @ 11:00a.m. \nhttps://us02web.Zoom.us/j/82287922466 \nFee: $7 drop-in or card of 10 classes $60
URL:https://www.jdicseniors.ca/event/muscle-in-motion-with-anna-kratochvil-2-2-2-2-2-2-2-2-2-2-2-2/2027-09-09/
LOCATION:Zoom
CATEGORIES:Health & Wellness
ATTACH;FMTTYPE=image/jpeg:https://www.jdicseniors.ca/wp-content/uploads/2023/12/PHOTO-2024-03-01-21-56-45.jpg
ORGANIZER;CN="JDIC":MAILTO:programmer@jdicseniors.ca
END:VEVENT
BEGIN:VEVENT
DTSTART;TZID=America/Edmonton:20270913T090000
DTEND;TZID=America/Edmonton:20270913T100000
DTSTAMP:20260419T092852
CREATED:20250919T163923Z
LAST-MODIFIED:20260324T145856Z
UID:10002631-1820826000-1820829600@www.jdicseniors.ca
SUMMARY:YOGA Classes | Online or In-Person
DESCRIPTION:YOGA Classes\nWe are looking forward to seeing all of you on Monday mornings at 9:00am to 10:00am.  \nMonday mornings @ 9:00a.m.–10:00a.m.\nOld and new faces are very WELCOME in-person & via Zoom! \nPlease register\nhttps://tinyurl.com/297jwcb4\n \nFee: $7 drop-in or card of 10 classes $60 \nInstructor:\n\nSandy Mah
URL:https://www.jdicseniors.ca/event/yoga-classes-2-2-4-2-2-2-2/2027-09-13/
LOCATION:Zoom
CATEGORIES:Health & Wellness
ATTACH;FMTTYPE=image/jpeg:https://www.jdicseniors.ca/wp-content/uploads/2023/12/pexels-mikhail-nilov-7530023.jpg
ORGANIZER;CN="JDIC":MAILTO:programmer@jdicseniors.ca
END:VEVENT
BEGIN:VEVENT
DTSTART;TZID=America/Edmonton:20270914T104500
DTEND;TZID=America/Edmonton:20270914T114500
DTSTAMP:20260419T092852
CREATED:20250919T163732Z
LAST-MODIFIED:20260312T232849Z
UID:10000823-1820918700-1820922300@www.jdicseniors.ca
SUMMARY:Use it or Lose it With Bonnie Austen | In-person or Online
DESCRIPTION:Use it or Lose it With Bonnie Austen\nCardio & Strength training\, Flexibility & Balance & Laugher \nTuesdays @10:45a.m.\nhttps://us02web.Zoom.us/j/89274775349 \nFee: $7 drop-in or card of 10 classes $60
URL:https://www.jdicseniors.ca/event/use-it-or-lose-it-with-bonnie-austen-2-2-2/2027-09-14/
LOCATION:Zoom
CATEGORIES:Health & Wellness
ATTACH;FMTTYPE=image/png:https://www.jdicseniors.ca/wp-content/uploads/2023/12/Screen-Shot-2023-12-04-at-4.45.12-PM.png
ORGANIZER;CN="JDIC":MAILTO:programmer@jdicseniors.ca
END:VEVENT
BEGIN:VEVENT
DTSTART;TZID=America/Edmonton:20270915T110000
DTEND;TZID=America/Edmonton:20270915T120000
DTSTAMP:20260419T092852
CREATED:20260324T145644Z
LAST-MODIFIED:20260325T141519Z
UID:10006041-1821006000-1821009600@www.jdicseniors.ca
SUMMARY:Tai Chi
DESCRIPTION:Join our Tai Chi Master\nTai Chi is performed as a gentle\, low-impact movement in which practitioners perform a series of deliberate\, flowing motions while focusing on deep\, slow breaths.  \nWednesdays @ 11a.m.\nFee: $7 drop-in or card of 10 classes $60
URL:https://www.jdicseniors.ca/event/tai-chi/2027-09-15/
LOCATION:The Centre\, 10052-117 St. NW\, Edmonton\, Alberta\, T5K 1X2\, Canada
CATEGORIES:Health & Wellness
ORGANIZER;CN="JDIC":MAILTO:programmer@jdicseniors.ca
END:VEVENT
BEGIN:VEVENT
DTSTART;TZID=America/Edmonton:20270916T110000
DTEND;TZID=America/Edmonton:20270916T120000
DTSTAMP:20260419T092852
CREATED:20250919T163612Z
LAST-MODIFIED:20260312T233456Z
UID:10000293-1821092400-1821096000@www.jdicseniors.ca
SUMMARY:Muscle in Motion with Anna Kratochvil | In-person or Online
DESCRIPTION:Use Balls\, Bands & Weights to Exercise & Laugh\nThursdays @ 11:00a.m. \nhttps://us02web.Zoom.us/j/82287922466 \nFee: $7 drop-in or card of 10 classes $60
URL:https://www.jdicseniors.ca/event/muscle-in-motion-with-anna-kratochvil-2-2-2-2-2-2-2-2-2-2-2-2/2027-09-16/
LOCATION:Zoom
CATEGORIES:Health & Wellness
ATTACH;FMTTYPE=image/jpeg:https://www.jdicseniors.ca/wp-content/uploads/2023/12/PHOTO-2024-03-01-21-56-45.jpg
ORGANIZER;CN="JDIC":MAILTO:programmer@jdicseniors.ca
END:VEVENT
BEGIN:VEVENT
DTSTART;TZID=America/Edmonton:20270920T090000
DTEND;TZID=America/Edmonton:20270920T100000
DTSTAMP:20260419T092852
CREATED:20250919T163923Z
LAST-MODIFIED:20260324T145856Z
UID:10002632-1821430800-1821434400@www.jdicseniors.ca
SUMMARY:YOGA Classes | Online or In-Person
DESCRIPTION:YOGA Classes\nWe are looking forward to seeing all of you on Monday mornings at 9:00am to 10:00am.  \nMonday mornings @ 9:00a.m.–10:00a.m.\nOld and new faces are very WELCOME in-person & via Zoom! \nPlease register\nhttps://tinyurl.com/297jwcb4\n \nFee: $7 drop-in or card of 10 classes $60 \nInstructor:\n\nSandy Mah
URL:https://www.jdicseniors.ca/event/yoga-classes-2-2-4-2-2-2-2/2027-09-20/
LOCATION:Zoom
CATEGORIES:Health & Wellness
ATTACH;FMTTYPE=image/jpeg:https://www.jdicseniors.ca/wp-content/uploads/2023/12/pexels-mikhail-nilov-7530023.jpg
ORGANIZER;CN="JDIC":MAILTO:programmer@jdicseniors.ca
END:VEVENT
BEGIN:VEVENT
DTSTART;TZID=America/Edmonton:20270921T104500
DTEND;TZID=America/Edmonton:20270921T114500
DTSTAMP:20260419T092852
CREATED:20250919T163732Z
LAST-MODIFIED:20260312T232849Z
UID:10000824-1821523500-1821527100@www.jdicseniors.ca
SUMMARY:Use it or Lose it With Bonnie Austen | In-person or Online
DESCRIPTION:Use it or Lose it With Bonnie Austen\nCardio & Strength training\, Flexibility & Balance & Laugher \nTuesdays @10:45a.m.\nhttps://us02web.Zoom.us/j/89274775349 \nFee: $7 drop-in or card of 10 classes $60
URL:https://www.jdicseniors.ca/event/use-it-or-lose-it-with-bonnie-austen-2-2-2/2027-09-21/
LOCATION:Zoom
CATEGORIES:Health & Wellness
ATTACH;FMTTYPE=image/png:https://www.jdicseniors.ca/wp-content/uploads/2023/12/Screen-Shot-2023-12-04-at-4.45.12-PM.png
ORGANIZER;CN="JDIC":MAILTO:programmer@jdicseniors.ca
END:VEVENT
BEGIN:VEVENT
DTSTART;TZID=America/Edmonton:20270922T110000
DTEND;TZID=America/Edmonton:20270922T120000
DTSTAMP:20260419T092852
CREATED:20260324T145644Z
LAST-MODIFIED:20260325T141519Z
UID:10006042-1821610800-1821614400@www.jdicseniors.ca
SUMMARY:Tai Chi
DESCRIPTION:Join our Tai Chi Master\nTai Chi is performed as a gentle\, low-impact movement in which practitioners perform a series of deliberate\, flowing motions while focusing on deep\, slow breaths.  \nWednesdays @ 11a.m.\nFee: $7 drop-in or card of 10 classes $60
URL:https://www.jdicseniors.ca/event/tai-chi/2027-09-22/
LOCATION:The Centre\, 10052-117 St. NW\, Edmonton\, Alberta\, T5K 1X2\, Canada
CATEGORIES:Health & Wellness
ORGANIZER;CN="JDIC":MAILTO:programmer@jdicseniors.ca
END:VEVENT
BEGIN:VEVENT
DTSTART;TZID=America/Edmonton:20270923T110000
DTEND;TZID=America/Edmonton:20270923T120000
DTSTAMP:20260419T092852
CREATED:20250919T163612Z
LAST-MODIFIED:20260312T233456Z
UID:10000294-1821697200-1821700800@www.jdicseniors.ca
SUMMARY:Muscle in Motion with Anna Kratochvil | In-person or Online
DESCRIPTION:Use Balls\, Bands & Weights to Exercise & Laugh\nThursdays @ 11:00a.m. \nhttps://us02web.Zoom.us/j/82287922466 \nFee: $7 drop-in or card of 10 classes $60
URL:https://www.jdicseniors.ca/event/muscle-in-motion-with-anna-kratochvil-2-2-2-2-2-2-2-2-2-2-2-2/2027-09-23/
LOCATION:Zoom
CATEGORIES:Health & Wellness
ATTACH;FMTTYPE=image/jpeg:https://www.jdicseniors.ca/wp-content/uploads/2023/12/PHOTO-2024-03-01-21-56-45.jpg
ORGANIZER;CN="JDIC":MAILTO:programmer@jdicseniors.ca
END:VEVENT
BEGIN:VEVENT
DTSTART;TZID=America/Edmonton:20270927T090000
DTEND;TZID=America/Edmonton:20270927T100000
DTSTAMP:20260419T092852
CREATED:20250919T163923Z
LAST-MODIFIED:20260324T145856Z
UID:10002633-1822035600-1822039200@www.jdicseniors.ca
SUMMARY:YOGA Classes | Online or In-Person
DESCRIPTION:YOGA Classes\nWe are looking forward to seeing all of you on Monday mornings at 9:00am to 10:00am.  \nMonday mornings @ 9:00a.m.–10:00a.m.\nOld and new faces are very WELCOME in-person & via Zoom! \nPlease register\nhttps://tinyurl.com/297jwcb4\n \nFee: $7 drop-in or card of 10 classes $60 \nInstructor:\n\nSandy Mah
URL:https://www.jdicseniors.ca/event/yoga-classes-2-2-4-2-2-2-2/2027-09-27/
LOCATION:Zoom
CATEGORIES:Health & Wellness
ATTACH;FMTTYPE=image/jpeg:https://www.jdicseniors.ca/wp-content/uploads/2023/12/pexels-mikhail-nilov-7530023.jpg
ORGANIZER;CN="JDIC":MAILTO:programmer@jdicseniors.ca
END:VEVENT
BEGIN:VEVENT
DTSTART;TZID=America/Edmonton:20270928T104500
DTEND;TZID=America/Edmonton:20270928T114500
DTSTAMP:20260419T092852
CREATED:20250919T163732Z
LAST-MODIFIED:20260312T232849Z
UID:10000825-1822128300-1822131900@www.jdicseniors.ca
SUMMARY:Use it or Lose it With Bonnie Austen | In-person or Online
DESCRIPTION:Use it or Lose it With Bonnie Austen\nCardio & Strength training\, Flexibility & Balance & Laugher \nTuesdays @10:45a.m.\nhttps://us02web.Zoom.us/j/89274775349 \nFee: $7 drop-in or card of 10 classes $60
URL:https://www.jdicseniors.ca/event/use-it-or-lose-it-with-bonnie-austen-2-2-2/2027-09-28/
LOCATION:Zoom
CATEGORIES:Health & Wellness
ATTACH;FMTTYPE=image/png:https://www.jdicseniors.ca/wp-content/uploads/2023/12/Screen-Shot-2023-12-04-at-4.45.12-PM.png
ORGANIZER;CN="JDIC":MAILTO:programmer@jdicseniors.ca
END:VEVENT
BEGIN:VEVENT
DTSTART;TZID=America/Edmonton:20270929T110000
DTEND;TZID=America/Edmonton:20270929T120000
DTSTAMP:20260419T092852
CREATED:20260324T145644Z
LAST-MODIFIED:20260325T141519Z
UID:10006043-1822215600-1822219200@www.jdicseniors.ca
SUMMARY:Tai Chi
DESCRIPTION:Join our Tai Chi Master\nTai Chi is performed as a gentle\, low-impact movement in which practitioners perform a series of deliberate\, flowing motions while focusing on deep\, slow breaths.  \nWednesdays @ 11a.m.\nFee: $7 drop-in or card of 10 classes $60
URL:https://www.jdicseniors.ca/event/tai-chi/2027-09-29/
LOCATION:The Centre\, 10052-117 St. NW\, Edmonton\, Alberta\, T5K 1X2\, Canada
CATEGORIES:Health & Wellness
ORGANIZER;CN="JDIC":MAILTO:programmer@jdicseniors.ca
END:VEVENT
BEGIN:VEVENT
DTSTART;TZID=America/Edmonton:20270930T110000
DTEND;TZID=America/Edmonton:20270930T120000
DTSTAMP:20260419T092852
CREATED:20250919T163612Z
LAST-MODIFIED:20260312T233456Z
UID:10000295-1822302000-1822305600@www.jdicseniors.ca
SUMMARY:Muscle in Motion with Anna Kratochvil | In-person or Online
DESCRIPTION:Use Balls\, Bands & Weights to Exercise & Laugh\nThursdays @ 11:00a.m. \nhttps://us02web.Zoom.us/j/82287922466 \nFee: $7 drop-in or card of 10 classes $60
URL:https://www.jdicseniors.ca/event/muscle-in-motion-with-anna-kratochvil-2-2-2-2-2-2-2-2-2-2-2-2/2027-09-30/
LOCATION:Zoom
CATEGORIES:Health & Wellness
ATTACH;FMTTYPE=image/jpeg:https://www.jdicseniors.ca/wp-content/uploads/2023/12/PHOTO-2024-03-01-21-56-45.jpg
ORGANIZER;CN="JDIC":MAILTO:programmer@jdicseniors.ca
END:VEVENT
BEGIN:VEVENT
DTSTART;TZID=America/Edmonton:20271004T090000
DTEND;TZID=America/Edmonton:20271004T100000
DTSTAMP:20260419T092852
CREATED:20250919T163923Z
LAST-MODIFIED:20260324T145856Z
UID:10002634-1822640400-1822644000@www.jdicseniors.ca
SUMMARY:YOGA Classes | Online or In-Person
DESCRIPTION:YOGA Classes\nWe are looking forward to seeing all of you on Monday mornings at 9:00am to 10:00am.  \nMonday mornings @ 9:00a.m.–10:00a.m.\nOld and new faces are very WELCOME in-person & via Zoom! \nPlease register\nhttps://tinyurl.com/297jwcb4\n \nFee: $7 drop-in or card of 10 classes $60 \nInstructor:\n\nSandy Mah
URL:https://www.jdicseniors.ca/event/yoga-classes-2-2-4-2-2-2-2/2027-10-04/
LOCATION:Zoom
CATEGORIES:Health & Wellness
ATTACH;FMTTYPE=image/jpeg:https://www.jdicseniors.ca/wp-content/uploads/2023/12/pexels-mikhail-nilov-7530023.jpg
ORGANIZER;CN="JDIC":MAILTO:programmer@jdicseniors.ca
END:VEVENT
BEGIN:VEVENT
DTSTART;TZID=America/Edmonton:20271005T104500
DTEND;TZID=America/Edmonton:20271005T114500
DTSTAMP:20260419T092852
CREATED:20250919T163732Z
LAST-MODIFIED:20260312T232849Z
UID:10000826-1822733100-1822736700@www.jdicseniors.ca
SUMMARY:Use it or Lose it With Bonnie Austen | In-person or Online
DESCRIPTION:Use it or Lose it With Bonnie Austen\nCardio & Strength training\, Flexibility & Balance & Laugher \nTuesdays @10:45a.m.\nhttps://us02web.Zoom.us/j/89274775349 \nFee: $7 drop-in or card of 10 classes $60
URL:https://www.jdicseniors.ca/event/use-it-or-lose-it-with-bonnie-austen-2-2-2/2027-10-05/
LOCATION:Zoom
CATEGORIES:Health & Wellness
ATTACH;FMTTYPE=image/png:https://www.jdicseniors.ca/wp-content/uploads/2023/12/Screen-Shot-2023-12-04-at-4.45.12-PM.png
ORGANIZER;CN="JDIC":MAILTO:programmer@jdicseniors.ca
END:VEVENT
BEGIN:VEVENT
DTSTART;TZID=America/Edmonton:20271006T110000
DTEND;TZID=America/Edmonton:20271006T120000
DTSTAMP:20260419T092852
CREATED:20260324T145644Z
LAST-MODIFIED:20260325T141519Z
UID:10006044-1822820400-1822824000@www.jdicseniors.ca
SUMMARY:Tai Chi
DESCRIPTION:Join our Tai Chi Master\nTai Chi is performed as a gentle\, low-impact movement in which practitioners perform a series of deliberate\, flowing motions while focusing on deep\, slow breaths.  \nWednesdays @ 11a.m.\nFee: $7 drop-in or card of 10 classes $60
URL:https://www.jdicseniors.ca/event/tai-chi/2027-10-06/
LOCATION:The Centre\, 10052-117 St. NW\, Edmonton\, Alberta\, T5K 1X2\, Canada
CATEGORIES:Health & Wellness
ORGANIZER;CN="JDIC":MAILTO:programmer@jdicseniors.ca
END:VEVENT
BEGIN:VEVENT
DTSTART;TZID=America/Edmonton:20271007T110000
DTEND;TZID=America/Edmonton:20271007T120000
DTSTAMP:20260419T092852
CREATED:20250919T163612Z
LAST-MODIFIED:20260312T233456Z
UID:10000296-1822906800-1822910400@www.jdicseniors.ca
SUMMARY:Muscle in Motion with Anna Kratochvil | In-person or Online
DESCRIPTION:Use Balls\, Bands & Weights to Exercise & Laugh\nThursdays @ 11:00a.m. \nhttps://us02web.Zoom.us/j/82287922466 \nFee: $7 drop-in or card of 10 classes $60
URL:https://www.jdicseniors.ca/event/muscle-in-motion-with-anna-kratochvil-2-2-2-2-2-2-2-2-2-2-2-2/2027-10-07/
LOCATION:Zoom
CATEGORIES:Health & Wellness
ATTACH;FMTTYPE=image/jpeg:https://www.jdicseniors.ca/wp-content/uploads/2023/12/PHOTO-2024-03-01-21-56-45.jpg
ORGANIZER;CN="JDIC":MAILTO:programmer@jdicseniors.ca
END:VEVENT
BEGIN:VEVENT
DTSTART;TZID=America/Edmonton:20271011T090000
DTEND;TZID=America/Edmonton:20271011T100000
DTSTAMP:20260419T092852
CREATED:20250919T163923Z
LAST-MODIFIED:20260324T145856Z
UID:10002635-1823245200-1823248800@www.jdicseniors.ca
SUMMARY:YOGA Classes | Online or In-Person
DESCRIPTION:YOGA Classes\nWe are looking forward to seeing all of you on Monday mornings at 9:00am to 10:00am.  \nMonday mornings @ 9:00a.m.–10:00a.m.\nOld and new faces are very WELCOME in-person & via Zoom! \nPlease register\nhttps://tinyurl.com/297jwcb4\n \nFee: $7 drop-in or card of 10 classes $60 \nInstructor:\n\nSandy Mah
URL:https://www.jdicseniors.ca/event/yoga-classes-2-2-4-2-2-2-2/2027-10-11/
LOCATION:Zoom
CATEGORIES:Health & Wellness
ATTACH;FMTTYPE=image/jpeg:https://www.jdicseniors.ca/wp-content/uploads/2023/12/pexels-mikhail-nilov-7530023.jpg
ORGANIZER;CN="JDIC":MAILTO:programmer@jdicseniors.ca
END:VEVENT
BEGIN:VEVENT
DTSTART;TZID=America/Edmonton:20271012T104500
DTEND;TZID=America/Edmonton:20271012T114500
DTSTAMP:20260419T092852
CREATED:20250919T163732Z
LAST-MODIFIED:20260312T232849Z
UID:10000827-1823337900-1823341500@www.jdicseniors.ca
SUMMARY:Use it or Lose it With Bonnie Austen | In-person or Online
DESCRIPTION:Use it or Lose it With Bonnie Austen\nCardio & Strength training\, Flexibility & Balance & Laugher \nTuesdays @10:45a.m.\nhttps://us02web.Zoom.us/j/89274775349 \nFee: $7 drop-in or card of 10 classes $60
URL:https://www.jdicseniors.ca/event/use-it-or-lose-it-with-bonnie-austen-2-2-2/2027-10-12/
LOCATION:Zoom
CATEGORIES:Health & Wellness
ATTACH;FMTTYPE=image/png:https://www.jdicseniors.ca/wp-content/uploads/2023/12/Screen-Shot-2023-12-04-at-4.45.12-PM.png
ORGANIZER;CN="JDIC":MAILTO:programmer@jdicseniors.ca
END:VEVENT
BEGIN:VEVENT
DTSTART;TZID=America/Edmonton:20271013T110000
DTEND;TZID=America/Edmonton:20271013T120000
DTSTAMP:20260419T092852
CREATED:20260324T145644Z
LAST-MODIFIED:20260325T141519Z
UID:10006045-1823425200-1823428800@www.jdicseniors.ca
SUMMARY:Tai Chi
DESCRIPTION:Join our Tai Chi Master\nTai Chi is performed as a gentle\, low-impact movement in which practitioners perform a series of deliberate\, flowing motions while focusing on deep\, slow breaths.  \nWednesdays @ 11a.m.\nFee: $7 drop-in or card of 10 classes $60
URL:https://www.jdicseniors.ca/event/tai-chi/2027-10-13/
LOCATION:The Centre\, 10052-117 St. NW\, Edmonton\, Alberta\, T5K 1X2\, Canada
CATEGORIES:Health & Wellness
ORGANIZER;CN="JDIC":MAILTO:programmer@jdicseniors.ca
END:VEVENT
BEGIN:VEVENT
DTSTART;TZID=America/Edmonton:20271014T110000
DTEND;TZID=America/Edmonton:20271014T120000
DTSTAMP:20260419T092852
CREATED:20250919T163612Z
LAST-MODIFIED:20260312T233456Z
UID:10000297-1823511600-1823515200@www.jdicseniors.ca
SUMMARY:Muscle in Motion with Anna Kratochvil | In-person or Online
DESCRIPTION:Use Balls\, Bands & Weights to Exercise & Laugh\nThursdays @ 11:00a.m. \nhttps://us02web.Zoom.us/j/82287922466 \nFee: $7 drop-in or card of 10 classes $60
URL:https://www.jdicseniors.ca/event/muscle-in-motion-with-anna-kratochvil-2-2-2-2-2-2-2-2-2-2-2-2/2027-10-14/
LOCATION:Zoom
CATEGORIES:Health & Wellness
ATTACH;FMTTYPE=image/jpeg:https://www.jdicseniors.ca/wp-content/uploads/2023/12/PHOTO-2024-03-01-21-56-45.jpg
ORGANIZER;CN="JDIC":MAILTO:programmer@jdicseniors.ca
END:VEVENT
BEGIN:VEVENT
DTSTART;TZID=America/Edmonton:20271018T090000
DTEND;TZID=America/Edmonton:20271018T100000
DTSTAMP:20260419T092852
CREATED:20250919T163923Z
LAST-MODIFIED:20260324T145856Z
UID:10002636-1823850000-1823853600@www.jdicseniors.ca
SUMMARY:YOGA Classes | Online or In-Person
DESCRIPTION:YOGA Classes\nWe are looking forward to seeing all of you on Monday mornings at 9:00am to 10:00am.  \nMonday mornings @ 9:00a.m.–10:00a.m.\nOld and new faces are very WELCOME in-person & via Zoom! \nPlease register\nhttps://tinyurl.com/297jwcb4\n \nFee: $7 drop-in or card of 10 classes $60 \nInstructor:\n\nSandy Mah
URL:https://www.jdicseniors.ca/event/yoga-classes-2-2-4-2-2-2-2/2027-10-18/
LOCATION:Zoom
CATEGORIES:Health & Wellness
ATTACH;FMTTYPE=image/jpeg:https://www.jdicseniors.ca/wp-content/uploads/2023/12/pexels-mikhail-nilov-7530023.jpg
ORGANIZER;CN="JDIC":MAILTO:programmer@jdicseniors.ca
END:VEVENT
BEGIN:VEVENT
DTSTART;TZID=America/Edmonton:20271019T104500
DTEND;TZID=America/Edmonton:20271019T114500
DTSTAMP:20260419T092852
CREATED:20250919T163732Z
LAST-MODIFIED:20260312T232849Z
UID:10000828-1823942700-1823946300@www.jdicseniors.ca
SUMMARY:Use it or Lose it With Bonnie Austen | In-person or Online
DESCRIPTION:Use it or Lose it With Bonnie Austen\nCardio & Strength training\, Flexibility & Balance & Laugher \nTuesdays @10:45a.m.\nhttps://us02web.Zoom.us/j/89274775349 \nFee: $7 drop-in or card of 10 classes $60
URL:https://www.jdicseniors.ca/event/use-it-or-lose-it-with-bonnie-austen-2-2-2/2027-10-19/
LOCATION:Zoom
CATEGORIES:Health & Wellness
ATTACH;FMTTYPE=image/png:https://www.jdicseniors.ca/wp-content/uploads/2023/12/Screen-Shot-2023-12-04-at-4.45.12-PM.png
ORGANIZER;CN="JDIC":MAILTO:programmer@jdicseniors.ca
END:VEVENT
BEGIN:VEVENT
DTSTART;TZID=America/Edmonton:20271020T110000
DTEND;TZID=America/Edmonton:20271020T120000
DTSTAMP:20260419T092852
CREATED:20260324T145644Z
LAST-MODIFIED:20260325T141519Z
UID:10006046-1824030000-1824033600@www.jdicseniors.ca
SUMMARY:Tai Chi
DESCRIPTION:Join our Tai Chi Master\nTai Chi is performed as a gentle\, low-impact movement in which practitioners perform a series of deliberate\, flowing motions while focusing on deep\, slow breaths.  \nWednesdays @ 11a.m.\nFee: $7 drop-in or card of 10 classes $60
URL:https://www.jdicseniors.ca/event/tai-chi/2027-10-20/
LOCATION:The Centre\, 10052-117 St. NW\, Edmonton\, Alberta\, T5K 1X2\, Canada
CATEGORIES:Health & Wellness
ORGANIZER;CN="JDIC":MAILTO:programmer@jdicseniors.ca
END:VEVENT
BEGIN:VEVENT
DTSTART;TZID=America/Edmonton:20271021T110000
DTEND;TZID=America/Edmonton:20271021T120000
DTSTAMP:20260419T092852
CREATED:20250919T163612Z
LAST-MODIFIED:20260312T233456Z
UID:10000298-1824116400-1824120000@www.jdicseniors.ca
SUMMARY:Muscle in Motion with Anna Kratochvil | In-person or Online
DESCRIPTION:Use Balls\, Bands & Weights to Exercise & Laugh\nThursdays @ 11:00a.m. \nhttps://us02web.Zoom.us/j/82287922466 \nFee: $7 drop-in or card of 10 classes $60
URL:https://www.jdicseniors.ca/event/muscle-in-motion-with-anna-kratochvil-2-2-2-2-2-2-2-2-2-2-2-2/2027-10-21/
LOCATION:Zoom
CATEGORIES:Health & Wellness
ATTACH;FMTTYPE=image/jpeg:https://www.jdicseniors.ca/wp-content/uploads/2023/12/PHOTO-2024-03-01-21-56-45.jpg
ORGANIZER;CN="JDIC":MAILTO:programmer@jdicseniors.ca
END:VEVENT
BEGIN:VEVENT
DTSTART;TZID=America/Edmonton:20271025T090000
DTEND;TZID=America/Edmonton:20271025T100000
DTSTAMP:20260419T092852
CREATED:20250919T163923Z
LAST-MODIFIED:20260324T145856Z
UID:10002637-1824454800-1824458400@www.jdicseniors.ca
SUMMARY:YOGA Classes | Online or In-Person
DESCRIPTION:YOGA Classes\nWe are looking forward to seeing all of you on Monday mornings at 9:00am to 10:00am.  \nMonday mornings @ 9:00a.m.–10:00a.m.\nOld and new faces are very WELCOME in-person & via Zoom! \nPlease register\nhttps://tinyurl.com/297jwcb4\n \nFee: $7 drop-in or card of 10 classes $60 \nInstructor:\n\nSandy Mah
URL:https://www.jdicseniors.ca/event/yoga-classes-2-2-4-2-2-2-2/2027-10-25/
LOCATION:Zoom
CATEGORIES:Health & Wellness
ATTACH;FMTTYPE=image/jpeg:https://www.jdicseniors.ca/wp-content/uploads/2023/12/pexels-mikhail-nilov-7530023.jpg
ORGANIZER;CN="JDIC":MAILTO:programmer@jdicseniors.ca
END:VEVENT
BEGIN:VEVENT
DTSTART;TZID=America/Edmonton:20271026T104500
DTEND;TZID=America/Edmonton:20271026T114500
DTSTAMP:20260419T092852
CREATED:20250919T163732Z
LAST-MODIFIED:20260312T232849Z
UID:10000829-1824547500-1824551100@www.jdicseniors.ca
SUMMARY:Use it or Lose it With Bonnie Austen | In-person or Online
DESCRIPTION:Use it or Lose it With Bonnie Austen\nCardio & Strength training\, Flexibility & Balance & Laugher \nTuesdays @10:45a.m.\nhttps://us02web.Zoom.us/j/89274775349 \nFee: $7 drop-in or card of 10 classes $60
URL:https://www.jdicseniors.ca/event/use-it-or-lose-it-with-bonnie-austen-2-2-2/2027-10-26/
LOCATION:Zoom
CATEGORIES:Health & Wellness
ATTACH;FMTTYPE=image/png:https://www.jdicseniors.ca/wp-content/uploads/2023/12/Screen-Shot-2023-12-04-at-4.45.12-PM.png
ORGANIZER;CN="JDIC":MAILTO:programmer@jdicseniors.ca
END:VEVENT
END:VCALENDAR