BEGIN:VCALENDAR
VERSION:2.0
PRODID:-//Jewish Senior Citizen’s Centre - ECPv6.15.17.1//NONSGML v1.0//EN
CALSCALE:GREGORIAN
METHOD:PUBLISH
X-ORIGINAL-URL:https://www.jdicseniors.ca
X-WR-CALDESC:Events for Jewish Senior Citizen’s Centre
REFRESH-INTERVAL;VALUE=DURATION:PT1H
X-Robots-Tag:noindex
X-PUBLISHED-TTL:PT1H
BEGIN:VTIMEZONE
TZID:America/Edmonton
BEGIN:DAYLIGHT
TZOFFSETFROM:-0700
TZOFFSETTO:-0600
TZNAME:MDT
DTSTART:20230312T090000
END:DAYLIGHT
BEGIN:STANDARD
TZOFFSETFROM:-0600
TZOFFSETTO:-0700
TZNAME:MST
DTSTART:20231105T080000
END:STANDARD
BEGIN:DAYLIGHT
TZOFFSETFROM:-0700
TZOFFSETTO:-0600
TZNAME:MDT
DTSTART:20240310T090000
END:DAYLIGHT
BEGIN:STANDARD
TZOFFSETFROM:-0600
TZOFFSETTO:-0700
TZNAME:MST
DTSTART:20241103T080000
END:STANDARD
BEGIN:DAYLIGHT
TZOFFSETFROM:-0700
TZOFFSETTO:-0600
TZNAME:MDT
DTSTART:20250309T090000
END:DAYLIGHT
BEGIN:STANDARD
TZOFFSETFROM:-0600
TZOFFSETTO:-0700
TZNAME:MST
DTSTART:20251102T080000
END:STANDARD
END:VTIMEZONE
BEGIN:VEVENT
DTSTART;TZID=America/Edmonton:20240624T100000
DTEND;TZID=America/Edmonton:20240624T110000
DTSTAMP:20260420T175359
CREATED:20231204T224311Z
LAST-MODIFIED:20240904T202256Z
UID:10001453-1719223200-1719226800@www.jdicseniors.ca
SUMMARY:YOGA Classes
DESCRIPTION:YOGA Classes\nWe are looking forward to seeing all of you on Monday mornings at 10:00am to 11:00am.  \nMonday mornings @ 10:00a.m.–11:00a.m.\nOld and new faces are very WELCOME in-person & via Zoom! \nPlease register\nhttps://tinyurl.com/297jwcb4\n \nFee: $7 drop-in or card of 10 classes $60
URL:https://www.jdicseniors.ca/event/yoga-classes-2-2-4-2-2/2024-06-24/
LOCATION:The Centre\, 10052-117 St. NW\, Edmonton\, Alberta\, T5K 1X2\, Canada
CATEGORIES:Health & Wellness
ATTACH;FMTTYPE=image/jpeg:https://www.jdicseniors.ca/wp-content/uploads/2023/12/pexels-mikhail-nilov-7530023.jpg
ORGANIZER;CN="JDIC":MAILTO:programmer@jdicseniors.ca
END:VEVENT
BEGIN:VEVENT
DTSTART;TZID=America/Edmonton:20240620T110000
DTEND;TZID=America/Edmonton:20240620T120000
DTSTAMP:20260420T175359
CREATED:20231204T224311Z
LAST-MODIFIED:20240904T200650Z
UID:10000124-1718881200-1718884800@www.jdicseniors.ca
SUMMARY:Muscle in Motion with Anna Kratochvil
DESCRIPTION:Use Balls\, Bands & Weights to Exercise & Laugh\nThursdays @ 11:00a.m. \nhttps://us02web.Zoom.us/j/82287922466 \nFee: $7 drop-in or card of 10 classes $60
URL:https://www.jdicseniors.ca/event/muscle-in-motion-with-anna-kratochvil-2-2-2-2-2-2-2-2-2-2/2024-06-20/
LOCATION:Zoom
CATEGORIES:Health & Wellness
ATTACH;FMTTYPE=image/jpeg:https://www.jdicseniors.ca/wp-content/uploads/2023/12/PHOTO-2024-03-01-21-56-45.jpg
ORGANIZER;CN="JDIC":MAILTO:programmer@jdicseniors.ca
END:VEVENT
BEGIN:VEVENT
DTSTART;TZID=America/Edmonton:20240618T104500
DTEND;TZID=America/Edmonton:20240618T114500
DTSTAMP:20260420T175359
CREATED:20231204T224310Z
LAST-MODIFIED:20240904T201856Z
UID:10000654-1718707500-1718711100@www.jdicseniors.ca
SUMMARY:Use it or Lose it With Bonnie Austen
DESCRIPTION:Use it or Lose it With Bonnie Austen\nCardio & Strength training\, Flexibility & Balance & Laugher \nTuesdays @10:45a.m.\nhttps://us02web.Zoom.us/j/89274775349 \nFee: $7 drop-in or card of 10 classes $60
URL:https://www.jdicseniors.ca/event/use-it-or-lose-it-with-bonnie-austen-2/2024-06-18/
LOCATION:Zoom
CATEGORIES:Health & Wellness
ATTACH;FMTTYPE=image/png:https://www.jdicseniors.ca/wp-content/uploads/2023/12/Screen-Shot-2023-12-04-at-4.45.12-PM.png
ORGANIZER;CN="JDIC":MAILTO:programmer@jdicseniors.ca
END:VEVENT
BEGIN:VEVENT
DTSTART;TZID=America/Edmonton:20240617T100000
DTEND;TZID=America/Edmonton:20240617T110000
DTSTAMP:20260420T175359
CREATED:20231204T224311Z
LAST-MODIFIED:20240904T202256Z
UID:10001452-1718618400-1718622000@www.jdicseniors.ca
SUMMARY:YOGA Classes
DESCRIPTION:YOGA Classes\nWe are looking forward to seeing all of you on Monday mornings at 10:00am to 11:00am.  \nMonday mornings @ 10:00a.m.–11:00a.m.\nOld and new faces are very WELCOME in-person & via Zoom! \nPlease register\nhttps://tinyurl.com/297jwcb4\n \nFee: $7 drop-in or card of 10 classes $60
URL:https://www.jdicseniors.ca/event/yoga-classes-2-2-4-2-2/2024-06-17/
LOCATION:The Centre\, 10052-117 St. NW\, Edmonton\, Alberta\, T5K 1X2\, Canada
CATEGORIES:Health & Wellness
ATTACH;FMTTYPE=image/jpeg:https://www.jdicseniors.ca/wp-content/uploads/2023/12/pexels-mikhail-nilov-7530023.jpg
ORGANIZER;CN="JDIC":MAILTO:programmer@jdicseniors.ca
END:VEVENT
BEGIN:VEVENT
DTSTART;TZID=America/Edmonton:20240613T110000
DTEND;TZID=America/Edmonton:20240613T120000
DTSTAMP:20260420T175359
CREATED:20231204T224311Z
LAST-MODIFIED:20240904T200650Z
UID:10000123-1718276400-1718280000@www.jdicseniors.ca
SUMMARY:Muscle in Motion with Anna Kratochvil
DESCRIPTION:Use Balls\, Bands & Weights to Exercise & Laugh\nThursdays @ 11:00a.m. \nhttps://us02web.Zoom.us/j/82287922466 \nFee: $7 drop-in or card of 10 classes $60
URL:https://www.jdicseniors.ca/event/muscle-in-motion-with-anna-kratochvil-2-2-2-2-2-2-2-2-2-2/2024-06-13/
LOCATION:Zoom
CATEGORIES:Health & Wellness
ATTACH;FMTTYPE=image/jpeg:https://www.jdicseniors.ca/wp-content/uploads/2023/12/PHOTO-2024-03-01-21-56-45.jpg
ORGANIZER;CN="JDIC":MAILTO:programmer@jdicseniors.ca
END:VEVENT
BEGIN:VEVENT
DTSTART;TZID=America/Edmonton:20240611T104500
DTEND;TZID=America/Edmonton:20240611T114500
DTSTAMP:20260420T175359
CREATED:20231204T224310Z
LAST-MODIFIED:20240904T201856Z
UID:10000653-1718102700-1718106300@www.jdicseniors.ca
SUMMARY:Use it or Lose it With Bonnie Austen
DESCRIPTION:Use it or Lose it With Bonnie Austen\nCardio & Strength training\, Flexibility & Balance & Laugher \nTuesdays @10:45a.m.\nhttps://us02web.Zoom.us/j/89274775349 \nFee: $7 drop-in or card of 10 classes $60
URL:https://www.jdicseniors.ca/event/use-it-or-lose-it-with-bonnie-austen-2/2024-06-11/
LOCATION:Zoom
CATEGORIES:Health & Wellness
ATTACH;FMTTYPE=image/png:https://www.jdicseniors.ca/wp-content/uploads/2023/12/Screen-Shot-2023-12-04-at-4.45.12-PM.png
ORGANIZER;CN="JDIC":MAILTO:programmer@jdicseniors.ca
END:VEVENT
BEGIN:VEVENT
DTSTART;TZID=America/Edmonton:20240610T100000
DTEND;TZID=America/Edmonton:20240610T110000
DTSTAMP:20260420T175359
CREATED:20231204T224311Z
LAST-MODIFIED:20240904T202256Z
UID:10001451-1718013600-1718017200@www.jdicseniors.ca
SUMMARY:YOGA Classes
DESCRIPTION:YOGA Classes\nWe are looking forward to seeing all of you on Monday mornings at 10:00am to 11:00am.  \nMonday mornings @ 10:00a.m.–11:00a.m.\nOld and new faces are very WELCOME in-person & via Zoom! \nPlease register\nhttps://tinyurl.com/297jwcb4\n \nFee: $7 drop-in or card of 10 classes $60
URL:https://www.jdicseniors.ca/event/yoga-classes-2-2-4-2-2/2024-06-10/
LOCATION:The Centre\, 10052-117 St. NW\, Edmonton\, Alberta\, T5K 1X2\, Canada
CATEGORIES:Health & Wellness
ATTACH;FMTTYPE=image/jpeg:https://www.jdicseniors.ca/wp-content/uploads/2023/12/pexels-mikhail-nilov-7530023.jpg
ORGANIZER;CN="JDIC":MAILTO:programmer@jdicseniors.ca
END:VEVENT
BEGIN:VEVENT
DTSTART;TZID=America/Edmonton:20240606T110000
DTEND;TZID=America/Edmonton:20240606T120000
DTSTAMP:20260420T175359
CREATED:20231204T224311Z
LAST-MODIFIED:20240904T200650Z
UID:10000122-1717671600-1717675200@www.jdicseniors.ca
SUMMARY:Muscle in Motion with Anna Kratochvil
DESCRIPTION:Use Balls\, Bands & Weights to Exercise & Laugh\nThursdays @ 11:00a.m. \nhttps://us02web.Zoom.us/j/82287922466 \nFee: $7 drop-in or card of 10 classes $60
URL:https://www.jdicseniors.ca/event/muscle-in-motion-with-anna-kratochvil-2-2-2-2-2-2-2-2-2-2/2024-06-06/
LOCATION:Zoom
CATEGORIES:Health & Wellness
ATTACH;FMTTYPE=image/jpeg:https://www.jdicseniors.ca/wp-content/uploads/2023/12/PHOTO-2024-03-01-21-56-45.jpg
ORGANIZER;CN="JDIC":MAILTO:programmer@jdicseniors.ca
END:VEVENT
BEGIN:VEVENT
DTSTART;TZID=America/Edmonton:20240604T104500
DTEND;TZID=America/Edmonton:20240604T114500
DTSTAMP:20260420T175359
CREATED:20231204T224310Z
LAST-MODIFIED:20240904T201856Z
UID:10000652-1717497900-1717501500@www.jdicseniors.ca
SUMMARY:Use it or Lose it With Bonnie Austen
DESCRIPTION:Use it or Lose it With Bonnie Austen\nCardio & Strength training\, Flexibility & Balance & Laugher \nTuesdays @10:45a.m.\nhttps://us02web.Zoom.us/j/89274775349 \nFee: $7 drop-in or card of 10 classes $60
URL:https://www.jdicseniors.ca/event/use-it-or-lose-it-with-bonnie-austen-2/2024-06-04/
LOCATION:Zoom
CATEGORIES:Health & Wellness
ATTACH;FMTTYPE=image/png:https://www.jdicseniors.ca/wp-content/uploads/2023/12/Screen-Shot-2023-12-04-at-4.45.12-PM.png
ORGANIZER;CN="JDIC":MAILTO:programmer@jdicseniors.ca
END:VEVENT
BEGIN:VEVENT
DTSTART;TZID=America/Edmonton:20240603T100000
DTEND;TZID=America/Edmonton:20240603T110000
DTSTAMP:20260420T175359
CREATED:20231204T224311Z
LAST-MODIFIED:20240904T202256Z
UID:10001450-1717408800-1717412400@www.jdicseniors.ca
SUMMARY:YOGA Classes
DESCRIPTION:YOGA Classes\nWe are looking forward to seeing all of you on Monday mornings at 10:00am to 11:00am.  \nMonday mornings @ 10:00a.m.–11:00a.m.\nOld and new faces are very WELCOME in-person & via Zoom! \nPlease register\nhttps://tinyurl.com/297jwcb4\n \nFee: $7 drop-in or card of 10 classes $60
URL:https://www.jdicseniors.ca/event/yoga-classes-2-2-4-2-2/2024-06-03/
LOCATION:The Centre\, 10052-117 St. NW\, Edmonton\, Alberta\, T5K 1X2\, Canada
CATEGORIES:Health & Wellness
ATTACH;FMTTYPE=image/jpeg:https://www.jdicseniors.ca/wp-content/uploads/2023/12/pexels-mikhail-nilov-7530023.jpg
ORGANIZER;CN="JDIC":MAILTO:programmer@jdicseniors.ca
END:VEVENT
BEGIN:VEVENT
DTSTART;TZID=America/Edmonton:20240530T110000
DTEND;TZID=America/Edmonton:20240530T120000
DTSTAMP:20260420T175359
CREATED:20231204T224311Z
LAST-MODIFIED:20240904T200650Z
UID:10000121-1717066800-1717070400@www.jdicseniors.ca
SUMMARY:Muscle in Motion with Anna Kratochvil
DESCRIPTION:Use Balls\, Bands & Weights to Exercise & Laugh\nThursdays @ 11:00a.m. \nhttps://us02web.Zoom.us/j/82287922466 \nFee: $7 drop-in or card of 10 classes $60
URL:https://www.jdicseniors.ca/event/muscle-in-motion-with-anna-kratochvil-2-2-2-2-2-2-2-2-2-2/2024-05-30/
LOCATION:Zoom
CATEGORIES:Health & Wellness
ATTACH;FMTTYPE=image/jpeg:https://www.jdicseniors.ca/wp-content/uploads/2023/12/PHOTO-2024-03-01-21-56-45.jpg
ORGANIZER;CN="JDIC":MAILTO:programmer@jdicseniors.ca
END:VEVENT
BEGIN:VEVENT
DTSTART;TZID=America/Edmonton:20240528T104500
DTEND;TZID=America/Edmonton:20240528T114500
DTSTAMP:20260420T175359
CREATED:20231204T224310Z
LAST-MODIFIED:20240904T201856Z
UID:10000651-1716893100-1716896700@www.jdicseniors.ca
SUMMARY:Use it or Lose it With Bonnie Austen
DESCRIPTION:Use it or Lose it With Bonnie Austen\nCardio & Strength training\, Flexibility & Balance & Laugher \nTuesdays @10:45a.m.\nhttps://us02web.Zoom.us/j/89274775349 \nFee: $7 drop-in or card of 10 classes $60
URL:https://www.jdicseniors.ca/event/use-it-or-lose-it-with-bonnie-austen-2/2024-05-28/
LOCATION:Zoom
CATEGORIES:Health & Wellness
ATTACH;FMTTYPE=image/png:https://www.jdicseniors.ca/wp-content/uploads/2023/12/Screen-Shot-2023-12-04-at-4.45.12-PM.png
ORGANIZER;CN="JDIC":MAILTO:programmer@jdicseniors.ca
END:VEVENT
BEGIN:VEVENT
DTSTART;TZID=America/Edmonton:20240527T100000
DTEND;TZID=America/Edmonton:20240527T110000
DTSTAMP:20260420T175359
CREATED:20231204T224311Z
LAST-MODIFIED:20240904T202256Z
UID:10001449-1716804000-1716807600@www.jdicseniors.ca
SUMMARY:YOGA Classes
DESCRIPTION:YOGA Classes\nWe are looking forward to seeing all of you on Monday mornings at 10:00am to 11:00am.  \nMonday mornings @ 10:00a.m.–11:00a.m.\nOld and new faces are very WELCOME in-person & via Zoom! \nPlease register\nhttps://tinyurl.com/297jwcb4\n \nFee: $7 drop-in or card of 10 classes $60
URL:https://www.jdicseniors.ca/event/yoga-classes-2-2-4-2-2/2024-05-27/
LOCATION:The Centre\, 10052-117 St. NW\, Edmonton\, Alberta\, T5K 1X2\, Canada
CATEGORIES:Health & Wellness
ATTACH;FMTTYPE=image/jpeg:https://www.jdicseniors.ca/wp-content/uploads/2023/12/pexels-mikhail-nilov-7530023.jpg
ORGANIZER;CN="JDIC":MAILTO:programmer@jdicseniors.ca
END:VEVENT
BEGIN:VEVENT
DTSTART;TZID=America/Edmonton:20240523T110000
DTEND;TZID=America/Edmonton:20240523T120000
DTSTAMP:20260420T175359
CREATED:20231204T224311Z
LAST-MODIFIED:20240904T200650Z
UID:10000120-1716462000-1716465600@www.jdicseniors.ca
SUMMARY:Muscle in Motion with Anna Kratochvil
DESCRIPTION:Use Balls\, Bands & Weights to Exercise & Laugh\nThursdays @ 11:00a.m. \nhttps://us02web.Zoom.us/j/82287922466 \nFee: $7 drop-in or card of 10 classes $60
URL:https://www.jdicseniors.ca/event/muscle-in-motion-with-anna-kratochvil-2-2-2-2-2-2-2-2-2-2/2024-05-23/
LOCATION:Zoom
CATEGORIES:Health & Wellness
ATTACH;FMTTYPE=image/jpeg:https://www.jdicseniors.ca/wp-content/uploads/2023/12/PHOTO-2024-03-01-21-56-45.jpg
ORGANIZER;CN="JDIC":MAILTO:programmer@jdicseniors.ca
END:VEVENT
BEGIN:VEVENT
DTSTART;TZID=America/Edmonton:20240521T104500
DTEND;TZID=America/Edmonton:20240521T114500
DTSTAMP:20260420T175359
CREATED:20231204T224310Z
LAST-MODIFIED:20240904T201856Z
UID:10000650-1716288300-1716291900@www.jdicseniors.ca
SUMMARY:Use it or Lose it With Bonnie Austen
DESCRIPTION:Use it or Lose it With Bonnie Austen\nCardio & Strength training\, Flexibility & Balance & Laugher \nTuesdays @10:45a.m.\nhttps://us02web.Zoom.us/j/89274775349 \nFee: $7 drop-in or card of 10 classes $60
URL:https://www.jdicseniors.ca/event/use-it-or-lose-it-with-bonnie-austen-2/2024-05-21/
LOCATION:Zoom
CATEGORIES:Health & Wellness
ATTACH;FMTTYPE=image/png:https://www.jdicseniors.ca/wp-content/uploads/2023/12/Screen-Shot-2023-12-04-at-4.45.12-PM.png
ORGANIZER;CN="JDIC":MAILTO:programmer@jdicseniors.ca
END:VEVENT
BEGIN:VEVENT
DTSTART;TZID=America/Edmonton:20240520T100000
DTEND;TZID=America/Edmonton:20240520T110000
DTSTAMP:20260420T175359
CREATED:20231204T224311Z
LAST-MODIFIED:20240904T202256Z
UID:10001448-1716199200-1716202800@www.jdicseniors.ca
SUMMARY:YOGA Classes
DESCRIPTION:YOGA Classes\nWe are looking forward to seeing all of you on Monday mornings at 10:00am to 11:00am.  \nMonday mornings @ 10:00a.m.–11:00a.m.\nOld and new faces are very WELCOME in-person & via Zoom! \nPlease register\nhttps://tinyurl.com/297jwcb4\n \nFee: $7 drop-in or card of 10 classes $60
URL:https://www.jdicseniors.ca/event/yoga-classes-2-2-4-2-2/2024-05-20/
LOCATION:The Centre\, 10052-117 St. NW\, Edmonton\, Alberta\, T5K 1X2\, Canada
CATEGORIES:Health & Wellness
ATTACH;FMTTYPE=image/jpeg:https://www.jdicseniors.ca/wp-content/uploads/2023/12/pexels-mikhail-nilov-7530023.jpg
ORGANIZER;CN="JDIC":MAILTO:programmer@jdicseniors.ca
END:VEVENT
BEGIN:VEVENT
DTSTART;TZID=America/Edmonton:20240516T110000
DTEND;TZID=America/Edmonton:20240516T120000
DTSTAMP:20260420T175359
CREATED:20231204T224311Z
LAST-MODIFIED:20240904T200650Z
UID:10000119-1715857200-1715860800@www.jdicseniors.ca
SUMMARY:Muscle in Motion with Anna Kratochvil
DESCRIPTION:Use Balls\, Bands & Weights to Exercise & Laugh\nThursdays @ 11:00a.m. \nhttps://us02web.Zoom.us/j/82287922466 \nFee: $7 drop-in or card of 10 classes $60
URL:https://www.jdicseniors.ca/event/muscle-in-motion-with-anna-kratochvil-2-2-2-2-2-2-2-2-2-2/2024-05-16/
LOCATION:Zoom
CATEGORIES:Health & Wellness
ATTACH;FMTTYPE=image/jpeg:https://www.jdicseniors.ca/wp-content/uploads/2023/12/PHOTO-2024-03-01-21-56-45.jpg
ORGANIZER;CN="JDIC":MAILTO:programmer@jdicseniors.ca
END:VEVENT
BEGIN:VEVENT
DTSTART;TZID=America/Edmonton:20240514T104500
DTEND;TZID=America/Edmonton:20240514T114500
DTSTAMP:20260420T175359
CREATED:20231204T224310Z
LAST-MODIFIED:20240904T201856Z
UID:10000649-1715683500-1715687100@www.jdicseniors.ca
SUMMARY:Use it or Lose it With Bonnie Austen
DESCRIPTION:Use it or Lose it With Bonnie Austen\nCardio & Strength training\, Flexibility & Balance & Laugher \nTuesdays @10:45a.m.\nhttps://us02web.Zoom.us/j/89274775349 \nFee: $7 drop-in or card of 10 classes $60
URL:https://www.jdicseniors.ca/event/use-it-or-lose-it-with-bonnie-austen-2/2024-05-14/
LOCATION:Zoom
CATEGORIES:Health & Wellness
ATTACH;FMTTYPE=image/png:https://www.jdicseniors.ca/wp-content/uploads/2023/12/Screen-Shot-2023-12-04-at-4.45.12-PM.png
ORGANIZER;CN="JDIC":MAILTO:programmer@jdicseniors.ca
END:VEVENT
BEGIN:VEVENT
DTSTART;TZID=America/Edmonton:20240513T100000
DTEND;TZID=America/Edmonton:20240513T110000
DTSTAMP:20260420T175359
CREATED:20231204T224311Z
LAST-MODIFIED:20240904T202256Z
UID:10001447-1715594400-1715598000@www.jdicseniors.ca
SUMMARY:YOGA Classes
DESCRIPTION:YOGA Classes\nWe are looking forward to seeing all of you on Monday mornings at 10:00am to 11:00am.  \nMonday mornings @ 10:00a.m.–11:00a.m.\nOld and new faces are very WELCOME in-person & via Zoom! \nPlease register\nhttps://tinyurl.com/297jwcb4\n \nFee: $7 drop-in or card of 10 classes $60
URL:https://www.jdicseniors.ca/event/yoga-classes-2-2-4-2-2/2024-05-13/
LOCATION:The Centre\, 10052-117 St. NW\, Edmonton\, Alberta\, T5K 1X2\, Canada
CATEGORIES:Health & Wellness
ATTACH;FMTTYPE=image/jpeg:https://www.jdicseniors.ca/wp-content/uploads/2023/12/pexels-mikhail-nilov-7530023.jpg
ORGANIZER;CN="JDIC":MAILTO:programmer@jdicseniors.ca
END:VEVENT
BEGIN:VEVENT
DTSTART;TZID=America/Edmonton:20240509T110000
DTEND;TZID=America/Edmonton:20240509T120000
DTSTAMP:20260420T175359
CREATED:20231204T224311Z
LAST-MODIFIED:20240904T200650Z
UID:10000118-1715252400-1715256000@www.jdicseniors.ca
SUMMARY:Muscle in Motion with Anna Kratochvil
DESCRIPTION:Use Balls\, Bands & Weights to Exercise & Laugh\nThursdays @ 11:00a.m. \nhttps://us02web.Zoom.us/j/82287922466 \nFee: $7 drop-in or card of 10 classes $60
URL:https://www.jdicseniors.ca/event/muscle-in-motion-with-anna-kratochvil-2-2-2-2-2-2-2-2-2-2/2024-05-09/
LOCATION:Zoom
CATEGORIES:Health & Wellness
ATTACH;FMTTYPE=image/jpeg:https://www.jdicseniors.ca/wp-content/uploads/2023/12/PHOTO-2024-03-01-21-56-45.jpg
ORGANIZER;CN="JDIC":MAILTO:programmer@jdicseniors.ca
END:VEVENT
BEGIN:VEVENT
DTSTART;TZID=America/Edmonton:20240507T104500
DTEND;TZID=America/Edmonton:20240507T114500
DTSTAMP:20260420T175359
CREATED:20231204T224310Z
LAST-MODIFIED:20240904T201856Z
UID:10000648-1715078700-1715082300@www.jdicseniors.ca
SUMMARY:Use it or Lose it With Bonnie Austen
DESCRIPTION:Use it or Lose it With Bonnie Austen\nCardio & Strength training\, Flexibility & Balance & Laugher \nTuesdays @10:45a.m.\nhttps://us02web.Zoom.us/j/89274775349 \nFee: $7 drop-in or card of 10 classes $60
URL:https://www.jdicseniors.ca/event/use-it-or-lose-it-with-bonnie-austen-2/2024-05-07/
LOCATION:Zoom
CATEGORIES:Health & Wellness
ATTACH;FMTTYPE=image/png:https://www.jdicseniors.ca/wp-content/uploads/2023/12/Screen-Shot-2023-12-04-at-4.45.12-PM.png
ORGANIZER;CN="JDIC":MAILTO:programmer@jdicseniors.ca
END:VEVENT
BEGIN:VEVENT
DTSTART;TZID=America/Edmonton:20240506T100000
DTEND;TZID=America/Edmonton:20240506T110000
DTSTAMP:20260420T175359
CREATED:20231204T224311Z
LAST-MODIFIED:20240904T202256Z
UID:10001446-1714989600-1714993200@www.jdicseniors.ca
SUMMARY:YOGA Classes
DESCRIPTION:YOGA Classes\nWe are looking forward to seeing all of you on Monday mornings at 10:00am to 11:00am.  \nMonday mornings @ 10:00a.m.–11:00a.m.\nOld and new faces are very WELCOME in-person & via Zoom! \nPlease register\nhttps://tinyurl.com/297jwcb4\n \nFee: $7 drop-in or card of 10 classes $60
URL:https://www.jdicseniors.ca/event/yoga-classes-2-2-4-2-2/2024-05-06/
LOCATION:The Centre\, 10052-117 St. NW\, Edmonton\, Alberta\, T5K 1X2\, Canada
CATEGORIES:Health & Wellness
ATTACH;FMTTYPE=image/jpeg:https://www.jdicseniors.ca/wp-content/uploads/2023/12/pexels-mikhail-nilov-7530023.jpg
ORGANIZER;CN="JDIC":MAILTO:programmer@jdicseniors.ca
END:VEVENT
BEGIN:VEVENT
DTSTART;TZID=America/Edmonton:20240502T110000
DTEND;TZID=America/Edmonton:20240502T120000
DTSTAMP:20260420T175359
CREATED:20231204T224311Z
LAST-MODIFIED:20240904T200650Z
UID:10000117-1714647600-1714651200@www.jdicseniors.ca
SUMMARY:Muscle in Motion with Anna Kratochvil
DESCRIPTION:Use Balls\, Bands & Weights to Exercise & Laugh\nThursdays @ 11:00a.m. \nhttps://us02web.Zoom.us/j/82287922466 \nFee: $7 drop-in or card of 10 classes $60
URL:https://www.jdicseniors.ca/event/muscle-in-motion-with-anna-kratochvil-2-2-2-2-2-2-2-2-2-2/2024-05-02/
LOCATION:Zoom
CATEGORIES:Health & Wellness
ATTACH;FMTTYPE=image/jpeg:https://www.jdicseniors.ca/wp-content/uploads/2023/12/PHOTO-2024-03-01-21-56-45.jpg
ORGANIZER;CN="JDIC":MAILTO:programmer@jdicseniors.ca
END:VEVENT
BEGIN:VEVENT
DTSTART;TZID=America/Edmonton:20240418T110000
DTEND;TZID=America/Edmonton:20240418T120000
DTSTAMP:20260420T175359
CREATED:20231204T224311Z
LAST-MODIFIED:20240904T200650Z
UID:10000115-1713438000-1713441600@www.jdicseniors.ca
SUMMARY:Muscle in Motion with Anna Kratochvil
DESCRIPTION:Use Balls\, Bands & Weights to Exercise & Laugh\nThursdays @ 11:00a.m. \nhttps://us02web.Zoom.us/j/82287922466 \nFee: $7 drop-in or card of 10 classes $60
URL:https://www.jdicseniors.ca/event/muscle-in-motion-with-anna-kratochvil-2-2-2-2-2-2-2-2-2-2/2024-04-18/
LOCATION:Zoom
CATEGORIES:Health & Wellness
ATTACH;FMTTYPE=image/jpeg:https://www.jdicseniors.ca/wp-content/uploads/2023/12/PHOTO-2024-03-01-21-56-45.jpg
ORGANIZER;CN="JDIC":MAILTO:programmer@jdicseniors.ca
END:VEVENT
BEGIN:VEVENT
DTSTART;TZID=America/Edmonton:20240416T104500
DTEND;TZID=America/Edmonton:20240416T114500
DTSTAMP:20260420T175359
CREATED:20231204T224310Z
LAST-MODIFIED:20240904T201856Z
UID:10000645-1713264300-1713267900@www.jdicseniors.ca
SUMMARY:Use it or Lose it With Bonnie Austen
DESCRIPTION:Use it or Lose it With Bonnie Austen\nCardio & Strength training\, Flexibility & Balance & Laugher \nTuesdays @10:45a.m.\nhttps://us02web.Zoom.us/j/89274775349 \nFee: $7 drop-in or card of 10 classes $60
URL:https://www.jdicseniors.ca/event/use-it-or-lose-it-with-bonnie-austen-2/2024-04-16/
LOCATION:Zoom
CATEGORIES:Health & Wellness
ATTACH;FMTTYPE=image/png:https://www.jdicseniors.ca/wp-content/uploads/2023/12/Screen-Shot-2023-12-04-at-4.45.12-PM.png
ORGANIZER;CN="JDIC":MAILTO:programmer@jdicseniors.ca
END:VEVENT
BEGIN:VEVENT
DTSTART;TZID=America/Edmonton:20240415T100000
DTEND;TZID=America/Edmonton:20240415T110000
DTSTAMP:20260420T175359
CREATED:20231204T224311Z
LAST-MODIFIED:20240904T202256Z
UID:10001443-1713175200-1713178800@www.jdicseniors.ca
SUMMARY:YOGA Classes
DESCRIPTION:YOGA Classes\nWe are looking forward to seeing all of you on Monday mornings at 10:00am to 11:00am.  \nMonday mornings @ 10:00a.m.–11:00a.m.\nOld and new faces are very WELCOME in-person & via Zoom! \nPlease register\nhttps://tinyurl.com/297jwcb4\n \nFee: $7 drop-in or card of 10 classes $60
URL:https://www.jdicseniors.ca/event/yoga-classes-2-2-4-2-2/2024-04-15/
LOCATION:The Centre\, 10052-117 St. NW\, Edmonton\, Alberta\, T5K 1X2\, Canada
CATEGORIES:Health & Wellness
ATTACH;FMTTYPE=image/jpeg:https://www.jdicseniors.ca/wp-content/uploads/2023/12/pexels-mikhail-nilov-7530023.jpg
ORGANIZER;CN="JDIC":MAILTO:programmer@jdicseniors.ca
END:VEVENT
BEGIN:VEVENT
DTSTART;TZID=America/Edmonton:20240411T110000
DTEND;TZID=America/Edmonton:20240411T120000
DTSTAMP:20260420T175359
CREATED:20231204T224311Z
LAST-MODIFIED:20240904T200650Z
UID:10000114-1712833200-1712836800@www.jdicseniors.ca
SUMMARY:Muscle in Motion with Anna Kratochvil
DESCRIPTION:Use Balls\, Bands & Weights to Exercise & Laugh\nThursdays @ 11:00a.m. \nhttps://us02web.Zoom.us/j/82287922466 \nFee: $7 drop-in or card of 10 classes $60
URL:https://www.jdicseniors.ca/event/muscle-in-motion-with-anna-kratochvil-2-2-2-2-2-2-2-2-2-2/2024-04-11/
LOCATION:Zoom
CATEGORIES:Health & Wellness
ATTACH;FMTTYPE=image/jpeg:https://www.jdicseniors.ca/wp-content/uploads/2023/12/PHOTO-2024-03-01-21-56-45.jpg
ORGANIZER;CN="JDIC":MAILTO:programmer@jdicseniors.ca
END:VEVENT
BEGIN:VEVENT
DTSTART;TZID=America/Edmonton:20240409T104500
DTEND;TZID=America/Edmonton:20240409T114500
DTSTAMP:20260420T175359
CREATED:20231204T224310Z
LAST-MODIFIED:20240904T201856Z
UID:10000644-1712659500-1712663100@www.jdicseniors.ca
SUMMARY:Use it or Lose it With Bonnie Austen
DESCRIPTION:Use it or Lose it With Bonnie Austen\nCardio & Strength training\, Flexibility & Balance & Laugher \nTuesdays @10:45a.m.\nhttps://us02web.Zoom.us/j/89274775349 \nFee: $7 drop-in or card of 10 classes $60
URL:https://www.jdicseniors.ca/event/use-it-or-lose-it-with-bonnie-austen-2/2024-04-09/
LOCATION:Zoom
CATEGORIES:Health & Wellness
ATTACH;FMTTYPE=image/png:https://www.jdicseniors.ca/wp-content/uploads/2023/12/Screen-Shot-2023-12-04-at-4.45.12-PM.png
ORGANIZER;CN="JDIC":MAILTO:programmer@jdicseniors.ca
END:VEVENT
BEGIN:VEVENT
DTSTART;TZID=America/Edmonton:20240408T100000
DTEND;TZID=America/Edmonton:20240408T110000
DTSTAMP:20260420T175359
CREATED:20231204T224311Z
LAST-MODIFIED:20240904T202256Z
UID:10001442-1712570400-1712574000@www.jdicseniors.ca
SUMMARY:YOGA Classes
DESCRIPTION:YOGA Classes\nWe are looking forward to seeing all of you on Monday mornings at 10:00am to 11:00am.  \nMonday mornings @ 10:00a.m.–11:00a.m.\nOld and new faces are very WELCOME in-person & via Zoom! \nPlease register\nhttps://tinyurl.com/297jwcb4\n \nFee: $7 drop-in or card of 10 classes $60
URL:https://www.jdicseniors.ca/event/yoga-classes-2-2-4-2-2/2024-04-08/
LOCATION:The Centre\, 10052-117 St. NW\, Edmonton\, Alberta\, T5K 1X2\, Canada
CATEGORIES:Health & Wellness
ATTACH;FMTTYPE=image/jpeg:https://www.jdicseniors.ca/wp-content/uploads/2023/12/pexels-mikhail-nilov-7530023.jpg
ORGANIZER;CN="JDIC":MAILTO:programmer@jdicseniors.ca
END:VEVENT
BEGIN:VEVENT
DTSTART;TZID=America/Edmonton:20240404T110000
DTEND;TZID=America/Edmonton:20240404T120000
DTSTAMP:20260420T175359
CREATED:20231204T224311Z
LAST-MODIFIED:20240904T200650Z
UID:10000113-1712228400-1712232000@www.jdicseniors.ca
SUMMARY:Muscle in Motion with Anna Kratochvil
DESCRIPTION:Use Balls\, Bands & Weights to Exercise & Laugh\nThursdays @ 11:00a.m. \nhttps://us02web.Zoom.us/j/82287922466 \nFee: $7 drop-in or card of 10 classes $60
URL:https://www.jdicseniors.ca/event/muscle-in-motion-with-anna-kratochvil-2-2-2-2-2-2-2-2-2-2/2024-04-04/
LOCATION:Zoom
CATEGORIES:Health & Wellness
ATTACH;FMTTYPE=image/jpeg:https://www.jdicseniors.ca/wp-content/uploads/2023/12/PHOTO-2024-03-01-21-56-45.jpg
ORGANIZER;CN="JDIC":MAILTO:programmer@jdicseniors.ca
END:VEVENT
END:VCALENDAR