BEGIN:VCALENDAR
VERSION:2.0
PRODID:-//Jewish Senior Citizen’s Centre - ECPv6.15.17.1//NONSGML v1.0//EN
CALSCALE:GREGORIAN
METHOD:PUBLISH
X-ORIGINAL-URL:https://www.jdicseniors.ca
X-WR-CALDESC:Events for Jewish Senior Citizen’s Centre
REFRESH-INTERVAL;VALUE=DURATION:PT1H
X-Robots-Tag:noindex
X-PUBLISHED-TTL:PT1H
BEGIN:VTIMEZONE
TZID:America/Edmonton
BEGIN:DAYLIGHT
TZOFFSETFROM:-0700
TZOFFSETTO:-0600
TZNAME:MDT
DTSTART:20230312T090000
END:DAYLIGHT
BEGIN:STANDARD
TZOFFSETFROM:-0600
TZOFFSETTO:-0700
TZNAME:MST
DTSTART:20231105T080000
END:STANDARD
BEGIN:DAYLIGHT
TZOFFSETFROM:-0700
TZOFFSETTO:-0600
TZNAME:MDT
DTSTART:20240310T090000
END:DAYLIGHT
BEGIN:STANDARD
TZOFFSETFROM:-0600
TZOFFSETTO:-0700
TZNAME:MST
DTSTART:20241103T080000
END:STANDARD
BEGIN:DAYLIGHT
TZOFFSETFROM:-0700
TZOFFSETTO:-0600
TZNAME:MDT
DTSTART:20250309T090000
END:DAYLIGHT
BEGIN:STANDARD
TZOFFSETFROM:-0600
TZOFFSETTO:-0700
TZNAME:MST
DTSTART:20251102T080000
END:STANDARD
END:VTIMEZONE
BEGIN:VEVENT
DTSTART;TZID=America/Edmonton:20241114T110000
DTEND;TZID=America/Edmonton:20241114T120000
DTSTAMP:20260420T114326
CREATED:20241005T170656Z
LAST-MODIFIED:20250228T231508Z
UID:10000145-1731582000-1731585600@www.jdicseniors.ca
SUMMARY:Muscle in Motion with Anna Kratochvil | In-person or Online
DESCRIPTION:Use Balls\, Bands & Weights to Exercise & Laugh\nThursdays @ 11:00a.m. \nhttps://us02web.Zoom.us/j/82287922466 \nFee: $7 drop-in or card of 10 classes $60
URL:https://www.jdicseniors.ca/event/muscle-in-motion-with-anna-kratochvil-2-2-2-2-2-2-2-2-2-2-2/2024-11-14/
LOCATION:Zoom
CATEGORIES:Health & Wellness
ATTACH;FMTTYPE=image/jpeg:https://www.jdicseniors.ca/wp-content/uploads/2023/12/PHOTO-2024-03-01-21-56-45.jpg
ORGANIZER;CN="JDIC":MAILTO:programmer@jdicseniors.ca
END:VEVENT
BEGIN:VEVENT
DTSTART;TZID=America/Edmonton:20241112T104500
DTEND;TZID=America/Edmonton:20241112T114500
DTSTAMP:20260420T114326
CREATED:20241005T170445Z
LAST-MODIFIED:20250228T231503Z
UID:10000675-1731408300-1731411900@www.jdicseniors.ca
SUMMARY:Use it or Lose it With Bonnie Austen | In-person or Online
DESCRIPTION:Use it or Lose it With Bonnie Austen\nCardio & Strength training\, Flexibility & Balance & Laugher \nTuesdays @10:45a.m.\nhttps://us02web.Zoom.us/j/89274775349 \nFee: $7 drop-in or card of 10 classes $60
URL:https://www.jdicseniors.ca/event/use-it-or-lose-it-with-bonnie-austen-2-2/2024-11-12/
LOCATION:Zoom
CATEGORIES:Health & Wellness
ATTACH;FMTTYPE=image/png:https://www.jdicseniors.ca/wp-content/uploads/2023/12/Screen-Shot-2023-12-04-at-4.45.12-PM.png
ORGANIZER;CN="JDIC":MAILTO:programmer@jdicseniors.ca
END:VEVENT
BEGIN:VEVENT
DTSTART;TZID=America/Edmonton:20241107T110000
DTEND;TZID=America/Edmonton:20241107T120000
DTSTAMP:20260420T114326
CREATED:20241005T170656Z
LAST-MODIFIED:20250228T231508Z
UID:10000144-1730977200-1730980800@www.jdicseniors.ca
SUMMARY:Muscle in Motion with Anna Kratochvil | In-person or Online
DESCRIPTION:Use Balls\, Bands & Weights to Exercise & Laugh\nThursdays @ 11:00a.m. \nhttps://us02web.Zoom.us/j/82287922466 \nFee: $7 drop-in or card of 10 classes $60
URL:https://www.jdicseniors.ca/event/muscle-in-motion-with-anna-kratochvil-2-2-2-2-2-2-2-2-2-2-2/2024-11-07/
LOCATION:Zoom
CATEGORIES:Health & Wellness
ATTACH;FMTTYPE=image/jpeg:https://www.jdicseniors.ca/wp-content/uploads/2023/12/PHOTO-2024-03-01-21-56-45.jpg
ORGANIZER;CN="JDIC":MAILTO:programmer@jdicseniors.ca
END:VEVENT
BEGIN:VEVENT
DTSTART;TZID=America/Edmonton:20241105T104500
DTEND;TZID=America/Edmonton:20241105T114500
DTSTAMP:20260420T114326
CREATED:20241005T170445Z
LAST-MODIFIED:20250228T231503Z
UID:10000674-1730803500-1730807100@www.jdicseniors.ca
SUMMARY:Use it or Lose it With Bonnie Austen | In-person or Online
DESCRIPTION:Use it or Lose it With Bonnie Austen\nCardio & Strength training\, Flexibility & Balance & Laugher \nTuesdays @10:45a.m.\nhttps://us02web.Zoom.us/j/89274775349 \nFee: $7 drop-in or card of 10 classes $60
URL:https://www.jdicseniors.ca/event/use-it-or-lose-it-with-bonnie-austen-2-2/2024-11-05/
LOCATION:Zoom
CATEGORIES:Health & Wellness
ATTACH;FMTTYPE=image/png:https://www.jdicseniors.ca/wp-content/uploads/2023/12/Screen-Shot-2023-12-04-at-4.45.12-PM.png
ORGANIZER;CN="JDIC":MAILTO:programmer@jdicseniors.ca
END:VEVENT
BEGIN:VEVENT
DTSTART;TZID=America/Edmonton:20241104T090000
DTEND;TZID=America/Edmonton:20241104T100000
DTSTAMP:20260420T114326
CREATED:20241005T165704Z
LAST-MODIFIED:20250228T231406Z
UID:10002483-1730710800-1730714400@www.jdicseniors.ca
SUMMARY:YOGA Classes | Online or In-Person
DESCRIPTION:YOGA Classes\nWe are looking forward to seeing all of you on Monday mornings at 9:00am to 10:00am.  \nMonday mornings @ 9:00a.m.–10:00a.m.\nOld and new faces are very WELCOME in-person & via Zoom! \nPlease register\nhttps://tinyurl.com/297jwcb4\n \nFee: $7 drop-in or card of 10 classes $60 \nInstructor:\n\nSandy Mah
URL:https://www.jdicseniors.ca/event/yoga-classes-2-2-4-2-2-2/2024-11-04/
LOCATION:Zoom
CATEGORIES:Health & Wellness
ATTACH;FMTTYPE=image/jpeg:https://www.jdicseniors.ca/wp-content/uploads/2023/12/pexels-mikhail-nilov-7530023.jpg
ORGANIZER;CN="JDIC":MAILTO:programmer@jdicseniors.ca
END:VEVENT
BEGIN:VEVENT
DTSTART;TZID=America/Edmonton:20241031T110000
DTEND;TZID=America/Edmonton:20241031T120000
DTSTAMP:20260420T114326
CREATED:20241005T170656Z
LAST-MODIFIED:20250228T231508Z
UID:10000143-1730372400-1730376000@www.jdicseniors.ca
SUMMARY:Muscle in Motion with Anna Kratochvil | In-person or Online
DESCRIPTION:Use Balls\, Bands & Weights to Exercise & Laugh\nThursdays @ 11:00a.m. \nhttps://us02web.Zoom.us/j/82287922466 \nFee: $7 drop-in or card of 10 classes $60
URL:https://www.jdicseniors.ca/event/muscle-in-motion-with-anna-kratochvil-2-2-2-2-2-2-2-2-2-2-2/2024-10-31/
LOCATION:Zoom
CATEGORIES:Health & Wellness
ATTACH;FMTTYPE=image/jpeg:https://www.jdicseniors.ca/wp-content/uploads/2023/12/PHOTO-2024-03-01-21-56-45.jpg
ORGANIZER;CN="JDIC":MAILTO:programmer@jdicseniors.ca
END:VEVENT
BEGIN:VEVENT
DTSTART;TZID=America/Edmonton:20241029T104500
DTEND;TZID=America/Edmonton:20241029T114500
DTSTAMP:20260420T114326
CREATED:20241005T170445Z
LAST-MODIFIED:20250228T231503Z
UID:10000673-1730198700-1730202300@www.jdicseniors.ca
SUMMARY:Use it or Lose it With Bonnie Austen | In-person or Online
DESCRIPTION:Use it or Lose it With Bonnie Austen\nCardio & Strength training\, Flexibility & Balance & Laugher \nTuesdays @10:45a.m.\nhttps://us02web.Zoom.us/j/89274775349 \nFee: $7 drop-in or card of 10 classes $60
URL:https://www.jdicseniors.ca/event/use-it-or-lose-it-with-bonnie-austen-2-2/2024-10-29/
LOCATION:Zoom
CATEGORIES:Health & Wellness
ATTACH;FMTTYPE=image/png:https://www.jdicseniors.ca/wp-content/uploads/2023/12/Screen-Shot-2023-12-04-at-4.45.12-PM.png
ORGANIZER;CN="JDIC":MAILTO:programmer@jdicseniors.ca
END:VEVENT
BEGIN:VEVENT
DTSTART;TZID=America/Edmonton:20240930T100000
DTEND;TZID=America/Edmonton:20240930T110000
DTSTAMP:20260420T114326
CREATED:20231204T224311Z
LAST-MODIFIED:20240904T202256Z
UID:10001467-1727690400-1727694000@www.jdicseniors.ca
SUMMARY:YOGA Classes
DESCRIPTION:YOGA Classes\nWe are looking forward to seeing all of you on Monday mornings at 10:00am to 11:00am.  \nMonday mornings @ 10:00a.m.–11:00a.m.\nOld and new faces are very WELCOME in-person & via Zoom! \nPlease register\nhttps://tinyurl.com/297jwcb4\n \nFee: $7 drop-in or card of 10 classes $60
URL:https://www.jdicseniors.ca/event/yoga-classes-2-2-4-2-2/2024-09-30/
LOCATION:The Centre\, 10052-117 St. NW\, Edmonton\, Alberta\, T5K 1X2\, Canada
CATEGORIES:Health & Wellness
ATTACH;FMTTYPE=image/jpeg:https://www.jdicseniors.ca/wp-content/uploads/2023/12/pexels-mikhail-nilov-7530023.jpg
ORGANIZER;CN="JDIC":MAILTO:programmer@jdicseniors.ca
END:VEVENT
BEGIN:VEVENT
DTSTART;TZID=America/Edmonton:20240926T110000
DTEND;TZID=America/Edmonton:20240926T120000
DTSTAMP:20260420T114326
CREATED:20231204T224311Z
LAST-MODIFIED:20240904T200650Z
UID:10000138-1727348400-1727352000@www.jdicseniors.ca
SUMMARY:Muscle in Motion with Anna Kratochvil
DESCRIPTION:Use Balls\, Bands & Weights to Exercise & Laugh\nThursdays @ 11:00a.m. \nhttps://us02web.Zoom.us/j/82287922466 \nFee: $7 drop-in or card of 10 classes $60
URL:https://www.jdicseniors.ca/event/muscle-in-motion-with-anna-kratochvil-2-2-2-2-2-2-2-2-2-2/2024-09-26/
LOCATION:Zoom
CATEGORIES:Health & Wellness
ATTACH;FMTTYPE=image/jpeg:https://www.jdicseniors.ca/wp-content/uploads/2023/12/PHOTO-2024-03-01-21-56-45.jpg
ORGANIZER;CN="JDIC":MAILTO:programmer@jdicseniors.ca
END:VEVENT
BEGIN:VEVENT
DTSTART;TZID=America/Edmonton:20240924T104500
DTEND;TZID=America/Edmonton:20240924T114500
DTSTAMP:20260420T114326
CREATED:20231204T224310Z
LAST-MODIFIED:20240904T201856Z
UID:10000668-1727174700-1727178300@www.jdicseniors.ca
SUMMARY:Use it or Lose it With Bonnie Austen
DESCRIPTION:Use it or Lose it With Bonnie Austen\nCardio & Strength training\, Flexibility & Balance & Laugher \nTuesdays @10:45a.m.\nhttps://us02web.Zoom.us/j/89274775349 \nFee: $7 drop-in or card of 10 classes $60
URL:https://www.jdicseniors.ca/event/use-it-or-lose-it-with-bonnie-austen-2/2024-09-24/
LOCATION:Zoom
CATEGORIES:Health & Wellness
ATTACH;FMTTYPE=image/png:https://www.jdicseniors.ca/wp-content/uploads/2023/12/Screen-Shot-2023-12-04-at-4.45.12-PM.png
ORGANIZER;CN="JDIC":MAILTO:programmer@jdicseniors.ca
END:VEVENT
BEGIN:VEVENT
DTSTART;TZID=America/Edmonton:20240923T100000
DTEND;TZID=America/Edmonton:20240923T110000
DTSTAMP:20260420T114326
CREATED:20231204T224311Z
LAST-MODIFIED:20240904T202256Z
UID:10001466-1727085600-1727089200@www.jdicseniors.ca
SUMMARY:YOGA Classes
DESCRIPTION:YOGA Classes\nWe are looking forward to seeing all of you on Monday mornings at 10:00am to 11:00am.  \nMonday mornings @ 10:00a.m.–11:00a.m.\nOld and new faces are very WELCOME in-person & via Zoom! \nPlease register\nhttps://tinyurl.com/297jwcb4\n \nFee: $7 drop-in or card of 10 classes $60
URL:https://www.jdicseniors.ca/event/yoga-classes-2-2-4-2-2/2024-09-23/
LOCATION:The Centre\, 10052-117 St. NW\, Edmonton\, Alberta\, T5K 1X2\, Canada
CATEGORIES:Health & Wellness
ATTACH;FMTTYPE=image/jpeg:https://www.jdicseniors.ca/wp-content/uploads/2023/12/pexels-mikhail-nilov-7530023.jpg
ORGANIZER;CN="JDIC":MAILTO:programmer@jdicseniors.ca
END:VEVENT
BEGIN:VEVENT
DTSTART;TZID=America/Edmonton:20240919T110000
DTEND;TZID=America/Edmonton:20240919T120000
DTSTAMP:20260420T114326
CREATED:20231204T224311Z
LAST-MODIFIED:20240904T200650Z
UID:10000137-1726743600-1726747200@www.jdicseniors.ca
SUMMARY:Muscle in Motion with Anna Kratochvil
DESCRIPTION:Use Balls\, Bands & Weights to Exercise & Laugh\nThursdays @ 11:00a.m. \nhttps://us02web.Zoom.us/j/82287922466 \nFee: $7 drop-in or card of 10 classes $60
URL:https://www.jdicseniors.ca/event/muscle-in-motion-with-anna-kratochvil-2-2-2-2-2-2-2-2-2-2/2024-09-19/
LOCATION:Zoom
CATEGORIES:Health & Wellness
ATTACH;FMTTYPE=image/jpeg:https://www.jdicseniors.ca/wp-content/uploads/2023/12/PHOTO-2024-03-01-21-56-45.jpg
ORGANIZER;CN="JDIC":MAILTO:programmer@jdicseniors.ca
END:VEVENT
BEGIN:VEVENT
DTSTART;TZID=America/Edmonton:20240917T104500
DTEND;TZID=America/Edmonton:20240917T114500
DTSTAMP:20260420T114326
CREATED:20231204T224310Z
LAST-MODIFIED:20240904T201856Z
UID:10000667-1726569900-1726573500@www.jdicseniors.ca
SUMMARY:Use it or Lose it With Bonnie Austen
DESCRIPTION:Use it or Lose it With Bonnie Austen\nCardio & Strength training\, Flexibility & Balance & Laugher \nTuesdays @10:45a.m.\nhttps://us02web.Zoom.us/j/89274775349 \nFee: $7 drop-in or card of 10 classes $60
URL:https://www.jdicseniors.ca/event/use-it-or-lose-it-with-bonnie-austen-2/2024-09-17/
LOCATION:Zoom
CATEGORIES:Health & Wellness
ATTACH;FMTTYPE=image/png:https://www.jdicseniors.ca/wp-content/uploads/2023/12/Screen-Shot-2023-12-04-at-4.45.12-PM.png
ORGANIZER;CN="JDIC":MAILTO:programmer@jdicseniors.ca
END:VEVENT
BEGIN:VEVENT
DTSTART;TZID=America/Edmonton:20240916T100000
DTEND;TZID=America/Edmonton:20240916T110000
DTSTAMP:20260420T114326
CREATED:20231204T224311Z
LAST-MODIFIED:20240904T202256Z
UID:10001465-1726480800-1726484400@www.jdicseniors.ca
SUMMARY:YOGA Classes
DESCRIPTION:YOGA Classes\nWe are looking forward to seeing all of you on Monday mornings at 10:00am to 11:00am.  \nMonday mornings @ 10:00a.m.–11:00a.m.\nOld and new faces are very WELCOME in-person & via Zoom! \nPlease register\nhttps://tinyurl.com/297jwcb4\n \nFee: $7 drop-in or card of 10 classes $60
URL:https://www.jdicseniors.ca/event/yoga-classes-2-2-4-2-2/2024-09-16/
LOCATION:The Centre\, 10052-117 St. NW\, Edmonton\, Alberta\, T5K 1X2\, Canada
CATEGORIES:Health & Wellness
ATTACH;FMTTYPE=image/jpeg:https://www.jdicseniors.ca/wp-content/uploads/2023/12/pexels-mikhail-nilov-7530023.jpg
ORGANIZER;CN="JDIC":MAILTO:programmer@jdicseniors.ca
END:VEVENT
BEGIN:VEVENT
DTSTART;TZID=America/Edmonton:20240912T110000
DTEND;TZID=America/Edmonton:20240912T120000
DTSTAMP:20260420T114326
CREATED:20231204T224311Z
LAST-MODIFIED:20240904T200650Z
UID:10000136-1726138800-1726142400@www.jdicseniors.ca
SUMMARY:Muscle in Motion with Anna Kratochvil
DESCRIPTION:Use Balls\, Bands & Weights to Exercise & Laugh\nThursdays @ 11:00a.m. \nhttps://us02web.Zoom.us/j/82287922466 \nFee: $7 drop-in or card of 10 classes $60
URL:https://www.jdicseniors.ca/event/muscle-in-motion-with-anna-kratochvil-2-2-2-2-2-2-2-2-2-2/2024-09-12/
LOCATION:Zoom
CATEGORIES:Health & Wellness
ATTACH;FMTTYPE=image/jpeg:https://www.jdicseniors.ca/wp-content/uploads/2023/12/PHOTO-2024-03-01-21-56-45.jpg
ORGANIZER;CN="JDIC":MAILTO:programmer@jdicseniors.ca
END:VEVENT
BEGIN:VEVENT
DTSTART;TZID=America/Edmonton:20240910T104500
DTEND;TZID=America/Edmonton:20240910T114500
DTSTAMP:20260420T114326
CREATED:20231204T224310Z
LAST-MODIFIED:20240904T201856Z
UID:10000666-1725965100-1725968700@www.jdicseniors.ca
SUMMARY:Use it or Lose it With Bonnie Austen
DESCRIPTION:Use it or Lose it With Bonnie Austen\nCardio & Strength training\, Flexibility & Balance & Laugher \nTuesdays @10:45a.m.\nhttps://us02web.Zoom.us/j/89274775349 \nFee: $7 drop-in or card of 10 classes $60
URL:https://www.jdicseniors.ca/event/use-it-or-lose-it-with-bonnie-austen-2/2024-09-10/
LOCATION:Zoom
CATEGORIES:Health & Wellness
ATTACH;FMTTYPE=image/png:https://www.jdicseniors.ca/wp-content/uploads/2023/12/Screen-Shot-2023-12-04-at-4.45.12-PM.png
ORGANIZER;CN="JDIC":MAILTO:programmer@jdicseniors.ca
END:VEVENT
BEGIN:VEVENT
DTSTART;TZID=America/Edmonton:20240909T100000
DTEND;TZID=America/Edmonton:20240909T110000
DTSTAMP:20260420T114326
CREATED:20231204T224311Z
LAST-MODIFIED:20240904T202256Z
UID:10001464-1725876000-1725879600@www.jdicseniors.ca
SUMMARY:YOGA Classes
DESCRIPTION:YOGA Classes\nWe are looking forward to seeing all of you on Monday mornings at 10:00am to 11:00am.  \nMonday mornings @ 10:00a.m.–11:00a.m.\nOld and new faces are very WELCOME in-person & via Zoom! \nPlease register\nhttps://tinyurl.com/297jwcb4\n \nFee: $7 drop-in or card of 10 classes $60
URL:https://www.jdicseniors.ca/event/yoga-classes-2-2-4-2-2/2024-09-09/
LOCATION:The Centre\, 10052-117 St. NW\, Edmonton\, Alberta\, T5K 1X2\, Canada
CATEGORIES:Health & Wellness
ATTACH;FMTTYPE=image/jpeg:https://www.jdicseniors.ca/wp-content/uploads/2023/12/pexels-mikhail-nilov-7530023.jpg
ORGANIZER;CN="JDIC":MAILTO:programmer@jdicseniors.ca
END:VEVENT
BEGIN:VEVENT
DTSTART;TZID=America/Edmonton:20240905T110000
DTEND;TZID=America/Edmonton:20240905T120000
DTSTAMP:20260420T114326
CREATED:20231204T224311Z
LAST-MODIFIED:20240904T200650Z
UID:10000135-1725534000-1725537600@www.jdicseniors.ca
SUMMARY:Muscle in Motion with Anna Kratochvil
DESCRIPTION:Use Balls\, Bands & Weights to Exercise & Laugh\nThursdays @ 11:00a.m. \nhttps://us02web.Zoom.us/j/82287922466 \nFee: $7 drop-in or card of 10 classes $60
URL:https://www.jdicseniors.ca/event/muscle-in-motion-with-anna-kratochvil-2-2-2-2-2-2-2-2-2-2/2024-09-05/
LOCATION:Zoom
CATEGORIES:Health & Wellness
ATTACH;FMTTYPE=image/jpeg:https://www.jdicseniors.ca/wp-content/uploads/2023/12/PHOTO-2024-03-01-21-56-45.jpg
ORGANIZER;CN="JDIC":MAILTO:programmer@jdicseniors.ca
END:VEVENT
BEGIN:VEVENT
DTSTART;TZID=America/Edmonton:20240903T104500
DTEND;TZID=America/Edmonton:20240903T114500
DTSTAMP:20260420T114326
CREATED:20231204T224310Z
LAST-MODIFIED:20240904T201856Z
UID:10000665-1725360300-1725363900@www.jdicseniors.ca
SUMMARY:Use it or Lose it With Bonnie Austen
DESCRIPTION:Use it or Lose it With Bonnie Austen\nCardio & Strength training\, Flexibility & Balance & Laugher \nTuesdays @10:45a.m.\nhttps://us02web.Zoom.us/j/89274775349 \nFee: $7 drop-in or card of 10 classes $60
URL:https://www.jdicseniors.ca/event/use-it-or-lose-it-with-bonnie-austen-2/2024-09-03/
LOCATION:Zoom
CATEGORIES:Health & Wellness
ATTACH;FMTTYPE=image/png:https://www.jdicseniors.ca/wp-content/uploads/2023/12/Screen-Shot-2023-12-04-at-4.45.12-PM.png
ORGANIZER;CN="JDIC":MAILTO:programmer@jdicseniors.ca
END:VEVENT
BEGIN:VEVENT
DTSTART;TZID=America/Edmonton:20240902T100000
DTEND;TZID=America/Edmonton:20240902T110000
DTSTAMP:20260420T114326
CREATED:20231204T224311Z
LAST-MODIFIED:20240904T202256Z
UID:10001463-1725271200-1725274800@www.jdicseniors.ca
SUMMARY:YOGA Classes
DESCRIPTION:YOGA Classes\nWe are looking forward to seeing all of you on Monday mornings at 10:00am to 11:00am.  \nMonday mornings @ 10:00a.m.–11:00a.m.\nOld and new faces are very WELCOME in-person & via Zoom! \nPlease register\nhttps://tinyurl.com/297jwcb4\n \nFee: $7 drop-in or card of 10 classes $60
URL:https://www.jdicseniors.ca/event/yoga-classes-2-2-4-2-2/2024-09-02/
LOCATION:The Centre\, 10052-117 St. NW\, Edmonton\, Alberta\, T5K 1X2\, Canada
CATEGORIES:Health & Wellness
ATTACH;FMTTYPE=image/jpeg:https://www.jdicseniors.ca/wp-content/uploads/2023/12/pexels-mikhail-nilov-7530023.jpg
ORGANIZER;CN="JDIC":MAILTO:programmer@jdicseniors.ca
END:VEVENT
BEGIN:VEVENT
DTSTART;TZID=America/Edmonton:20240829T110000
DTEND;TZID=America/Edmonton:20240829T120000
DTSTAMP:20260420T114326
CREATED:20231204T224311Z
LAST-MODIFIED:20240904T200650Z
UID:10000134-1724929200-1724932800@www.jdicseniors.ca
SUMMARY:Muscle in Motion with Anna Kratochvil
DESCRIPTION:Use Balls\, Bands & Weights to Exercise & Laugh\nThursdays @ 11:00a.m. \nhttps://us02web.Zoom.us/j/82287922466 \nFee: $7 drop-in or card of 10 classes $60
URL:https://www.jdicseniors.ca/event/muscle-in-motion-with-anna-kratochvil-2-2-2-2-2-2-2-2-2-2/2024-08-29/
LOCATION:Zoom
CATEGORIES:Health & Wellness
ATTACH;FMTTYPE=image/jpeg:https://www.jdicseniors.ca/wp-content/uploads/2023/12/PHOTO-2024-03-01-21-56-45.jpg
ORGANIZER;CN="JDIC":MAILTO:programmer@jdicseniors.ca
END:VEVENT
BEGIN:VEVENT
DTSTART;TZID=America/Edmonton:20240827T104500
DTEND;TZID=America/Edmonton:20240827T114500
DTSTAMP:20260420T114326
CREATED:20231204T224310Z
LAST-MODIFIED:20240904T201856Z
UID:10000664-1724755500-1724759100@www.jdicseniors.ca
SUMMARY:Use it or Lose it With Bonnie Austen
DESCRIPTION:Use it or Lose it With Bonnie Austen\nCardio & Strength training\, Flexibility & Balance & Laugher \nTuesdays @10:45a.m.\nhttps://us02web.Zoom.us/j/89274775349 \nFee: $7 drop-in or card of 10 classes $60
URL:https://www.jdicseniors.ca/event/use-it-or-lose-it-with-bonnie-austen-2/2024-08-27/
LOCATION:Zoom
CATEGORIES:Health & Wellness
ATTACH;FMTTYPE=image/png:https://www.jdicseniors.ca/wp-content/uploads/2023/12/Screen-Shot-2023-12-04-at-4.45.12-PM.png
ORGANIZER;CN="JDIC":MAILTO:programmer@jdicseniors.ca
END:VEVENT
BEGIN:VEVENT
DTSTART;TZID=America/Edmonton:20240826T100000
DTEND;TZID=America/Edmonton:20240826T110000
DTSTAMP:20260420T114326
CREATED:20231204T224311Z
LAST-MODIFIED:20240904T202256Z
UID:10001462-1724666400-1724670000@www.jdicseniors.ca
SUMMARY:YOGA Classes
DESCRIPTION:YOGA Classes\nWe are looking forward to seeing all of you on Monday mornings at 10:00am to 11:00am.  \nMonday mornings @ 10:00a.m.–11:00a.m.\nOld and new faces are very WELCOME in-person & via Zoom! \nPlease register\nhttps://tinyurl.com/297jwcb4\n \nFee: $7 drop-in or card of 10 classes $60
URL:https://www.jdicseniors.ca/event/yoga-classes-2-2-4-2-2/2024-08-26/
LOCATION:The Centre\, 10052-117 St. NW\, Edmonton\, Alberta\, T5K 1X2\, Canada
CATEGORIES:Health & Wellness
ATTACH;FMTTYPE=image/jpeg:https://www.jdicseniors.ca/wp-content/uploads/2023/12/pexels-mikhail-nilov-7530023.jpg
ORGANIZER;CN="JDIC":MAILTO:programmer@jdicseniors.ca
END:VEVENT
BEGIN:VEVENT
DTSTART;TZID=America/Edmonton:20240822T110000
DTEND;TZID=America/Edmonton:20240822T120000
DTSTAMP:20260420T114326
CREATED:20231204T224311Z
LAST-MODIFIED:20240904T200650Z
UID:10000133-1724324400-1724328000@www.jdicseniors.ca
SUMMARY:Muscle in Motion with Anna Kratochvil
DESCRIPTION:Use Balls\, Bands & Weights to Exercise & Laugh\nThursdays @ 11:00a.m. \nhttps://us02web.Zoom.us/j/82287922466 \nFee: $7 drop-in or card of 10 classes $60
URL:https://www.jdicseniors.ca/event/muscle-in-motion-with-anna-kratochvil-2-2-2-2-2-2-2-2-2-2/2024-08-22/
LOCATION:Zoom
CATEGORIES:Health & Wellness
ATTACH;FMTTYPE=image/jpeg:https://www.jdicseniors.ca/wp-content/uploads/2023/12/PHOTO-2024-03-01-21-56-45.jpg
ORGANIZER;CN="JDIC":MAILTO:programmer@jdicseniors.ca
END:VEVENT
BEGIN:VEVENT
DTSTART;TZID=America/Edmonton:20240820T104500
DTEND;TZID=America/Edmonton:20240820T114500
DTSTAMP:20260420T114326
CREATED:20231204T224310Z
LAST-MODIFIED:20240904T201856Z
UID:10000663-1724150700-1724154300@www.jdicseniors.ca
SUMMARY:Use it or Lose it With Bonnie Austen
DESCRIPTION:Use it or Lose it With Bonnie Austen\nCardio & Strength training\, Flexibility & Balance & Laugher \nTuesdays @10:45a.m.\nhttps://us02web.Zoom.us/j/89274775349 \nFee: $7 drop-in or card of 10 classes $60
URL:https://www.jdicseniors.ca/event/use-it-or-lose-it-with-bonnie-austen-2/2024-08-20/
LOCATION:Zoom
CATEGORIES:Health & Wellness
ATTACH;FMTTYPE=image/png:https://www.jdicseniors.ca/wp-content/uploads/2023/12/Screen-Shot-2023-12-04-at-4.45.12-PM.png
ORGANIZER;CN="JDIC":MAILTO:programmer@jdicseniors.ca
END:VEVENT
BEGIN:VEVENT
DTSTART;TZID=America/Edmonton:20240819T100000
DTEND;TZID=America/Edmonton:20240819T110000
DTSTAMP:20260420T114326
CREATED:20231204T224311Z
LAST-MODIFIED:20240904T202256Z
UID:10001461-1724061600-1724065200@www.jdicseniors.ca
SUMMARY:YOGA Classes
DESCRIPTION:YOGA Classes\nWe are looking forward to seeing all of you on Monday mornings at 10:00am to 11:00am.  \nMonday mornings @ 10:00a.m.–11:00a.m.\nOld and new faces are very WELCOME in-person & via Zoom! \nPlease register\nhttps://tinyurl.com/297jwcb4\n \nFee: $7 drop-in or card of 10 classes $60
URL:https://www.jdicseniors.ca/event/yoga-classes-2-2-4-2-2/2024-08-19/
LOCATION:The Centre\, 10052-117 St. NW\, Edmonton\, Alberta\, T5K 1X2\, Canada
CATEGORIES:Health & Wellness
ATTACH;FMTTYPE=image/jpeg:https://www.jdicseniors.ca/wp-content/uploads/2023/12/pexels-mikhail-nilov-7530023.jpg
ORGANIZER;CN="JDIC":MAILTO:programmer@jdicseniors.ca
END:VEVENT
BEGIN:VEVENT
DTSTART;TZID=America/Edmonton:20240815T110000
DTEND;TZID=America/Edmonton:20240815T120000
DTSTAMP:20260420T114326
CREATED:20231204T224311Z
LAST-MODIFIED:20240904T200650Z
UID:10000132-1723719600-1723723200@www.jdicseniors.ca
SUMMARY:Muscle in Motion with Anna Kratochvil
DESCRIPTION:Use Balls\, Bands & Weights to Exercise & Laugh\nThursdays @ 11:00a.m. \nhttps://us02web.Zoom.us/j/82287922466 \nFee: $7 drop-in or card of 10 classes $60
URL:https://www.jdicseniors.ca/event/muscle-in-motion-with-anna-kratochvil-2-2-2-2-2-2-2-2-2-2/2024-08-15/
LOCATION:Zoom
CATEGORIES:Health & Wellness
ATTACH;FMTTYPE=image/jpeg:https://www.jdicseniors.ca/wp-content/uploads/2023/12/PHOTO-2024-03-01-21-56-45.jpg
ORGANIZER;CN="JDIC":MAILTO:programmer@jdicseniors.ca
END:VEVENT
BEGIN:VEVENT
DTSTART;TZID=America/Edmonton:20240813T104500
DTEND;TZID=America/Edmonton:20240813T114500
DTSTAMP:20260420T114326
CREATED:20231204T224310Z
LAST-MODIFIED:20240904T201856Z
UID:10000662-1723545900-1723549500@www.jdicseniors.ca
SUMMARY:Use it or Lose it With Bonnie Austen
DESCRIPTION:Use it or Lose it With Bonnie Austen\nCardio & Strength training\, Flexibility & Balance & Laugher \nTuesdays @10:45a.m.\nhttps://us02web.Zoom.us/j/89274775349 \nFee: $7 drop-in or card of 10 classes $60
URL:https://www.jdicseniors.ca/event/use-it-or-lose-it-with-bonnie-austen-2/2024-08-13/
LOCATION:Zoom
CATEGORIES:Health & Wellness
ATTACH;FMTTYPE=image/png:https://www.jdicseniors.ca/wp-content/uploads/2023/12/Screen-Shot-2023-12-04-at-4.45.12-PM.png
ORGANIZER;CN="JDIC":MAILTO:programmer@jdicseniors.ca
END:VEVENT
BEGIN:VEVENT
DTSTART;TZID=America/Edmonton:20240812T100000
DTEND;TZID=America/Edmonton:20240812T110000
DTSTAMP:20260420T114326
CREATED:20231204T224311Z
LAST-MODIFIED:20240904T202256Z
UID:10001460-1723456800-1723460400@www.jdicseniors.ca
SUMMARY:YOGA Classes
DESCRIPTION:YOGA Classes\nWe are looking forward to seeing all of you on Monday mornings at 10:00am to 11:00am.  \nMonday mornings @ 10:00a.m.–11:00a.m.\nOld and new faces are very WELCOME in-person & via Zoom! \nPlease register\nhttps://tinyurl.com/297jwcb4\n \nFee: $7 drop-in or card of 10 classes $60
URL:https://www.jdicseniors.ca/event/yoga-classes-2-2-4-2-2/2024-08-12/
LOCATION:The Centre\, 10052-117 St. NW\, Edmonton\, Alberta\, T5K 1X2\, Canada
CATEGORIES:Health & Wellness
ATTACH;FMTTYPE=image/jpeg:https://www.jdicseniors.ca/wp-content/uploads/2023/12/pexels-mikhail-nilov-7530023.jpg
ORGANIZER;CN="JDIC":MAILTO:programmer@jdicseniors.ca
END:VEVENT
BEGIN:VEVENT
DTSTART;TZID=America/Edmonton:20240808T110000
DTEND;TZID=America/Edmonton:20240808T120000
DTSTAMP:20260420T114326
CREATED:20231204T224311Z
LAST-MODIFIED:20240904T200650Z
UID:10000131-1723114800-1723118400@www.jdicseniors.ca
SUMMARY:Muscle in Motion with Anna Kratochvil
DESCRIPTION:Use Balls\, Bands & Weights to Exercise & Laugh\nThursdays @ 11:00a.m. \nhttps://us02web.Zoom.us/j/82287922466 \nFee: $7 drop-in or card of 10 classes $60
URL:https://www.jdicseniors.ca/event/muscle-in-motion-with-anna-kratochvil-2-2-2-2-2-2-2-2-2-2/2024-08-08/
LOCATION:Zoom
CATEGORIES:Health & Wellness
ATTACH;FMTTYPE=image/jpeg:https://www.jdicseniors.ca/wp-content/uploads/2023/12/PHOTO-2024-03-01-21-56-45.jpg
ORGANIZER;CN="JDIC":MAILTO:programmer@jdicseniors.ca
END:VEVENT
END:VCALENDAR