BEGIN:VCALENDAR
VERSION:2.0
PRODID:-//Jewish Senior Citizen’s Centre - ECPv6.15.17.1//NONSGML v1.0//EN
CALSCALE:GREGORIAN
METHOD:PUBLISH
X-ORIGINAL-URL:https://www.jdicseniors.ca
X-WR-CALDESC:Events for Jewish Senior Citizen’s Centre
REFRESH-INTERVAL;VALUE=DURATION:PT1H
X-Robots-Tag:noindex
X-PUBLISHED-TTL:PT1H
BEGIN:VTIMEZONE
TZID:America/Edmonton
BEGIN:DAYLIGHT
TZOFFSETFROM:-0700
TZOFFSETTO:-0600
TZNAME:MDT
DTSTART:20270314T090000
END:DAYLIGHT
BEGIN:STANDARD
TZOFFSETFROM:-0600
TZOFFSETTO:-0700
TZNAME:MST
DTSTART:20271107T080000
END:STANDARD
BEGIN:DAYLIGHT
TZOFFSETFROM:-0700
TZOFFSETTO:-0600
TZNAME:MDT
DTSTART:20280312T090000
END:DAYLIGHT
BEGIN:STANDARD
TZOFFSETFROM:-0600
TZOFFSETTO:-0700
TZNAME:MST
DTSTART:20281105T080000
END:STANDARD
BEGIN:DAYLIGHT
TZOFFSETFROM:-0700
TZOFFSETTO:-0600
TZNAME:MDT
DTSTART:20290311T090000
END:DAYLIGHT
BEGIN:STANDARD
TZOFFSETFROM:-0600
TZOFFSETTO:-0700
TZNAME:MST
DTSTART:20291104T080000
END:STANDARD
END:VTIMEZONE
BEGIN:VEVENT
DTSTART;TZID=America/Edmonton:20280918T100000
DTEND;TZID=America/Edmonton:20280918T120000
DTSTAMP:20260422T203450
CREATED:20250919T163856Z
LAST-MODIFIED:20260312T233823Z
UID:10001408-1852884000-1852891200@www.jdicseniors.ca
SUMMARY:Young At Heart Choir Rehersals
DESCRIPTION:Will start rehearsals on Mondays at 10am. \nJoin our wonderful choir! \nChoir fee is $50 for the Fall-Winter period (you will receive a $25 tax receipt). All choir participants must be paid members of the Centre. \nAll choir participants must be paid members of the Centre.
URL:https://www.jdicseniors.ca/event/young-at-heart-choir-rehersals-2-2/2028-09-18/
LOCATION:The Centre\, 10052-117 St. NW\, Edmonton\, Alberta\, T5K 1X2\, Canada
CATEGORIES:Fun & Games
ATTACH;FMTTYPE=image/jpeg:https://www.jdicseniors.ca/wp-content/uploads/2023/12/PHOTO-2023-11-02-14-44-45.jpg
ORGANIZER;CN="JDIC":MAILTO:programmer@jdicseniors.ca
END:VEVENT
BEGIN:VEVENT
DTSTART;TZID=America/Edmonton:20280920T100000
DTEND;TZID=America/Edmonton:20280920T120000
DTSTAMP:20260422T203450
CREATED:20250919T163331Z
LAST-MODIFIED:20260312T233117Z
UID:10003011-1853056800-1853064000@www.jdicseniors.ca
SUMMARY:De’s Crochet Club
DESCRIPTION:Join De and Ninfa every Wednesday to crochet all types of beautiful items. We donate baby blankets & caps which are much needed to welcome new arrivals in Edmonton! Coffee/tea & cookies included.  Please donate your yarns to the Centre.
URL:https://www.jdicseniors.ca/event/des-crochet-club-2/2028-09-20/
LOCATION:The Centre\, 10052-117 St. NW\, Edmonton\, Alberta\, T5K 1X2\, Canada
CATEGORIES:Fun & Games
ATTACH;FMTTYPE=image/jpeg:https://www.jdicseniors.ca/wp-content/uploads/2025/02/nykeya-paige-uka6tfxFL0s-unsplash.jpg
ORGANIZER;CN="JDIC":MAILTO:programmer@jdicseniors.ca
END:VEVENT
BEGIN:VEVENT
DTSTART;TZID=America/Edmonton:20280920T130000
DTEND;TZID=America/Edmonton:20280920T140000
DTSTAMP:20260422T203450
CREATED:20250919T162215Z
LAST-MODIFIED:20260312T233231Z
UID:10003597-1853067600-1853071200@www.jdicseniors.ca
SUMMARY:Conversational Russian Club
DESCRIPTION:Practice your conversational Russian with Russian-speakers. Have fun and enjoy new experiences!
URL:https://www.jdicseniors.ca/event/conversational-russian-club-2/2028-09-20/
LOCATION:The Centre\, 10052-117 St. NW\, Edmonton\, Alberta\, T5K 1X2\, Canada
CATEGORIES:Fun & Games
ORGANIZER;CN="JDIC":MAILTO:programmer@jdicseniors.ca
END:VEVENT
BEGIN:VEVENT
DTSTART;TZID=America/Edmonton:20280920T130000
DTEND;TZID=America/Edmonton:20280920T150000
DTSTAMP:20260422T203450
CREATED:20250919T162256Z
LAST-MODIFIED:20260312T233332Z
UID:10003859-1853067600-1853074800@www.jdicseniors.ca
SUMMARY:Chess Club
DESCRIPTION:Join our experienced players to enhance your skills in this strategic game. We have enough chess sets. Come and find new partners for this game.
URL:https://www.jdicseniors.ca/event/chess-club-2/2028-09-20/
LOCATION:The Centre\, 10052-117 St. NW\, Edmonton\, Alberta\, T5K 1X2\, Canada
CATEGORIES:Fun & Games
ATTACH;FMTTYPE=image/jpeg:https://www.jdicseniors.ca/wp-content/uploads/2025/02/jeshoots-com-fzOITuS1DIQ-unsplash.jpg
ORGANIZER;CN="JDIC":MAILTO:programmer@jdicseniors.ca
END:VEVENT
BEGIN:VEVENT
DTSTART;TZID=America/Edmonton:20280920T130000
DTEND;TZID=America/Edmonton:20280920T150000
DTSTAMP:20260422T203450
CREATED:20250919T163646Z
LAST-MODIFIED:20260312T233418Z
UID:10000611-1853067600-1853074800@www.jdicseniors.ca
SUMMARY:Whimsical Wednesdays
DESCRIPTION:Join a day of Fun\, Friendship & Craft!\nDo you play or want to play Canasta\, Cribbage\, Scrabble\, Mah Jongg or other card/board games?\nThis is a day when you can do whatever your heart desires! \nWhat’s more?\nWe offer a special light lunch that day for $10 only.\nPlease inform the Office about your game of choice!
URL:https://www.jdicseniors.ca/event/whimsical-wednesdays-2/2028-09-20/
LOCATION:The Centre\, 10052-117 St. NW\, Edmonton\, Alberta\, T5K 1X2\, Canada
CATEGORIES:Fun & Games
ATTACH;FMTTYPE=image/jpeg:https://www.jdicseniors.ca/wp-content/uploads/2023/12/pexels-kampus-production-6838584.jpg
ORGANIZER;CN="JDIC":MAILTO:programmer@jdicseniors.ca
END:VEVENT
BEGIN:VEVENT
DTSTART;TZID=America/Edmonton:20280920T133000
DTEND;TZID=America/Edmonton:20280920T153000
DTSTAMP:20260422T203450
CREATED:20250919T162054Z
LAST-MODIFIED:20260312T233350Z
UID:10004121-1853069400-1853076600@www.jdicseniors.ca
SUMMARY:Mamaloshen – Yiddish Club
DESCRIPTION:All interested in conversational Yiddish\, regardless of level\, are welcome. Great atmosphere and a lot of fun!  \nPlease register with the Office to receive the Zoom link for meetings.
URL:https://www.jdicseniors.ca/event/mamaloshen-yiddish-club-2/2028-09-20/
LOCATION:The Centre\, 10052-117 St. NW\, Edmonton\, Alberta\, T5K 1X2\, Canada
CATEGORIES:Fun & Games
ORGANIZER;CN="JDIC":MAILTO:programmer@jdicseniors.ca
END:VEVENT
BEGIN:VEVENT
DTSTART;TZID=America/Edmonton:20280925T100000
DTEND;TZID=America/Edmonton:20280925T120000
DTSTAMP:20260422T203450
CREATED:20250919T163856Z
LAST-MODIFIED:20260312T233823Z
UID:10001409-1853488800-1853496000@www.jdicseniors.ca
SUMMARY:Young At Heart Choir Rehersals
DESCRIPTION:Will start rehearsals on Mondays at 10am. \nJoin our wonderful choir! \nChoir fee is $50 for the Fall-Winter period (you will receive a $25 tax receipt). All choir participants must be paid members of the Centre. \nAll choir participants must be paid members of the Centre.
URL:https://www.jdicseniors.ca/event/young-at-heart-choir-rehersals-2-2/2028-09-25/
LOCATION:The Centre\, 10052-117 St. NW\, Edmonton\, Alberta\, T5K 1X2\, Canada
CATEGORIES:Fun & Games
ATTACH;FMTTYPE=image/jpeg:https://www.jdicseniors.ca/wp-content/uploads/2023/12/PHOTO-2023-11-02-14-44-45.jpg
ORGANIZER;CN="JDIC":MAILTO:programmer@jdicseniors.ca
END:VEVENT
BEGIN:VEVENT
DTSTART;TZID=America/Edmonton:20280926T120000
DTEND;TZID=America/Edmonton:20280926T130000
DTSTAMP:20260422T203450
CREATED:20250919T162605Z
LAST-MODIFIED:20260312T233030Z
UID:10004240-1853582400-1853586000@www.jdicseniors.ca
SUMMARY:Birthday Tuesdays
DESCRIPTION:Every last Tuesday of the month join us to celebrate your friends’ birthdays with music\, special lunch and fun! Sponsor cake or entertainment\, order a special card from the office or create a unique Power Point presentation to surprise your friends!
URL:https://www.jdicseniors.ca/event/birthday-tuesdays-2/2028-09-26/
LOCATION:The Centre\, 10052-117 St. NW\, Edmonton\, Alberta\, T5K 1X2\, Canada
CATEGORIES:Fun & Games,Special Events & Presentations
ATTACH;FMTTYPE=image/jpeg:https://www.jdicseniors.ca/wp-content/uploads/2025/01/isabella-fischer-sQoIRY84a2E-unsplash-scaled.jpg
ORGANIZER;CN="JDIC":MAILTO:programmer@jdicseniors.ca
END:VEVENT
BEGIN:VEVENT
DTSTART;TZID=America/Edmonton:20280927T100000
DTEND;TZID=America/Edmonton:20280927T120000
DTSTAMP:20260422T203450
CREATED:20250919T163331Z
LAST-MODIFIED:20260312T233117Z
UID:10003012-1853661600-1853668800@www.jdicseniors.ca
SUMMARY:De’s Crochet Club
DESCRIPTION:Join De and Ninfa every Wednesday to crochet all types of beautiful items. We donate baby blankets & caps which are much needed to welcome new arrivals in Edmonton! Coffee/tea & cookies included.  Please donate your yarns to the Centre.
URL:https://www.jdicseniors.ca/event/des-crochet-club-2/2028-09-27/
LOCATION:The Centre\, 10052-117 St. NW\, Edmonton\, Alberta\, T5K 1X2\, Canada
CATEGORIES:Fun & Games
ATTACH;FMTTYPE=image/jpeg:https://www.jdicseniors.ca/wp-content/uploads/2025/02/nykeya-paige-uka6tfxFL0s-unsplash.jpg
ORGANIZER;CN="JDIC":MAILTO:programmer@jdicseniors.ca
END:VEVENT
BEGIN:VEVENT
DTSTART;TZID=America/Edmonton:20280927T130000
DTEND;TZID=America/Edmonton:20280927T140000
DTSTAMP:20260422T203450
CREATED:20250919T162215Z
LAST-MODIFIED:20260312T233231Z
UID:10003598-1853672400-1853676000@www.jdicseniors.ca
SUMMARY:Conversational Russian Club
DESCRIPTION:Practice your conversational Russian with Russian-speakers. Have fun and enjoy new experiences!
URL:https://www.jdicseniors.ca/event/conversational-russian-club-2/2028-09-27/
LOCATION:The Centre\, 10052-117 St. NW\, Edmonton\, Alberta\, T5K 1X2\, Canada
CATEGORIES:Fun & Games
ORGANIZER;CN="JDIC":MAILTO:programmer@jdicseniors.ca
END:VEVENT
BEGIN:VEVENT
DTSTART;TZID=America/Edmonton:20280927T130000
DTEND;TZID=America/Edmonton:20280927T150000
DTSTAMP:20260422T203450
CREATED:20250919T162256Z
LAST-MODIFIED:20260312T233332Z
UID:10003860-1853672400-1853679600@www.jdicseniors.ca
SUMMARY:Chess Club
DESCRIPTION:Join our experienced players to enhance your skills in this strategic game. We have enough chess sets. Come and find new partners for this game.
URL:https://www.jdicseniors.ca/event/chess-club-2/2028-09-27/
LOCATION:The Centre\, 10052-117 St. NW\, Edmonton\, Alberta\, T5K 1X2\, Canada
CATEGORIES:Fun & Games
ATTACH;FMTTYPE=image/jpeg:https://www.jdicseniors.ca/wp-content/uploads/2025/02/jeshoots-com-fzOITuS1DIQ-unsplash.jpg
ORGANIZER;CN="JDIC":MAILTO:programmer@jdicseniors.ca
END:VEVENT
BEGIN:VEVENT
DTSTART;TZID=America/Edmonton:20280927T130000
DTEND;TZID=America/Edmonton:20280927T150000
DTSTAMP:20260422T203450
CREATED:20250919T163646Z
LAST-MODIFIED:20260312T233418Z
UID:10000612-1853672400-1853679600@www.jdicseniors.ca
SUMMARY:Whimsical Wednesdays
DESCRIPTION:Join a day of Fun\, Friendship & Craft!\nDo you play or want to play Canasta\, Cribbage\, Scrabble\, Mah Jongg or other card/board games?\nThis is a day when you can do whatever your heart desires! \nWhat’s more?\nWe offer a special light lunch that day for $10 only.\nPlease inform the Office about your game of choice!
URL:https://www.jdicseniors.ca/event/whimsical-wednesdays-2/2028-09-27/
LOCATION:The Centre\, 10052-117 St. NW\, Edmonton\, Alberta\, T5K 1X2\, Canada
CATEGORIES:Fun & Games
ATTACH;FMTTYPE=image/jpeg:https://www.jdicseniors.ca/wp-content/uploads/2023/12/pexels-kampus-production-6838584.jpg
ORGANIZER;CN="JDIC":MAILTO:programmer@jdicseniors.ca
END:VEVENT
BEGIN:VEVENT
DTSTART;TZID=America/Edmonton:20280927T133000
DTEND;TZID=America/Edmonton:20280927T153000
DTSTAMP:20260422T203450
CREATED:20250919T162054Z
LAST-MODIFIED:20260312T233350Z
UID:10004122-1853674200-1853681400@www.jdicseniors.ca
SUMMARY:Mamaloshen – Yiddish Club
DESCRIPTION:All interested in conversational Yiddish\, regardless of level\, are welcome. Great atmosphere and a lot of fun!  \nPlease register with the Office to receive the Zoom link for meetings.
URL:https://www.jdicseniors.ca/event/mamaloshen-yiddish-club-2/2028-09-27/
LOCATION:The Centre\, 10052-117 St. NW\, Edmonton\, Alberta\, T5K 1X2\, Canada
CATEGORIES:Fun & Games
ORGANIZER;CN="JDIC":MAILTO:programmer@jdicseniors.ca
END:VEVENT
BEGIN:VEVENT
DTSTART;TZID=America/Edmonton:20281002T100000
DTEND;TZID=America/Edmonton:20281002T120000
DTSTAMP:20260422T203450
CREATED:20250919T163856Z
LAST-MODIFIED:20260312T233823Z
UID:10001410-1854093600-1854100800@www.jdicseniors.ca
SUMMARY:Young At Heart Choir Rehersals
DESCRIPTION:Will start rehearsals on Mondays at 10am. \nJoin our wonderful choir! \nChoir fee is $50 for the Fall-Winter period (you will receive a $25 tax receipt). All choir participants must be paid members of the Centre. \nAll choir participants must be paid members of the Centre.
URL:https://www.jdicseniors.ca/event/young-at-heart-choir-rehersals-2-2/2028-10-02/
LOCATION:The Centre\, 10052-117 St. NW\, Edmonton\, Alberta\, T5K 1X2\, Canada
CATEGORIES:Fun & Games
ATTACH;FMTTYPE=image/jpeg:https://www.jdicseniors.ca/wp-content/uploads/2023/12/PHOTO-2023-11-02-14-44-45.jpg
ORGANIZER;CN="JDIC":MAILTO:programmer@jdicseniors.ca
END:VEVENT
BEGIN:VEVENT
DTSTART;TZID=America/Edmonton:20281004T100000
DTEND;TZID=America/Edmonton:20281004T120000
DTSTAMP:20260422T203450
CREATED:20250919T163331Z
LAST-MODIFIED:20260312T233117Z
UID:10003013-1854266400-1854273600@www.jdicseniors.ca
SUMMARY:De’s Crochet Club
DESCRIPTION:Join De and Ninfa every Wednesday to crochet all types of beautiful items. We donate baby blankets & caps which are much needed to welcome new arrivals in Edmonton! Coffee/tea & cookies included.  Please donate your yarns to the Centre.
URL:https://www.jdicseniors.ca/event/des-crochet-club-2/2028-10-04/
LOCATION:The Centre\, 10052-117 St. NW\, Edmonton\, Alberta\, T5K 1X2\, Canada
CATEGORIES:Fun & Games
ATTACH;FMTTYPE=image/jpeg:https://www.jdicseniors.ca/wp-content/uploads/2025/02/nykeya-paige-uka6tfxFL0s-unsplash.jpg
ORGANIZER;CN="JDIC":MAILTO:programmer@jdicseniors.ca
END:VEVENT
BEGIN:VEVENT
DTSTART;TZID=America/Edmonton:20281004T130000
DTEND;TZID=America/Edmonton:20281004T140000
DTSTAMP:20260422T203450
CREATED:20250919T162215Z
LAST-MODIFIED:20260312T233231Z
UID:10003599-1854277200-1854280800@www.jdicseniors.ca
SUMMARY:Conversational Russian Club
DESCRIPTION:Practice your conversational Russian with Russian-speakers. Have fun and enjoy new experiences!
URL:https://www.jdicseniors.ca/event/conversational-russian-club-2/2028-10-04/
LOCATION:The Centre\, 10052-117 St. NW\, Edmonton\, Alberta\, T5K 1X2\, Canada
CATEGORIES:Fun & Games
ORGANIZER;CN="JDIC":MAILTO:programmer@jdicseniors.ca
END:VEVENT
BEGIN:VEVENT
DTSTART;TZID=America/Edmonton:20281004T130000
DTEND;TZID=America/Edmonton:20281004T150000
DTSTAMP:20260422T203450
CREATED:20250919T162256Z
LAST-MODIFIED:20260312T233332Z
UID:10003861-1854277200-1854284400@www.jdicseniors.ca
SUMMARY:Chess Club
DESCRIPTION:Join our experienced players to enhance your skills in this strategic game. We have enough chess sets. Come and find new partners for this game.
URL:https://www.jdicseniors.ca/event/chess-club-2/2028-10-04/
LOCATION:The Centre\, 10052-117 St. NW\, Edmonton\, Alberta\, T5K 1X2\, Canada
CATEGORIES:Fun & Games
ATTACH;FMTTYPE=image/jpeg:https://www.jdicseniors.ca/wp-content/uploads/2025/02/jeshoots-com-fzOITuS1DIQ-unsplash.jpg
ORGANIZER;CN="JDIC":MAILTO:programmer@jdicseniors.ca
END:VEVENT
BEGIN:VEVENT
DTSTART;TZID=America/Edmonton:20281004T130000
DTEND;TZID=America/Edmonton:20281004T150000
DTSTAMP:20260422T203450
CREATED:20250919T163646Z
LAST-MODIFIED:20260312T233418Z
UID:10000613-1854277200-1854284400@www.jdicseniors.ca
SUMMARY:Whimsical Wednesdays
DESCRIPTION:Join a day of Fun\, Friendship & Craft!\nDo you play or want to play Canasta\, Cribbage\, Scrabble\, Mah Jongg or other card/board games?\nThis is a day when you can do whatever your heart desires! \nWhat’s more?\nWe offer a special light lunch that day for $10 only.\nPlease inform the Office about your game of choice!
URL:https://www.jdicseniors.ca/event/whimsical-wednesdays-2/2028-10-04/
LOCATION:The Centre\, 10052-117 St. NW\, Edmonton\, Alberta\, T5K 1X2\, Canada
CATEGORIES:Fun & Games
ATTACH;FMTTYPE=image/jpeg:https://www.jdicseniors.ca/wp-content/uploads/2023/12/pexels-kampus-production-6838584.jpg
ORGANIZER;CN="JDIC":MAILTO:programmer@jdicseniors.ca
END:VEVENT
BEGIN:VEVENT
DTSTART;TZID=America/Edmonton:20281004T133000
DTEND;TZID=America/Edmonton:20281004T153000
DTSTAMP:20260422T203450
CREATED:20250919T162054Z
LAST-MODIFIED:20260312T233350Z
UID:10004123-1854279000-1854286200@www.jdicseniors.ca
SUMMARY:Mamaloshen – Yiddish Club
DESCRIPTION:All interested in conversational Yiddish\, regardless of level\, are welcome. Great atmosphere and a lot of fun!  \nPlease register with the Office to receive the Zoom link for meetings.
URL:https://www.jdicseniors.ca/event/mamaloshen-yiddish-club-2/2028-10-04/
LOCATION:The Centre\, 10052-117 St. NW\, Edmonton\, Alberta\, T5K 1X2\, Canada
CATEGORIES:Fun & Games
ORGANIZER;CN="JDIC":MAILTO:programmer@jdicseniors.ca
END:VEVENT
BEGIN:VEVENT
DTSTART;TZID=America/Edmonton:20281009T100000
DTEND;TZID=America/Edmonton:20281009T120000
DTSTAMP:20260422T203450
CREATED:20250919T163856Z
LAST-MODIFIED:20260312T233823Z
UID:10001411-1854698400-1854705600@www.jdicseniors.ca
SUMMARY:Young At Heart Choir Rehersals
DESCRIPTION:Will start rehearsals on Mondays at 10am. \nJoin our wonderful choir! \nChoir fee is $50 for the Fall-Winter period (you will receive a $25 tax receipt). All choir participants must be paid members of the Centre. \nAll choir participants must be paid members of the Centre.
URL:https://www.jdicseniors.ca/event/young-at-heart-choir-rehersals-2-2/2028-10-09/
LOCATION:The Centre\, 10052-117 St. NW\, Edmonton\, Alberta\, T5K 1X2\, Canada
CATEGORIES:Fun & Games
ATTACH;FMTTYPE=image/jpeg:https://www.jdicseniors.ca/wp-content/uploads/2023/12/PHOTO-2023-11-02-14-44-45.jpg
ORGANIZER;CN="JDIC":MAILTO:programmer@jdicseniors.ca
END:VEVENT
BEGIN:VEVENT
DTSTART;TZID=America/Edmonton:20281011T100000
DTEND;TZID=America/Edmonton:20281011T120000
DTSTAMP:20260422T203450
CREATED:20250919T163331Z
LAST-MODIFIED:20260312T233117Z
UID:10003014-1854871200-1854878400@www.jdicseniors.ca
SUMMARY:De’s Crochet Club
DESCRIPTION:Join De and Ninfa every Wednesday to crochet all types of beautiful items. We donate baby blankets & caps which are much needed to welcome new arrivals in Edmonton! Coffee/tea & cookies included.  Please donate your yarns to the Centre.
URL:https://www.jdicseniors.ca/event/des-crochet-club-2/2028-10-11/
LOCATION:The Centre\, 10052-117 St. NW\, Edmonton\, Alberta\, T5K 1X2\, Canada
CATEGORIES:Fun & Games
ATTACH;FMTTYPE=image/jpeg:https://www.jdicseniors.ca/wp-content/uploads/2025/02/nykeya-paige-uka6tfxFL0s-unsplash.jpg
ORGANIZER;CN="JDIC":MAILTO:programmer@jdicseniors.ca
END:VEVENT
BEGIN:VEVENT
DTSTART;TZID=America/Edmonton:20281011T130000
DTEND;TZID=America/Edmonton:20281011T140000
DTSTAMP:20260422T203450
CREATED:20250919T162215Z
LAST-MODIFIED:20260312T233231Z
UID:10003600-1854882000-1854885600@www.jdicseniors.ca
SUMMARY:Conversational Russian Club
DESCRIPTION:Practice your conversational Russian with Russian-speakers. Have fun and enjoy new experiences!
URL:https://www.jdicseniors.ca/event/conversational-russian-club-2/2028-10-11/
LOCATION:The Centre\, 10052-117 St. NW\, Edmonton\, Alberta\, T5K 1X2\, Canada
CATEGORIES:Fun & Games
ORGANIZER;CN="JDIC":MAILTO:programmer@jdicseniors.ca
END:VEVENT
BEGIN:VEVENT
DTSTART;TZID=America/Edmonton:20281011T130000
DTEND;TZID=America/Edmonton:20281011T150000
DTSTAMP:20260422T203450
CREATED:20250919T162256Z
LAST-MODIFIED:20260312T233332Z
UID:10003862-1854882000-1854889200@www.jdicseniors.ca
SUMMARY:Chess Club
DESCRIPTION:Join our experienced players to enhance your skills in this strategic game. We have enough chess sets. Come and find new partners for this game.
URL:https://www.jdicseniors.ca/event/chess-club-2/2028-10-11/
LOCATION:The Centre\, 10052-117 St. NW\, Edmonton\, Alberta\, T5K 1X2\, Canada
CATEGORIES:Fun & Games
ATTACH;FMTTYPE=image/jpeg:https://www.jdicseniors.ca/wp-content/uploads/2025/02/jeshoots-com-fzOITuS1DIQ-unsplash.jpg
ORGANIZER;CN="JDIC":MAILTO:programmer@jdicseniors.ca
END:VEVENT
BEGIN:VEVENT
DTSTART;TZID=America/Edmonton:20281011T130000
DTEND;TZID=America/Edmonton:20281011T150000
DTSTAMP:20260422T203450
CREATED:20250919T163646Z
LAST-MODIFIED:20260312T233418Z
UID:10000614-1854882000-1854889200@www.jdicseniors.ca
SUMMARY:Whimsical Wednesdays
DESCRIPTION:Join a day of Fun\, Friendship & Craft!\nDo you play or want to play Canasta\, Cribbage\, Scrabble\, Mah Jongg or other card/board games?\nThis is a day when you can do whatever your heart desires! \nWhat’s more?\nWe offer a special light lunch that day for $10 only.\nPlease inform the Office about your game of choice!
URL:https://www.jdicseniors.ca/event/whimsical-wednesdays-2/2028-10-11/
LOCATION:The Centre\, 10052-117 St. NW\, Edmonton\, Alberta\, T5K 1X2\, Canada
CATEGORIES:Fun & Games
ATTACH;FMTTYPE=image/jpeg:https://www.jdicseniors.ca/wp-content/uploads/2023/12/pexels-kampus-production-6838584.jpg
ORGANIZER;CN="JDIC":MAILTO:programmer@jdicseniors.ca
END:VEVENT
BEGIN:VEVENT
DTSTART;TZID=America/Edmonton:20281011T133000
DTEND;TZID=America/Edmonton:20281011T153000
DTSTAMP:20260422T203450
CREATED:20250919T162054Z
LAST-MODIFIED:20260312T233350Z
UID:10004124-1854883800-1854891000@www.jdicseniors.ca
SUMMARY:Mamaloshen – Yiddish Club
DESCRIPTION:All interested in conversational Yiddish\, regardless of level\, are welcome. Great atmosphere and a lot of fun!  \nPlease register with the Office to receive the Zoom link for meetings.
URL:https://www.jdicseniors.ca/event/mamaloshen-yiddish-club-2/2028-10-11/
LOCATION:The Centre\, 10052-117 St. NW\, Edmonton\, Alberta\, T5K 1X2\, Canada
CATEGORIES:Fun & Games
ORGANIZER;CN="JDIC":MAILTO:programmer@jdicseniors.ca
END:VEVENT
BEGIN:VEVENT
DTSTART;TZID=America/Edmonton:20281016T100000
DTEND;TZID=America/Edmonton:20281016T120000
DTSTAMP:20260422T203450
CREATED:20250919T163856Z
LAST-MODIFIED:20260312T233823Z
UID:10001412-1855303200-1855310400@www.jdicseniors.ca
SUMMARY:Young At Heart Choir Rehersals
DESCRIPTION:Will start rehearsals on Mondays at 10am. \nJoin our wonderful choir! \nChoir fee is $50 for the Fall-Winter period (you will receive a $25 tax receipt). All choir participants must be paid members of the Centre. \nAll choir participants must be paid members of the Centre.
URL:https://www.jdicseniors.ca/event/young-at-heart-choir-rehersals-2-2/2028-10-16/
LOCATION:The Centre\, 10052-117 St. NW\, Edmonton\, Alberta\, T5K 1X2\, Canada
CATEGORIES:Fun & Games
ATTACH;FMTTYPE=image/jpeg:https://www.jdicseniors.ca/wp-content/uploads/2023/12/PHOTO-2023-11-02-14-44-45.jpg
ORGANIZER;CN="JDIC":MAILTO:programmer@jdicseniors.ca
END:VEVENT
BEGIN:VEVENT
DTSTART;TZID=America/Edmonton:20281018T100000
DTEND;TZID=America/Edmonton:20281018T120000
DTSTAMP:20260422T203450
CREATED:20250919T163331Z
LAST-MODIFIED:20260312T233117Z
UID:10003015-1855476000-1855483200@www.jdicseniors.ca
SUMMARY:De’s Crochet Club
DESCRIPTION:Join De and Ninfa every Wednesday to crochet all types of beautiful items. We donate baby blankets & caps which are much needed to welcome new arrivals in Edmonton! Coffee/tea & cookies included.  Please donate your yarns to the Centre.
URL:https://www.jdicseniors.ca/event/des-crochet-club-2/2028-10-18/
LOCATION:The Centre\, 10052-117 St. NW\, Edmonton\, Alberta\, T5K 1X2\, Canada
CATEGORIES:Fun & Games
ATTACH;FMTTYPE=image/jpeg:https://www.jdicseniors.ca/wp-content/uploads/2025/02/nykeya-paige-uka6tfxFL0s-unsplash.jpg
ORGANIZER;CN="JDIC":MAILTO:programmer@jdicseniors.ca
END:VEVENT
BEGIN:VEVENT
DTSTART;TZID=America/Edmonton:20281018T130000
DTEND;TZID=America/Edmonton:20281018T140000
DTSTAMP:20260422T203450
CREATED:20250919T162215Z
LAST-MODIFIED:20260312T233231Z
UID:10003601-1855486800-1855490400@www.jdicseniors.ca
SUMMARY:Conversational Russian Club
DESCRIPTION:Practice your conversational Russian with Russian-speakers. Have fun and enjoy new experiences!
URL:https://www.jdicseniors.ca/event/conversational-russian-club-2/2028-10-18/
LOCATION:The Centre\, 10052-117 St. NW\, Edmonton\, Alberta\, T5K 1X2\, Canada
CATEGORIES:Fun & Games
ORGANIZER;CN="JDIC":MAILTO:programmer@jdicseniors.ca
END:VEVENT
BEGIN:VEVENT
DTSTART;TZID=America/Edmonton:20281018T130000
DTEND;TZID=America/Edmonton:20281018T150000
DTSTAMP:20260422T203450
CREATED:20250919T162256Z
LAST-MODIFIED:20260312T233332Z
UID:10003863-1855486800-1855494000@www.jdicseniors.ca
SUMMARY:Chess Club
DESCRIPTION:Join our experienced players to enhance your skills in this strategic game. We have enough chess sets. Come and find new partners for this game.
URL:https://www.jdicseniors.ca/event/chess-club-2/2028-10-18/
LOCATION:The Centre\, 10052-117 St. NW\, Edmonton\, Alberta\, T5K 1X2\, Canada
CATEGORIES:Fun & Games
ATTACH;FMTTYPE=image/jpeg:https://www.jdicseniors.ca/wp-content/uploads/2025/02/jeshoots-com-fzOITuS1DIQ-unsplash.jpg
ORGANIZER;CN="JDIC":MAILTO:programmer@jdicseniors.ca
END:VEVENT
BEGIN:VEVENT
DTSTART;TZID=America/Edmonton:20281018T130000
DTEND;TZID=America/Edmonton:20281018T150000
DTSTAMP:20260422T203450
CREATED:20250919T163646Z
LAST-MODIFIED:20260312T233418Z
UID:10000615-1855486800-1855494000@www.jdicseniors.ca
SUMMARY:Whimsical Wednesdays
DESCRIPTION:Join a day of Fun\, Friendship & Craft!\nDo you play or want to play Canasta\, Cribbage\, Scrabble\, Mah Jongg or other card/board games?\nThis is a day when you can do whatever your heart desires! \nWhat’s more?\nWe offer a special light lunch that day for $10 only.\nPlease inform the Office about your game of choice!
URL:https://www.jdicseniors.ca/event/whimsical-wednesdays-2/2028-10-18/
LOCATION:The Centre\, 10052-117 St. NW\, Edmonton\, Alberta\, T5K 1X2\, Canada
CATEGORIES:Fun & Games
ATTACH;FMTTYPE=image/jpeg:https://www.jdicseniors.ca/wp-content/uploads/2023/12/pexels-kampus-production-6838584.jpg
ORGANIZER;CN="JDIC":MAILTO:programmer@jdicseniors.ca
END:VEVENT
END:VCALENDAR