BEGIN:VCALENDAR
VERSION:2.0
PRODID:-//Jewish Senior Citizen’s Centre - ECPv6.15.17.1//NONSGML v1.0//EN
CALSCALE:GREGORIAN
METHOD:PUBLISH
X-WR-CALNAME:Jewish Senior Citizen’s Centre
X-ORIGINAL-URL:https://www.jdicseniors.ca
X-WR-CALDESC:Events for Jewish Senior Citizen’s Centre
REFRESH-INTERVAL;VALUE=DURATION:PT1H
X-Robots-Tag:noindex
X-PUBLISHED-TTL:PT1H
BEGIN:VTIMEZONE
TZID:America/Edmonton
BEGIN:DAYLIGHT
TZOFFSETFROM:-0700
TZOFFSETTO:-0600
TZNAME:MDT
DTSTART:20270314T090000
END:DAYLIGHT
BEGIN:STANDARD
TZOFFSETFROM:-0600
TZOFFSETTO:-0700
TZNAME:MST
DTSTART:20271107T080000
END:STANDARD
BEGIN:DAYLIGHT
TZOFFSETFROM:-0700
TZOFFSETTO:-0600
TZNAME:MDT
DTSTART:20280312T090000
END:DAYLIGHT
BEGIN:STANDARD
TZOFFSETFROM:-0600
TZOFFSETTO:-0700
TZNAME:MST
DTSTART:20281105T080000
END:STANDARD
BEGIN:DAYLIGHT
TZOFFSETFROM:-0700
TZOFFSETTO:-0600
TZNAME:MDT
DTSTART:20290311T090000
END:DAYLIGHT
BEGIN:STANDARD
TZOFFSETFROM:-0600
TZOFFSETTO:-0700
TZNAME:MST
DTSTART:20291104T080000
END:STANDARD
END:VTIMEZONE
BEGIN:VEVENT
DTSTART;TZID=America/Edmonton:20280308T100000
DTEND;TZID=America/Edmonton:20280308T120000
DTSTAMP:20260421T215128
CREATED:20250919T163331Z
LAST-MODIFIED:20260312T233117Z
UID:10002983-1836122400-1836129600@www.jdicseniors.ca
SUMMARY:De’s Crochet Club
DESCRIPTION:Join De and Ninfa every Wednesday to crochet all types of beautiful items. We donate baby blankets & caps which are much needed to welcome new arrivals in Edmonton! Coffee/tea & cookies included.  Please donate your yarns to the Centre.
URL:https://www.jdicseniors.ca/event/des-crochet-club-2/2028-03-08/
LOCATION:The Centre\, 10052-117 St. NW\, Edmonton\, Alberta\, T5K 1X2\, Canada
CATEGORIES:Fun & Games
ATTACH;FMTTYPE=image/jpeg:https://www.jdicseniors.ca/wp-content/uploads/2025/02/nykeya-paige-uka6tfxFL0s-unsplash.jpg
ORGANIZER;CN="JDIC":MAILTO:programmer@jdicseniors.ca
END:VEVENT
BEGIN:VEVENT
DTSTART;TZID=America/Edmonton:20280308T130000
DTEND;TZID=America/Edmonton:20280308T140000
DTSTAMP:20260421T215128
CREATED:20250919T162215Z
LAST-MODIFIED:20260312T233231Z
UID:10003569-1836133200-1836136800@www.jdicseniors.ca
SUMMARY:Conversational Russian Club
DESCRIPTION:Practice your conversational Russian with Russian-speakers. Have fun and enjoy new experiences!
URL:https://www.jdicseniors.ca/event/conversational-russian-club-2/2028-03-08/
LOCATION:The Centre\, 10052-117 St. NW\, Edmonton\, Alberta\, T5K 1X2\, Canada
CATEGORIES:Fun & Games
ORGANIZER;CN="JDIC":MAILTO:programmer@jdicseniors.ca
END:VEVENT
BEGIN:VEVENT
DTSTART;TZID=America/Edmonton:20280308T130000
DTEND;TZID=America/Edmonton:20280308T150000
DTSTAMP:20260421T215128
CREATED:20250919T162256Z
LAST-MODIFIED:20260312T233332Z
UID:10003831-1836133200-1836140400@www.jdicseniors.ca
SUMMARY:Chess Club
DESCRIPTION:Join our experienced players to enhance your skills in this strategic game. We have enough chess sets. Come and find new partners for this game.
URL:https://www.jdicseniors.ca/event/chess-club-2/2028-03-08/
LOCATION:The Centre\, 10052-117 St. NW\, Edmonton\, Alberta\, T5K 1X2\, Canada
CATEGORIES:Fun & Games
ATTACH;FMTTYPE=image/jpeg:https://www.jdicseniors.ca/wp-content/uploads/2025/02/jeshoots-com-fzOITuS1DIQ-unsplash.jpg
ORGANIZER;CN="JDIC":MAILTO:programmer@jdicseniors.ca
END:VEVENT
BEGIN:VEVENT
DTSTART;TZID=America/Edmonton:20280308T130000
DTEND;TZID=America/Edmonton:20280308T150000
DTSTAMP:20260421T215128
CREATED:20250919T163646Z
LAST-MODIFIED:20260312T233418Z
UID:10000583-1836133200-1836140400@www.jdicseniors.ca
SUMMARY:Whimsical Wednesdays
DESCRIPTION:Join a day of Fun\, Friendship & Craft!\nDo you play or want to play Canasta\, Cribbage\, Scrabble\, Mah Jongg or other card/board games?\nThis is a day when you can do whatever your heart desires! \nWhat’s more?\nWe offer a special light lunch that day for $10 only.\nPlease inform the Office about your game of choice!
URL:https://www.jdicseniors.ca/event/whimsical-wednesdays-2/2028-03-08/
LOCATION:The Centre\, 10052-117 St. NW\, Edmonton\, Alberta\, T5K 1X2\, Canada
CATEGORIES:Fun & Games
ATTACH;FMTTYPE=image/jpeg:https://www.jdicseniors.ca/wp-content/uploads/2023/12/pexels-kampus-production-6838584.jpg
ORGANIZER;CN="JDIC":MAILTO:programmer@jdicseniors.ca
END:VEVENT
BEGIN:VEVENT
DTSTART;TZID=America/Edmonton:20280308T133000
DTEND;TZID=America/Edmonton:20280308T153000
DTSTAMP:20260421T215128
CREATED:20250919T162054Z
LAST-MODIFIED:20260312T233350Z
UID:10004093-1836135000-1836142200@www.jdicseniors.ca
SUMMARY:Mamaloshen – Yiddish Club
DESCRIPTION:All interested in conversational Yiddish\, regardless of level\, are welcome. Great atmosphere and a lot of fun!  \nPlease register with the Office to receive the Zoom link for meetings.
URL:https://www.jdicseniors.ca/event/mamaloshen-yiddish-club-2/2028-03-08/
LOCATION:The Centre\, 10052-117 St. NW\, Edmonton\, Alberta\, T5K 1X2\, Canada
CATEGORIES:Fun & Games
ORGANIZER;CN="JDIC":MAILTO:programmer@jdicseniors.ca
END:VEVENT
BEGIN:VEVENT
DTSTART;TZID=America/Edmonton:20280313T100000
DTEND;TZID=America/Edmonton:20280313T120000
DTSTAMP:20260421T215128
CREATED:20250919T163856Z
LAST-MODIFIED:20260312T233823Z
UID:10001381-1836554400-1836561600@www.jdicseniors.ca
SUMMARY:Young At Heart Choir Rehersals
DESCRIPTION:Will start rehearsals on Mondays at 10am. \nJoin our wonderful choir! \nChoir fee is $50 for the Fall-Winter period (you will receive a $25 tax receipt). All choir participants must be paid members of the Centre. \nAll choir participants must be paid members of the Centre.
URL:https://www.jdicseniors.ca/event/young-at-heart-choir-rehersals-2-2/2028-03-13/
LOCATION:The Centre\, 10052-117 St. NW\, Edmonton\, Alberta\, T5K 1X2\, Canada
CATEGORIES:Fun & Games
ATTACH;FMTTYPE=image/jpeg:https://www.jdicseniors.ca/wp-content/uploads/2023/12/PHOTO-2023-11-02-14-44-45.jpg
ORGANIZER;CN="JDIC":MAILTO:programmer@jdicseniors.ca
END:VEVENT
BEGIN:VEVENT
DTSTART;TZID=America/Edmonton:20280315T100000
DTEND;TZID=America/Edmonton:20280315T120000
DTSTAMP:20260421T215128
CREATED:20250919T163331Z
LAST-MODIFIED:20260312T233117Z
UID:10002984-1836727200-1836734400@www.jdicseniors.ca
SUMMARY:De’s Crochet Club
DESCRIPTION:Join De and Ninfa every Wednesday to crochet all types of beautiful items. We donate baby blankets & caps which are much needed to welcome new arrivals in Edmonton! Coffee/tea & cookies included.  Please donate your yarns to the Centre.
URL:https://www.jdicseniors.ca/event/des-crochet-club-2/2028-03-15/
LOCATION:The Centre\, 10052-117 St. NW\, Edmonton\, Alberta\, T5K 1X2\, Canada
CATEGORIES:Fun & Games
ATTACH;FMTTYPE=image/jpeg:https://www.jdicseniors.ca/wp-content/uploads/2025/02/nykeya-paige-uka6tfxFL0s-unsplash.jpg
ORGANIZER;CN="JDIC":MAILTO:programmer@jdicseniors.ca
END:VEVENT
BEGIN:VEVENT
DTSTART;TZID=America/Edmonton:20280315T130000
DTEND;TZID=America/Edmonton:20280315T140000
DTSTAMP:20260421T215128
CREATED:20250919T162215Z
LAST-MODIFIED:20260312T233231Z
UID:10003570-1836738000-1836741600@www.jdicseniors.ca
SUMMARY:Conversational Russian Club
DESCRIPTION:Practice your conversational Russian with Russian-speakers. Have fun and enjoy new experiences!
URL:https://www.jdicseniors.ca/event/conversational-russian-club-2/2028-03-15/
LOCATION:The Centre\, 10052-117 St. NW\, Edmonton\, Alberta\, T5K 1X2\, Canada
CATEGORIES:Fun & Games
ORGANIZER;CN="JDIC":MAILTO:programmer@jdicseniors.ca
END:VEVENT
BEGIN:VEVENT
DTSTART;TZID=America/Edmonton:20280315T130000
DTEND;TZID=America/Edmonton:20280315T150000
DTSTAMP:20260421T215128
CREATED:20250919T162256Z
LAST-MODIFIED:20260312T233332Z
UID:10003832-1836738000-1836745200@www.jdicseniors.ca
SUMMARY:Chess Club
DESCRIPTION:Join our experienced players to enhance your skills in this strategic game. We have enough chess sets. Come and find new partners for this game.
URL:https://www.jdicseniors.ca/event/chess-club-2/2028-03-15/
LOCATION:The Centre\, 10052-117 St. NW\, Edmonton\, Alberta\, T5K 1X2\, Canada
CATEGORIES:Fun & Games
ATTACH;FMTTYPE=image/jpeg:https://www.jdicseniors.ca/wp-content/uploads/2025/02/jeshoots-com-fzOITuS1DIQ-unsplash.jpg
ORGANIZER;CN="JDIC":MAILTO:programmer@jdicseniors.ca
END:VEVENT
BEGIN:VEVENT
DTSTART;TZID=America/Edmonton:20280315T130000
DTEND;TZID=America/Edmonton:20280315T150000
DTSTAMP:20260421T215128
CREATED:20250919T163646Z
LAST-MODIFIED:20260312T233418Z
UID:10000584-1836738000-1836745200@www.jdicseniors.ca
SUMMARY:Whimsical Wednesdays
DESCRIPTION:Join a day of Fun\, Friendship & Craft!\nDo you play or want to play Canasta\, Cribbage\, Scrabble\, Mah Jongg or other card/board games?\nThis is a day when you can do whatever your heart desires! \nWhat’s more?\nWe offer a special light lunch that day for $10 only.\nPlease inform the Office about your game of choice!
URL:https://www.jdicseniors.ca/event/whimsical-wednesdays-2/2028-03-15/
LOCATION:The Centre\, 10052-117 St. NW\, Edmonton\, Alberta\, T5K 1X2\, Canada
CATEGORIES:Fun & Games
ATTACH;FMTTYPE=image/jpeg:https://www.jdicseniors.ca/wp-content/uploads/2023/12/pexels-kampus-production-6838584.jpg
ORGANIZER;CN="JDIC":MAILTO:programmer@jdicseniors.ca
END:VEVENT
BEGIN:VEVENT
DTSTART;TZID=America/Edmonton:20280315T133000
DTEND;TZID=America/Edmonton:20280315T153000
DTSTAMP:20260421T215128
CREATED:20250919T162054Z
LAST-MODIFIED:20260312T233350Z
UID:10004094-1836739800-1836747000@www.jdicseniors.ca
SUMMARY:Mamaloshen – Yiddish Club
DESCRIPTION:All interested in conversational Yiddish\, regardless of level\, are welcome. Great atmosphere and a lot of fun!  \nPlease register with the Office to receive the Zoom link for meetings.
URL:https://www.jdicseniors.ca/event/mamaloshen-yiddish-club-2/2028-03-15/
LOCATION:The Centre\, 10052-117 St. NW\, Edmonton\, Alberta\, T5K 1X2\, Canada
CATEGORIES:Fun & Games
ORGANIZER;CN="JDIC":MAILTO:programmer@jdicseniors.ca
END:VEVENT
BEGIN:VEVENT
DTSTART;TZID=America/Edmonton:20280320T100000
DTEND;TZID=America/Edmonton:20280320T120000
DTSTAMP:20260421T215128
CREATED:20250919T163856Z
LAST-MODIFIED:20260312T233823Z
UID:10001382-1837159200-1837166400@www.jdicseniors.ca
SUMMARY:Young At Heart Choir Rehersals
DESCRIPTION:Will start rehearsals on Mondays at 10am. \nJoin our wonderful choir! \nChoir fee is $50 for the Fall-Winter period (you will receive a $25 tax receipt). All choir participants must be paid members of the Centre. \nAll choir participants must be paid members of the Centre.
URL:https://www.jdicseniors.ca/event/young-at-heart-choir-rehersals-2-2/2028-03-20/
LOCATION:The Centre\, 10052-117 St. NW\, Edmonton\, Alberta\, T5K 1X2\, Canada
CATEGORIES:Fun & Games
ATTACH;FMTTYPE=image/jpeg:https://www.jdicseniors.ca/wp-content/uploads/2023/12/PHOTO-2023-11-02-14-44-45.jpg
ORGANIZER;CN="JDIC":MAILTO:programmer@jdicseniors.ca
END:VEVENT
BEGIN:VEVENT
DTSTART;TZID=America/Edmonton:20280322T100000
DTEND;TZID=America/Edmonton:20280322T120000
DTSTAMP:20260421T215128
CREATED:20250919T163331Z
LAST-MODIFIED:20260312T233117Z
UID:10002985-1837332000-1837339200@www.jdicseniors.ca
SUMMARY:De’s Crochet Club
DESCRIPTION:Join De and Ninfa every Wednesday to crochet all types of beautiful items. We donate baby blankets & caps which are much needed to welcome new arrivals in Edmonton! Coffee/tea & cookies included.  Please donate your yarns to the Centre.
URL:https://www.jdicseniors.ca/event/des-crochet-club-2/2028-03-22/
LOCATION:The Centre\, 10052-117 St. NW\, Edmonton\, Alberta\, T5K 1X2\, Canada
CATEGORIES:Fun & Games
ATTACH;FMTTYPE=image/jpeg:https://www.jdicseniors.ca/wp-content/uploads/2025/02/nykeya-paige-uka6tfxFL0s-unsplash.jpg
ORGANIZER;CN="JDIC":MAILTO:programmer@jdicseniors.ca
END:VEVENT
BEGIN:VEVENT
DTSTART;TZID=America/Edmonton:20280322T130000
DTEND;TZID=America/Edmonton:20280322T140000
DTSTAMP:20260421T215128
CREATED:20250919T162215Z
LAST-MODIFIED:20260312T233231Z
UID:10003571-1837342800-1837346400@www.jdicseniors.ca
SUMMARY:Conversational Russian Club
DESCRIPTION:Practice your conversational Russian with Russian-speakers. Have fun and enjoy new experiences!
URL:https://www.jdicseniors.ca/event/conversational-russian-club-2/2028-03-22/
LOCATION:The Centre\, 10052-117 St. NW\, Edmonton\, Alberta\, T5K 1X2\, Canada
CATEGORIES:Fun & Games
ORGANIZER;CN="JDIC":MAILTO:programmer@jdicseniors.ca
END:VEVENT
BEGIN:VEVENT
DTSTART;TZID=America/Edmonton:20280322T130000
DTEND;TZID=America/Edmonton:20280322T150000
DTSTAMP:20260421T215128
CREATED:20250919T162256Z
LAST-MODIFIED:20260312T233332Z
UID:10003833-1837342800-1837350000@www.jdicseniors.ca
SUMMARY:Chess Club
DESCRIPTION:Join our experienced players to enhance your skills in this strategic game. We have enough chess sets. Come and find new partners for this game.
URL:https://www.jdicseniors.ca/event/chess-club-2/2028-03-22/
LOCATION:The Centre\, 10052-117 St. NW\, Edmonton\, Alberta\, T5K 1X2\, Canada
CATEGORIES:Fun & Games
ATTACH;FMTTYPE=image/jpeg:https://www.jdicseniors.ca/wp-content/uploads/2025/02/jeshoots-com-fzOITuS1DIQ-unsplash.jpg
ORGANIZER;CN="JDIC":MAILTO:programmer@jdicseniors.ca
END:VEVENT
BEGIN:VEVENT
DTSTART;TZID=America/Edmonton:20280322T130000
DTEND;TZID=America/Edmonton:20280322T150000
DTSTAMP:20260421T215128
CREATED:20250919T163646Z
LAST-MODIFIED:20260312T233418Z
UID:10000585-1837342800-1837350000@www.jdicseniors.ca
SUMMARY:Whimsical Wednesdays
DESCRIPTION:Join a day of Fun\, Friendship & Craft!\nDo you play or want to play Canasta\, Cribbage\, Scrabble\, Mah Jongg or other card/board games?\nThis is a day when you can do whatever your heart desires! \nWhat’s more?\nWe offer a special light lunch that day for $10 only.\nPlease inform the Office about your game of choice!
URL:https://www.jdicseniors.ca/event/whimsical-wednesdays-2/2028-03-22/
LOCATION:The Centre\, 10052-117 St. NW\, Edmonton\, Alberta\, T5K 1X2\, Canada
CATEGORIES:Fun & Games
ATTACH;FMTTYPE=image/jpeg:https://www.jdicseniors.ca/wp-content/uploads/2023/12/pexels-kampus-production-6838584.jpg
ORGANIZER;CN="JDIC":MAILTO:programmer@jdicseniors.ca
END:VEVENT
BEGIN:VEVENT
DTSTART;TZID=America/Edmonton:20280322T133000
DTEND;TZID=America/Edmonton:20280322T153000
DTSTAMP:20260421T215128
CREATED:20250919T162054Z
LAST-MODIFIED:20260312T233350Z
UID:10004095-1837344600-1837351800@www.jdicseniors.ca
SUMMARY:Mamaloshen – Yiddish Club
DESCRIPTION:All interested in conversational Yiddish\, regardless of level\, are welcome. Great atmosphere and a lot of fun!  \nPlease register with the Office to receive the Zoom link for meetings.
URL:https://www.jdicseniors.ca/event/mamaloshen-yiddish-club-2/2028-03-22/
LOCATION:The Centre\, 10052-117 St. NW\, Edmonton\, Alberta\, T5K 1X2\, Canada
CATEGORIES:Fun & Games
ORGANIZER;CN="JDIC":MAILTO:programmer@jdicseniors.ca
END:VEVENT
BEGIN:VEVENT
DTSTART;TZID=America/Edmonton:20280327T100000
DTEND;TZID=America/Edmonton:20280327T120000
DTSTAMP:20260421T215128
CREATED:20250919T163856Z
LAST-MODIFIED:20260312T233823Z
UID:10001383-1837764000-1837771200@www.jdicseniors.ca
SUMMARY:Young At Heart Choir Rehersals
DESCRIPTION:Will start rehearsals on Mondays at 10am. \nJoin our wonderful choir! \nChoir fee is $50 for the Fall-Winter period (you will receive a $25 tax receipt). All choir participants must be paid members of the Centre. \nAll choir participants must be paid members of the Centre.
URL:https://www.jdicseniors.ca/event/young-at-heart-choir-rehersals-2-2/2028-03-27/
LOCATION:The Centre\, 10052-117 St. NW\, Edmonton\, Alberta\, T5K 1X2\, Canada
CATEGORIES:Fun & Games
ATTACH;FMTTYPE=image/jpeg:https://www.jdicseniors.ca/wp-content/uploads/2023/12/PHOTO-2023-11-02-14-44-45.jpg
ORGANIZER;CN="JDIC":MAILTO:programmer@jdicseniors.ca
END:VEVENT
BEGIN:VEVENT
DTSTART;TZID=America/Edmonton:20280328T120000
DTEND;TZID=America/Edmonton:20280328T130000
DTSTAMP:20260421T215128
CREATED:20250919T162605Z
LAST-MODIFIED:20260312T233030Z
UID:10004234-1837857600-1837861200@www.jdicseniors.ca
SUMMARY:Birthday Tuesdays
DESCRIPTION:Every last Tuesday of the month join us to celebrate your friends’ birthdays with music\, special lunch and fun! Sponsor cake or entertainment\, order a special card from the office or create a unique Power Point presentation to surprise your friends!
URL:https://www.jdicseniors.ca/event/birthday-tuesdays-2/2028-03-28/
LOCATION:The Centre\, 10052-117 St. NW\, Edmonton\, Alberta\, T5K 1X2\, Canada
CATEGORIES:Fun & Games,Special Events & Presentations
ATTACH;FMTTYPE=image/jpeg:https://www.jdicseniors.ca/wp-content/uploads/2025/01/isabella-fischer-sQoIRY84a2E-unsplash-scaled.jpg
ORGANIZER;CN="JDIC":MAILTO:programmer@jdicseniors.ca
END:VEVENT
BEGIN:VEVENT
DTSTART;TZID=America/Edmonton:20280329T100000
DTEND;TZID=America/Edmonton:20280329T120000
DTSTAMP:20260421T215128
CREATED:20250919T163331Z
LAST-MODIFIED:20260312T233117Z
UID:10002986-1837936800-1837944000@www.jdicseniors.ca
SUMMARY:De’s Crochet Club
DESCRIPTION:Join De and Ninfa every Wednesday to crochet all types of beautiful items. We donate baby blankets & caps which are much needed to welcome new arrivals in Edmonton! Coffee/tea & cookies included.  Please donate your yarns to the Centre.
URL:https://www.jdicseniors.ca/event/des-crochet-club-2/2028-03-29/
LOCATION:The Centre\, 10052-117 St. NW\, Edmonton\, Alberta\, T5K 1X2\, Canada
CATEGORIES:Fun & Games
ATTACH;FMTTYPE=image/jpeg:https://www.jdicseniors.ca/wp-content/uploads/2025/02/nykeya-paige-uka6tfxFL0s-unsplash.jpg
ORGANIZER;CN="JDIC":MAILTO:programmer@jdicseniors.ca
END:VEVENT
BEGIN:VEVENT
DTSTART;TZID=America/Edmonton:20280329T130000
DTEND;TZID=America/Edmonton:20280329T140000
DTSTAMP:20260421T215128
CREATED:20250919T162215Z
LAST-MODIFIED:20260312T233231Z
UID:10003572-1837947600-1837951200@www.jdicseniors.ca
SUMMARY:Conversational Russian Club
DESCRIPTION:Practice your conversational Russian with Russian-speakers. Have fun and enjoy new experiences!
URL:https://www.jdicseniors.ca/event/conversational-russian-club-2/2028-03-29/
LOCATION:The Centre\, 10052-117 St. NW\, Edmonton\, Alberta\, T5K 1X2\, Canada
CATEGORIES:Fun & Games
ORGANIZER;CN="JDIC":MAILTO:programmer@jdicseniors.ca
END:VEVENT
BEGIN:VEVENT
DTSTART;TZID=America/Edmonton:20280329T130000
DTEND;TZID=America/Edmonton:20280329T150000
DTSTAMP:20260421T215128
CREATED:20250919T162256Z
LAST-MODIFIED:20260312T233332Z
UID:10003834-1837947600-1837954800@www.jdicseniors.ca
SUMMARY:Chess Club
DESCRIPTION:Join our experienced players to enhance your skills in this strategic game. We have enough chess sets. Come and find new partners for this game.
URL:https://www.jdicseniors.ca/event/chess-club-2/2028-03-29/
LOCATION:The Centre\, 10052-117 St. NW\, Edmonton\, Alberta\, T5K 1X2\, Canada
CATEGORIES:Fun & Games
ATTACH;FMTTYPE=image/jpeg:https://www.jdicseniors.ca/wp-content/uploads/2025/02/jeshoots-com-fzOITuS1DIQ-unsplash.jpg
ORGANIZER;CN="JDIC":MAILTO:programmer@jdicseniors.ca
END:VEVENT
BEGIN:VEVENT
DTSTART;TZID=America/Edmonton:20280329T130000
DTEND;TZID=America/Edmonton:20280329T150000
DTSTAMP:20260421T215128
CREATED:20250919T163646Z
LAST-MODIFIED:20260312T233418Z
UID:10000586-1837947600-1837954800@www.jdicseniors.ca
SUMMARY:Whimsical Wednesdays
DESCRIPTION:Join a day of Fun\, Friendship & Craft!\nDo you play or want to play Canasta\, Cribbage\, Scrabble\, Mah Jongg or other card/board games?\nThis is a day when you can do whatever your heart desires! \nWhat’s more?\nWe offer a special light lunch that day for $10 only.\nPlease inform the Office about your game of choice!
URL:https://www.jdicseniors.ca/event/whimsical-wednesdays-2/2028-03-29/
LOCATION:The Centre\, 10052-117 St. NW\, Edmonton\, Alberta\, T5K 1X2\, Canada
CATEGORIES:Fun & Games
ATTACH;FMTTYPE=image/jpeg:https://www.jdicseniors.ca/wp-content/uploads/2023/12/pexels-kampus-production-6838584.jpg
ORGANIZER;CN="JDIC":MAILTO:programmer@jdicseniors.ca
END:VEVENT
BEGIN:VEVENT
DTSTART;TZID=America/Edmonton:20280329T133000
DTEND;TZID=America/Edmonton:20280329T153000
DTSTAMP:20260421T215128
CREATED:20250919T162054Z
LAST-MODIFIED:20260312T233350Z
UID:10004096-1837949400-1837956600@www.jdicseniors.ca
SUMMARY:Mamaloshen – Yiddish Club
DESCRIPTION:All interested in conversational Yiddish\, regardless of level\, are welcome. Great atmosphere and a lot of fun!  \nPlease register with the Office to receive the Zoom link for meetings.
URL:https://www.jdicseniors.ca/event/mamaloshen-yiddish-club-2/2028-03-29/
LOCATION:The Centre\, 10052-117 St. NW\, Edmonton\, Alberta\, T5K 1X2\, Canada
CATEGORIES:Fun & Games
ORGANIZER;CN="JDIC":MAILTO:programmer@jdicseniors.ca
END:VEVENT
BEGIN:VEVENT
DTSTART;TZID=America/Edmonton:20280403T100000
DTEND;TZID=America/Edmonton:20280403T120000
DTSTAMP:20260421T215128
CREATED:20250919T163856Z
LAST-MODIFIED:20260312T233823Z
UID:10001384-1838368800-1838376000@www.jdicseniors.ca
SUMMARY:Young At Heart Choir Rehersals
DESCRIPTION:Will start rehearsals on Mondays at 10am. \nJoin our wonderful choir! \nChoir fee is $50 for the Fall-Winter period (you will receive a $25 tax receipt). All choir participants must be paid members of the Centre. \nAll choir participants must be paid members of the Centre.
URL:https://www.jdicseniors.ca/event/young-at-heart-choir-rehersals-2-2/2028-04-03/
LOCATION:The Centre\, 10052-117 St. NW\, Edmonton\, Alberta\, T5K 1X2\, Canada
CATEGORIES:Fun & Games
ATTACH;FMTTYPE=image/jpeg:https://www.jdicseniors.ca/wp-content/uploads/2023/12/PHOTO-2023-11-02-14-44-45.jpg
ORGANIZER;CN="JDIC":MAILTO:programmer@jdicseniors.ca
END:VEVENT
BEGIN:VEVENT
DTSTART;TZID=America/Edmonton:20280405T100000
DTEND;TZID=America/Edmonton:20280405T120000
DTSTAMP:20260421T215128
CREATED:20250919T163331Z
LAST-MODIFIED:20260312T233117Z
UID:10002987-1838541600-1838548800@www.jdicseniors.ca
SUMMARY:De’s Crochet Club
DESCRIPTION:Join De and Ninfa every Wednesday to crochet all types of beautiful items. We donate baby blankets & caps which are much needed to welcome new arrivals in Edmonton! Coffee/tea & cookies included.  Please donate your yarns to the Centre.
URL:https://www.jdicseniors.ca/event/des-crochet-club-2/2028-04-05/
LOCATION:The Centre\, 10052-117 St. NW\, Edmonton\, Alberta\, T5K 1X2\, Canada
CATEGORIES:Fun & Games
ATTACH;FMTTYPE=image/jpeg:https://www.jdicseniors.ca/wp-content/uploads/2025/02/nykeya-paige-uka6tfxFL0s-unsplash.jpg
ORGANIZER;CN="JDIC":MAILTO:programmer@jdicseniors.ca
END:VEVENT
BEGIN:VEVENT
DTSTART;TZID=America/Edmonton:20280405T130000
DTEND;TZID=America/Edmonton:20280405T140000
DTSTAMP:20260421T215128
CREATED:20250919T162215Z
LAST-MODIFIED:20260312T233231Z
UID:10003573-1838552400-1838556000@www.jdicseniors.ca
SUMMARY:Conversational Russian Club
DESCRIPTION:Practice your conversational Russian with Russian-speakers. Have fun and enjoy new experiences!
URL:https://www.jdicseniors.ca/event/conversational-russian-club-2/2028-04-05/
LOCATION:The Centre\, 10052-117 St. NW\, Edmonton\, Alberta\, T5K 1X2\, Canada
CATEGORIES:Fun & Games
ORGANIZER;CN="JDIC":MAILTO:programmer@jdicseniors.ca
END:VEVENT
BEGIN:VEVENT
DTSTART;TZID=America/Edmonton:20280405T130000
DTEND;TZID=America/Edmonton:20280405T150000
DTSTAMP:20260421T215128
CREATED:20250919T162256Z
LAST-MODIFIED:20260312T233332Z
UID:10003835-1838552400-1838559600@www.jdicseniors.ca
SUMMARY:Chess Club
DESCRIPTION:Join our experienced players to enhance your skills in this strategic game. We have enough chess sets. Come and find new partners for this game.
URL:https://www.jdicseniors.ca/event/chess-club-2/2028-04-05/
LOCATION:The Centre\, 10052-117 St. NW\, Edmonton\, Alberta\, T5K 1X2\, Canada
CATEGORIES:Fun & Games
ATTACH;FMTTYPE=image/jpeg:https://www.jdicseniors.ca/wp-content/uploads/2025/02/jeshoots-com-fzOITuS1DIQ-unsplash.jpg
ORGANIZER;CN="JDIC":MAILTO:programmer@jdicseniors.ca
END:VEVENT
BEGIN:VEVENT
DTSTART;TZID=America/Edmonton:20280405T130000
DTEND;TZID=America/Edmonton:20280405T150000
DTSTAMP:20260421T215128
CREATED:20250919T163646Z
LAST-MODIFIED:20260312T233418Z
UID:10000587-1838552400-1838559600@www.jdicseniors.ca
SUMMARY:Whimsical Wednesdays
DESCRIPTION:Join a day of Fun\, Friendship & Craft!\nDo you play or want to play Canasta\, Cribbage\, Scrabble\, Mah Jongg or other card/board games?\nThis is a day when you can do whatever your heart desires! \nWhat’s more?\nWe offer a special light lunch that day for $10 only.\nPlease inform the Office about your game of choice!
URL:https://www.jdicseniors.ca/event/whimsical-wednesdays-2/2028-04-05/
LOCATION:The Centre\, 10052-117 St. NW\, Edmonton\, Alberta\, T5K 1X2\, Canada
CATEGORIES:Fun & Games
ATTACH;FMTTYPE=image/jpeg:https://www.jdicseniors.ca/wp-content/uploads/2023/12/pexels-kampus-production-6838584.jpg
ORGANIZER;CN="JDIC":MAILTO:programmer@jdicseniors.ca
END:VEVENT
BEGIN:VEVENT
DTSTART;TZID=America/Edmonton:20280405T133000
DTEND;TZID=America/Edmonton:20280405T153000
DTSTAMP:20260421T215128
CREATED:20250919T162054Z
LAST-MODIFIED:20260312T233350Z
UID:10004097-1838554200-1838561400@www.jdicseniors.ca
SUMMARY:Mamaloshen – Yiddish Club
DESCRIPTION:All interested in conversational Yiddish\, regardless of level\, are welcome. Great atmosphere and a lot of fun!  \nPlease register with the Office to receive the Zoom link for meetings.
URL:https://www.jdicseniors.ca/event/mamaloshen-yiddish-club-2/2028-04-05/
LOCATION:The Centre\, 10052-117 St. NW\, Edmonton\, Alberta\, T5K 1X2\, Canada
CATEGORIES:Fun & Games
ORGANIZER;CN="JDIC":MAILTO:programmer@jdicseniors.ca
END:VEVENT
END:VCALENDAR