BEGIN:VCALENDAR
VERSION:2.0
PRODID:-//Jewish Senior Citizen’s Centre - ECPv6.15.17.1//NONSGML v1.0//EN
CALSCALE:GREGORIAN
METHOD:PUBLISH
X-WR-CALNAME:Jewish Senior Citizen’s Centre
X-ORIGINAL-URL:https://www.jdicseniors.ca
X-WR-CALDESC:Events for Jewish Senior Citizen’s Centre
REFRESH-INTERVAL;VALUE=DURATION:PT1H
X-Robots-Tag:noindex
X-PUBLISHED-TTL:PT1H
BEGIN:VTIMEZONE
TZID:America/Edmonton
BEGIN:DAYLIGHT
TZOFFSETFROM:-0700
TZOFFSETTO:-0600
TZNAME:MDT
DTSTART:20260308T090000
END:DAYLIGHT
BEGIN:STANDARD
TZOFFSETFROM:-0600
TZOFFSETTO:-0700
TZNAME:MST
DTSTART:20261101T080000
END:STANDARD
BEGIN:DAYLIGHT
TZOFFSETFROM:-0700
TZOFFSETTO:-0600
TZNAME:MDT
DTSTART:20270314T090000
END:DAYLIGHT
BEGIN:STANDARD
TZOFFSETFROM:-0600
TZOFFSETTO:-0700
TZNAME:MST
DTSTART:20271107T080000
END:STANDARD
BEGIN:DAYLIGHT
TZOFFSETFROM:-0700
TZOFFSETTO:-0600
TZNAME:MDT
DTSTART:20280312T090000
END:DAYLIGHT
BEGIN:STANDARD
TZOFFSETFROM:-0600
TZOFFSETTO:-0700
TZNAME:MST
DTSTART:20281105T080000
END:STANDARD
END:VTIMEZONE
BEGIN:VEVENT
DTSTART;TZID=America/Edmonton:20271103T133000
DTEND;TZID=America/Edmonton:20271103T153000
DTSTAMP:20260421T073223
CREATED:20250919T162054Z
LAST-MODIFIED:20260312T233350Z
UID:10004075-1825248600-1825255800@www.jdicseniors.ca
SUMMARY:Mamaloshen – Yiddish Club
DESCRIPTION:All interested in conversational Yiddish\, regardless of level\, are welcome. Great atmosphere and a lot of fun!  \nPlease register with the Office to receive the Zoom link for meetings.
URL:https://www.jdicseniors.ca/event/mamaloshen-yiddish-club-2/2027-11-03/
LOCATION:The Centre\, 10052-117 St. NW\, Edmonton\, Alberta\, T5K 1X2\, Canada
CATEGORIES:Fun & Games
ORGANIZER;CN="JDIC":MAILTO:programmer@jdicseniors.ca
END:VEVENT
BEGIN:VEVENT
DTSTART;TZID=America/Edmonton:20271108T100000
DTEND;TZID=America/Edmonton:20271108T120000
DTSTAMP:20260421T073223
CREATED:20250919T163856Z
LAST-MODIFIED:20260312T233823Z
UID:10001363-1825668000-1825675200@www.jdicseniors.ca
SUMMARY:Young At Heart Choir Rehersals
DESCRIPTION:Will start rehearsals on Mondays at 10am. \nJoin our wonderful choir! \nChoir fee is $50 for the Fall-Winter period (you will receive a $25 tax receipt). All choir participants must be paid members of the Centre. \nAll choir participants must be paid members of the Centre.
URL:https://www.jdicseniors.ca/event/young-at-heart-choir-rehersals-2-2/2027-11-08/
LOCATION:The Centre\, 10052-117 St. NW\, Edmonton\, Alberta\, T5K 1X2\, Canada
CATEGORIES:Fun & Games
ATTACH;FMTTYPE=image/jpeg:https://www.jdicseniors.ca/wp-content/uploads/2023/12/PHOTO-2023-11-02-14-44-45.jpg
ORGANIZER;CN="JDIC":MAILTO:programmer@jdicseniors.ca
END:VEVENT
BEGIN:VEVENT
DTSTART;TZID=America/Edmonton:20271110T100000
DTEND;TZID=America/Edmonton:20271110T120000
DTSTAMP:20260421T073223
CREATED:20250919T163331Z
LAST-MODIFIED:20260312T233117Z
UID:10002966-1825840800-1825848000@www.jdicseniors.ca
SUMMARY:De’s Crochet Club
DESCRIPTION:Join De and Ninfa every Wednesday to crochet all types of beautiful items. We donate baby blankets & caps which are much needed to welcome new arrivals in Edmonton! Coffee/tea & cookies included.  Please donate your yarns to the Centre.
URL:https://www.jdicseniors.ca/event/des-crochet-club-2/2027-11-10/
LOCATION:The Centre\, 10052-117 St. NW\, Edmonton\, Alberta\, T5K 1X2\, Canada
CATEGORIES:Fun & Games
ATTACH;FMTTYPE=image/jpeg:https://www.jdicseniors.ca/wp-content/uploads/2025/02/nykeya-paige-uka6tfxFL0s-unsplash.jpg
ORGANIZER;CN="JDIC":MAILTO:programmer@jdicseniors.ca
END:VEVENT
BEGIN:VEVENT
DTSTART;TZID=America/Edmonton:20271110T130000
DTEND;TZID=America/Edmonton:20271110T140000
DTSTAMP:20260421T073223
CREATED:20250919T162215Z
LAST-MODIFIED:20260312T233231Z
UID:10003552-1825851600-1825855200@www.jdicseniors.ca
SUMMARY:Conversational Russian Club
DESCRIPTION:Practice your conversational Russian with Russian-speakers. Have fun and enjoy new experiences!
URL:https://www.jdicseniors.ca/event/conversational-russian-club-2/2027-11-10/
LOCATION:The Centre\, 10052-117 St. NW\, Edmonton\, Alberta\, T5K 1X2\, Canada
CATEGORIES:Fun & Games
ORGANIZER;CN="JDIC":MAILTO:programmer@jdicseniors.ca
END:VEVENT
BEGIN:VEVENT
DTSTART;TZID=America/Edmonton:20271110T130000
DTEND;TZID=America/Edmonton:20271110T150000
DTSTAMP:20260421T073223
CREATED:20250919T162256Z
LAST-MODIFIED:20260312T233332Z
UID:10003814-1825851600-1825858800@www.jdicseniors.ca
SUMMARY:Chess Club
DESCRIPTION:Join our experienced players to enhance your skills in this strategic game. We have enough chess sets. Come and find new partners for this game.
URL:https://www.jdicseniors.ca/event/chess-club-2/2027-11-10/
LOCATION:The Centre\, 10052-117 St. NW\, Edmonton\, Alberta\, T5K 1X2\, Canada
CATEGORIES:Fun & Games
ATTACH;FMTTYPE=image/jpeg:https://www.jdicseniors.ca/wp-content/uploads/2025/02/jeshoots-com-fzOITuS1DIQ-unsplash.jpg
ORGANIZER;CN="JDIC":MAILTO:programmer@jdicseniors.ca
END:VEVENT
BEGIN:VEVENT
DTSTART;TZID=America/Edmonton:20271110T130000
DTEND;TZID=America/Edmonton:20271110T150000
DTSTAMP:20260421T073223
CREATED:20250919T163646Z
LAST-MODIFIED:20260312T233418Z
UID:10000566-1825851600-1825858800@www.jdicseniors.ca
SUMMARY:Whimsical Wednesdays
DESCRIPTION:Join a day of Fun\, Friendship & Craft!\nDo you play or want to play Canasta\, Cribbage\, Scrabble\, Mah Jongg or other card/board games?\nThis is a day when you can do whatever your heart desires! \nWhat’s more?\nWe offer a special light lunch that day for $10 only.\nPlease inform the Office about your game of choice!
URL:https://www.jdicseniors.ca/event/whimsical-wednesdays-2/2027-11-10/
LOCATION:The Centre\, 10052-117 St. NW\, Edmonton\, Alberta\, T5K 1X2\, Canada
CATEGORIES:Fun & Games
ATTACH;FMTTYPE=image/jpeg:https://www.jdicseniors.ca/wp-content/uploads/2023/12/pexels-kampus-production-6838584.jpg
ORGANIZER;CN="JDIC":MAILTO:programmer@jdicseniors.ca
END:VEVENT
BEGIN:VEVENT
DTSTART;TZID=America/Edmonton:20271110T133000
DTEND;TZID=America/Edmonton:20271110T153000
DTSTAMP:20260421T073223
CREATED:20250919T162054Z
LAST-MODIFIED:20260312T233350Z
UID:10004076-1825853400-1825860600@www.jdicseniors.ca
SUMMARY:Mamaloshen – Yiddish Club
DESCRIPTION:All interested in conversational Yiddish\, regardless of level\, are welcome. Great atmosphere and a lot of fun!  \nPlease register with the Office to receive the Zoom link for meetings.
URL:https://www.jdicseniors.ca/event/mamaloshen-yiddish-club-2/2027-11-10/
LOCATION:The Centre\, 10052-117 St. NW\, Edmonton\, Alberta\, T5K 1X2\, Canada
CATEGORIES:Fun & Games
ORGANIZER;CN="JDIC":MAILTO:programmer@jdicseniors.ca
END:VEVENT
BEGIN:VEVENT
DTSTART;TZID=America/Edmonton:20271115T100000
DTEND;TZID=America/Edmonton:20271115T120000
DTSTAMP:20260421T073223
CREATED:20250919T163856Z
LAST-MODIFIED:20260312T233823Z
UID:10001364-1826272800-1826280000@www.jdicseniors.ca
SUMMARY:Young At Heart Choir Rehersals
DESCRIPTION:Will start rehearsals on Mondays at 10am. \nJoin our wonderful choir! \nChoir fee is $50 for the Fall-Winter period (you will receive a $25 tax receipt). All choir participants must be paid members of the Centre. \nAll choir participants must be paid members of the Centre.
URL:https://www.jdicseniors.ca/event/young-at-heart-choir-rehersals-2-2/2027-11-15/
LOCATION:The Centre\, 10052-117 St. NW\, Edmonton\, Alberta\, T5K 1X2\, Canada
CATEGORIES:Fun & Games
ATTACH;FMTTYPE=image/jpeg:https://www.jdicseniors.ca/wp-content/uploads/2023/12/PHOTO-2023-11-02-14-44-45.jpg
ORGANIZER;CN="JDIC":MAILTO:programmer@jdicseniors.ca
END:VEVENT
BEGIN:VEVENT
DTSTART;TZID=America/Edmonton:20271117T100000
DTEND;TZID=America/Edmonton:20271117T120000
DTSTAMP:20260421T073223
CREATED:20250919T163331Z
LAST-MODIFIED:20260312T233117Z
UID:10002967-1826445600-1826452800@www.jdicseniors.ca
SUMMARY:De’s Crochet Club
DESCRIPTION:Join De and Ninfa every Wednesday to crochet all types of beautiful items. We donate baby blankets & caps which are much needed to welcome new arrivals in Edmonton! Coffee/tea & cookies included.  Please donate your yarns to the Centre.
URL:https://www.jdicseniors.ca/event/des-crochet-club-2/2027-11-17/
LOCATION:The Centre\, 10052-117 St. NW\, Edmonton\, Alberta\, T5K 1X2\, Canada
CATEGORIES:Fun & Games
ATTACH;FMTTYPE=image/jpeg:https://www.jdicseniors.ca/wp-content/uploads/2025/02/nykeya-paige-uka6tfxFL0s-unsplash.jpg
ORGANIZER;CN="JDIC":MAILTO:programmer@jdicseniors.ca
END:VEVENT
BEGIN:VEVENT
DTSTART;TZID=America/Edmonton:20271117T130000
DTEND;TZID=America/Edmonton:20271117T140000
DTSTAMP:20260421T073223
CREATED:20250919T162215Z
LAST-MODIFIED:20260312T233231Z
UID:10003553-1826456400-1826460000@www.jdicseniors.ca
SUMMARY:Conversational Russian Club
DESCRIPTION:Practice your conversational Russian with Russian-speakers. Have fun and enjoy new experiences!
URL:https://www.jdicseniors.ca/event/conversational-russian-club-2/2027-11-17/
LOCATION:The Centre\, 10052-117 St. NW\, Edmonton\, Alberta\, T5K 1X2\, Canada
CATEGORIES:Fun & Games
ORGANIZER;CN="JDIC":MAILTO:programmer@jdicseniors.ca
END:VEVENT
BEGIN:VEVENT
DTSTART;TZID=America/Edmonton:20271117T130000
DTEND;TZID=America/Edmonton:20271117T150000
DTSTAMP:20260421T073223
CREATED:20250919T162256Z
LAST-MODIFIED:20260312T233332Z
UID:10003815-1826456400-1826463600@www.jdicseniors.ca
SUMMARY:Chess Club
DESCRIPTION:Join our experienced players to enhance your skills in this strategic game. We have enough chess sets. Come and find new partners for this game.
URL:https://www.jdicseniors.ca/event/chess-club-2/2027-11-17/
LOCATION:The Centre\, 10052-117 St. NW\, Edmonton\, Alberta\, T5K 1X2\, Canada
CATEGORIES:Fun & Games
ATTACH;FMTTYPE=image/jpeg:https://www.jdicseniors.ca/wp-content/uploads/2025/02/jeshoots-com-fzOITuS1DIQ-unsplash.jpg
ORGANIZER;CN="JDIC":MAILTO:programmer@jdicseniors.ca
END:VEVENT
BEGIN:VEVENT
DTSTART;TZID=America/Edmonton:20271117T130000
DTEND;TZID=America/Edmonton:20271117T150000
DTSTAMP:20260421T073223
CREATED:20250919T163646Z
LAST-MODIFIED:20260312T233418Z
UID:10000567-1826456400-1826463600@www.jdicseniors.ca
SUMMARY:Whimsical Wednesdays
DESCRIPTION:Join a day of Fun\, Friendship & Craft!\nDo you play or want to play Canasta\, Cribbage\, Scrabble\, Mah Jongg or other card/board games?\nThis is a day when you can do whatever your heart desires! \nWhat’s more?\nWe offer a special light lunch that day for $10 only.\nPlease inform the Office about your game of choice!
URL:https://www.jdicseniors.ca/event/whimsical-wednesdays-2/2027-11-17/
LOCATION:The Centre\, 10052-117 St. NW\, Edmonton\, Alberta\, T5K 1X2\, Canada
CATEGORIES:Fun & Games
ATTACH;FMTTYPE=image/jpeg:https://www.jdicseniors.ca/wp-content/uploads/2023/12/pexels-kampus-production-6838584.jpg
ORGANIZER;CN="JDIC":MAILTO:programmer@jdicseniors.ca
END:VEVENT
BEGIN:VEVENT
DTSTART;TZID=America/Edmonton:20271117T133000
DTEND;TZID=America/Edmonton:20271117T153000
DTSTAMP:20260421T073223
CREATED:20250919T162054Z
LAST-MODIFIED:20260312T233350Z
UID:10004077-1826458200-1826465400@www.jdicseniors.ca
SUMMARY:Mamaloshen – Yiddish Club
DESCRIPTION:All interested in conversational Yiddish\, regardless of level\, are welcome. Great atmosphere and a lot of fun!  \nPlease register with the Office to receive the Zoom link for meetings.
URL:https://www.jdicseniors.ca/event/mamaloshen-yiddish-club-2/2027-11-17/
LOCATION:The Centre\, 10052-117 St. NW\, Edmonton\, Alberta\, T5K 1X2\, Canada
CATEGORIES:Fun & Games
ORGANIZER;CN="JDIC":MAILTO:programmer@jdicseniors.ca
END:VEVENT
BEGIN:VEVENT
DTSTART;TZID=America/Edmonton:20271122T100000
DTEND;TZID=America/Edmonton:20271122T120000
DTSTAMP:20260421T073223
CREATED:20250919T163856Z
LAST-MODIFIED:20260312T233823Z
UID:10001365-1826877600-1826884800@www.jdicseniors.ca
SUMMARY:Young At Heart Choir Rehersals
DESCRIPTION:Will start rehearsals on Mondays at 10am. \nJoin our wonderful choir! \nChoir fee is $50 for the Fall-Winter period (you will receive a $25 tax receipt). All choir participants must be paid members of the Centre. \nAll choir participants must be paid members of the Centre.
URL:https://www.jdicseniors.ca/event/young-at-heart-choir-rehersals-2-2/2027-11-22/
LOCATION:The Centre\, 10052-117 St. NW\, Edmonton\, Alberta\, T5K 1X2\, Canada
CATEGORIES:Fun & Games
ATTACH;FMTTYPE=image/jpeg:https://www.jdicseniors.ca/wp-content/uploads/2023/12/PHOTO-2023-11-02-14-44-45.jpg
ORGANIZER;CN="JDIC":MAILTO:programmer@jdicseniors.ca
END:VEVENT
BEGIN:VEVENT
DTSTART;TZID=America/Edmonton:20271124T100000
DTEND;TZID=America/Edmonton:20271124T120000
DTSTAMP:20260421T073223
CREATED:20250919T163331Z
LAST-MODIFIED:20260312T233117Z
UID:10002968-1827050400-1827057600@www.jdicseniors.ca
SUMMARY:De’s Crochet Club
DESCRIPTION:Join De and Ninfa every Wednesday to crochet all types of beautiful items. We donate baby blankets & caps which are much needed to welcome new arrivals in Edmonton! Coffee/tea & cookies included.  Please donate your yarns to the Centre.
URL:https://www.jdicseniors.ca/event/des-crochet-club-2/2027-11-24/
LOCATION:The Centre\, 10052-117 St. NW\, Edmonton\, Alberta\, T5K 1X2\, Canada
CATEGORIES:Fun & Games
ATTACH;FMTTYPE=image/jpeg:https://www.jdicseniors.ca/wp-content/uploads/2025/02/nykeya-paige-uka6tfxFL0s-unsplash.jpg
ORGANIZER;CN="JDIC":MAILTO:programmer@jdicseniors.ca
END:VEVENT
BEGIN:VEVENT
DTSTART;TZID=America/Edmonton:20271124T130000
DTEND;TZID=America/Edmonton:20271124T140000
DTSTAMP:20260421T073223
CREATED:20250919T162215Z
LAST-MODIFIED:20260312T233231Z
UID:10003554-1827061200-1827064800@www.jdicseniors.ca
SUMMARY:Conversational Russian Club
DESCRIPTION:Practice your conversational Russian with Russian-speakers. Have fun and enjoy new experiences!
URL:https://www.jdicseniors.ca/event/conversational-russian-club-2/2027-11-24/
LOCATION:The Centre\, 10052-117 St. NW\, Edmonton\, Alberta\, T5K 1X2\, Canada
CATEGORIES:Fun & Games
ORGANIZER;CN="JDIC":MAILTO:programmer@jdicseniors.ca
END:VEVENT
BEGIN:VEVENT
DTSTART;TZID=America/Edmonton:20271124T130000
DTEND;TZID=America/Edmonton:20271124T150000
DTSTAMP:20260421T073223
CREATED:20250919T162256Z
LAST-MODIFIED:20260312T233332Z
UID:10003816-1827061200-1827068400@www.jdicseniors.ca
SUMMARY:Chess Club
DESCRIPTION:Join our experienced players to enhance your skills in this strategic game. We have enough chess sets. Come and find new partners for this game.
URL:https://www.jdicseniors.ca/event/chess-club-2/2027-11-24/
LOCATION:The Centre\, 10052-117 St. NW\, Edmonton\, Alberta\, T5K 1X2\, Canada
CATEGORIES:Fun & Games
ATTACH;FMTTYPE=image/jpeg:https://www.jdicseniors.ca/wp-content/uploads/2025/02/jeshoots-com-fzOITuS1DIQ-unsplash.jpg
ORGANIZER;CN="JDIC":MAILTO:programmer@jdicseniors.ca
END:VEVENT
BEGIN:VEVENT
DTSTART;TZID=America/Edmonton:20271124T130000
DTEND;TZID=America/Edmonton:20271124T150000
DTSTAMP:20260421T073223
CREATED:20250919T163646Z
LAST-MODIFIED:20260312T233418Z
UID:10000568-1827061200-1827068400@www.jdicseniors.ca
SUMMARY:Whimsical Wednesdays
DESCRIPTION:Join a day of Fun\, Friendship & Craft!\nDo you play or want to play Canasta\, Cribbage\, Scrabble\, Mah Jongg or other card/board games?\nThis is a day when you can do whatever your heart desires! \nWhat’s more?\nWe offer a special light lunch that day for $10 only.\nPlease inform the Office about your game of choice!
URL:https://www.jdicseniors.ca/event/whimsical-wednesdays-2/2027-11-24/
LOCATION:The Centre\, 10052-117 St. NW\, Edmonton\, Alberta\, T5K 1X2\, Canada
CATEGORIES:Fun & Games
ATTACH;FMTTYPE=image/jpeg:https://www.jdicseniors.ca/wp-content/uploads/2023/12/pexels-kampus-production-6838584.jpg
ORGANIZER;CN="JDIC":MAILTO:programmer@jdicseniors.ca
END:VEVENT
BEGIN:VEVENT
DTSTART;TZID=America/Edmonton:20271124T133000
DTEND;TZID=America/Edmonton:20271124T153000
DTSTAMP:20260421T073223
CREATED:20250919T162054Z
LAST-MODIFIED:20260312T233350Z
UID:10004078-1827063000-1827070200@www.jdicseniors.ca
SUMMARY:Mamaloshen – Yiddish Club
DESCRIPTION:All interested in conversational Yiddish\, regardless of level\, are welcome. Great atmosphere and a lot of fun!  \nPlease register with the Office to receive the Zoom link for meetings.
URL:https://www.jdicseniors.ca/event/mamaloshen-yiddish-club-2/2027-11-24/
LOCATION:The Centre\, 10052-117 St. NW\, Edmonton\, Alberta\, T5K 1X2\, Canada
CATEGORIES:Fun & Games
ORGANIZER;CN="JDIC":MAILTO:programmer@jdicseniors.ca
END:VEVENT
BEGIN:VEVENT
DTSTART;TZID=America/Edmonton:20271129T100000
DTEND;TZID=America/Edmonton:20271129T120000
DTSTAMP:20260421T073223
CREATED:20250919T163856Z
LAST-MODIFIED:20260312T233823Z
UID:10001366-1827482400-1827489600@www.jdicseniors.ca
SUMMARY:Young At Heart Choir Rehersals
DESCRIPTION:Will start rehearsals on Mondays at 10am. \nJoin our wonderful choir! \nChoir fee is $50 for the Fall-Winter period (you will receive a $25 tax receipt). All choir participants must be paid members of the Centre. \nAll choir participants must be paid members of the Centre.
URL:https://www.jdicseniors.ca/event/young-at-heart-choir-rehersals-2-2/2027-11-29/
LOCATION:The Centre\, 10052-117 St. NW\, Edmonton\, Alberta\, T5K 1X2\, Canada
CATEGORIES:Fun & Games
ATTACH;FMTTYPE=image/jpeg:https://www.jdicseniors.ca/wp-content/uploads/2023/12/PHOTO-2023-11-02-14-44-45.jpg
ORGANIZER;CN="JDIC":MAILTO:programmer@jdicseniors.ca
END:VEVENT
BEGIN:VEVENT
DTSTART;TZID=America/Edmonton:20271130T120000
DTEND;TZID=America/Edmonton:20271130T130000
DTSTAMP:20260421T073223
CREATED:20250919T162605Z
LAST-MODIFIED:20260312T233030Z
UID:10004230-1827576000-1827579600@www.jdicseniors.ca
SUMMARY:Birthday Tuesdays
DESCRIPTION:Every last Tuesday of the month join us to celebrate your friends’ birthdays with music\, special lunch and fun! Sponsor cake or entertainment\, order a special card from the office or create a unique Power Point presentation to surprise your friends!
URL:https://www.jdicseniors.ca/event/birthday-tuesdays-2/2027-11-30/
LOCATION:The Centre\, 10052-117 St. NW\, Edmonton\, Alberta\, T5K 1X2\, Canada
CATEGORIES:Fun & Games,Special Events & Presentations
ATTACH;FMTTYPE=image/jpeg:https://www.jdicseniors.ca/wp-content/uploads/2025/01/isabella-fischer-sQoIRY84a2E-unsplash-scaled.jpg
ORGANIZER;CN="JDIC":MAILTO:programmer@jdicseniors.ca
END:VEVENT
BEGIN:VEVENT
DTSTART;TZID=America/Edmonton:20271201T100000
DTEND;TZID=America/Edmonton:20271201T120000
DTSTAMP:20260421T073223
CREATED:20250919T163331Z
LAST-MODIFIED:20260312T233117Z
UID:10002969-1827655200-1827662400@www.jdicseniors.ca
SUMMARY:De’s Crochet Club
DESCRIPTION:Join De and Ninfa every Wednesday to crochet all types of beautiful items. We donate baby blankets & caps which are much needed to welcome new arrivals in Edmonton! Coffee/tea & cookies included.  Please donate your yarns to the Centre.
URL:https://www.jdicseniors.ca/event/des-crochet-club-2/2027-12-01/
LOCATION:The Centre\, 10052-117 St. NW\, Edmonton\, Alberta\, T5K 1X2\, Canada
CATEGORIES:Fun & Games
ATTACH;FMTTYPE=image/jpeg:https://www.jdicseniors.ca/wp-content/uploads/2025/02/nykeya-paige-uka6tfxFL0s-unsplash.jpg
ORGANIZER;CN="JDIC":MAILTO:programmer@jdicseniors.ca
END:VEVENT
BEGIN:VEVENT
DTSTART;TZID=America/Edmonton:20271201T130000
DTEND;TZID=America/Edmonton:20271201T140000
DTSTAMP:20260421T073223
CREATED:20250919T162215Z
LAST-MODIFIED:20260312T233231Z
UID:10003555-1827666000-1827669600@www.jdicseniors.ca
SUMMARY:Conversational Russian Club
DESCRIPTION:Practice your conversational Russian with Russian-speakers. Have fun and enjoy new experiences!
URL:https://www.jdicseniors.ca/event/conversational-russian-club-2/2027-12-01/
LOCATION:The Centre\, 10052-117 St. NW\, Edmonton\, Alberta\, T5K 1X2\, Canada
CATEGORIES:Fun & Games
ORGANIZER;CN="JDIC":MAILTO:programmer@jdicseniors.ca
END:VEVENT
BEGIN:VEVENT
DTSTART;TZID=America/Edmonton:20271201T130000
DTEND;TZID=America/Edmonton:20271201T150000
DTSTAMP:20260421T073223
CREATED:20250919T162256Z
LAST-MODIFIED:20260312T233332Z
UID:10003817-1827666000-1827673200@www.jdicseniors.ca
SUMMARY:Chess Club
DESCRIPTION:Join our experienced players to enhance your skills in this strategic game. We have enough chess sets. Come and find new partners for this game.
URL:https://www.jdicseniors.ca/event/chess-club-2/2027-12-01/
LOCATION:The Centre\, 10052-117 St. NW\, Edmonton\, Alberta\, T5K 1X2\, Canada
CATEGORIES:Fun & Games
ATTACH;FMTTYPE=image/jpeg:https://www.jdicseniors.ca/wp-content/uploads/2025/02/jeshoots-com-fzOITuS1DIQ-unsplash.jpg
ORGANIZER;CN="JDIC":MAILTO:programmer@jdicseniors.ca
END:VEVENT
BEGIN:VEVENT
DTSTART;TZID=America/Edmonton:20271201T130000
DTEND;TZID=America/Edmonton:20271201T150000
DTSTAMP:20260421T073223
CREATED:20250919T163646Z
LAST-MODIFIED:20260312T233418Z
UID:10000569-1827666000-1827673200@www.jdicseniors.ca
SUMMARY:Whimsical Wednesdays
DESCRIPTION:Join a day of Fun\, Friendship & Craft!\nDo you play or want to play Canasta\, Cribbage\, Scrabble\, Mah Jongg or other card/board games?\nThis is a day when you can do whatever your heart desires! \nWhat’s more?\nWe offer a special light lunch that day for $10 only.\nPlease inform the Office about your game of choice!
URL:https://www.jdicseniors.ca/event/whimsical-wednesdays-2/2027-12-01/
LOCATION:The Centre\, 10052-117 St. NW\, Edmonton\, Alberta\, T5K 1X2\, Canada
CATEGORIES:Fun & Games
ATTACH;FMTTYPE=image/jpeg:https://www.jdicseniors.ca/wp-content/uploads/2023/12/pexels-kampus-production-6838584.jpg
ORGANIZER;CN="JDIC":MAILTO:programmer@jdicseniors.ca
END:VEVENT
BEGIN:VEVENT
DTSTART;TZID=America/Edmonton:20271201T133000
DTEND;TZID=America/Edmonton:20271201T153000
DTSTAMP:20260421T073223
CREATED:20250919T162054Z
LAST-MODIFIED:20260312T233350Z
UID:10004079-1827667800-1827675000@www.jdicseniors.ca
SUMMARY:Mamaloshen – Yiddish Club
DESCRIPTION:All interested in conversational Yiddish\, regardless of level\, are welcome. Great atmosphere and a lot of fun!  \nPlease register with the Office to receive the Zoom link for meetings.
URL:https://www.jdicseniors.ca/event/mamaloshen-yiddish-club-2/2027-12-01/
LOCATION:The Centre\, 10052-117 St. NW\, Edmonton\, Alberta\, T5K 1X2\, Canada
CATEGORIES:Fun & Games
ORGANIZER;CN="JDIC":MAILTO:programmer@jdicseniors.ca
END:VEVENT
BEGIN:VEVENT
DTSTART;TZID=America/Edmonton:20271206T100000
DTEND;TZID=America/Edmonton:20271206T120000
DTSTAMP:20260421T073223
CREATED:20250919T163856Z
LAST-MODIFIED:20260312T233823Z
UID:10001367-1828087200-1828094400@www.jdicseniors.ca
SUMMARY:Young At Heart Choir Rehersals
DESCRIPTION:Will start rehearsals on Mondays at 10am. \nJoin our wonderful choir! \nChoir fee is $50 for the Fall-Winter period (you will receive a $25 tax receipt). All choir participants must be paid members of the Centre. \nAll choir participants must be paid members of the Centre.
URL:https://www.jdicseniors.ca/event/young-at-heart-choir-rehersals-2-2/2027-12-06/
LOCATION:The Centre\, 10052-117 St. NW\, Edmonton\, Alberta\, T5K 1X2\, Canada
CATEGORIES:Fun & Games
ATTACH;FMTTYPE=image/jpeg:https://www.jdicseniors.ca/wp-content/uploads/2023/12/PHOTO-2023-11-02-14-44-45.jpg
ORGANIZER;CN="JDIC":MAILTO:programmer@jdicseniors.ca
END:VEVENT
BEGIN:VEVENT
DTSTART;TZID=America/Edmonton:20271208T100000
DTEND;TZID=America/Edmonton:20271208T120000
DTSTAMP:20260421T073223
CREATED:20250919T163331Z
LAST-MODIFIED:20260312T233117Z
UID:10002970-1828260000-1828267200@www.jdicseniors.ca
SUMMARY:De’s Crochet Club
DESCRIPTION:Join De and Ninfa every Wednesday to crochet all types of beautiful items. We donate baby blankets & caps which are much needed to welcome new arrivals in Edmonton! Coffee/tea & cookies included.  Please donate your yarns to the Centre.
URL:https://www.jdicseniors.ca/event/des-crochet-club-2/2027-12-08/
LOCATION:The Centre\, 10052-117 St. NW\, Edmonton\, Alberta\, T5K 1X2\, Canada
CATEGORIES:Fun & Games
ATTACH;FMTTYPE=image/jpeg:https://www.jdicseniors.ca/wp-content/uploads/2025/02/nykeya-paige-uka6tfxFL0s-unsplash.jpg
ORGANIZER;CN="JDIC":MAILTO:programmer@jdicseniors.ca
END:VEVENT
BEGIN:VEVENT
DTSTART;TZID=America/Edmonton:20271208T130000
DTEND;TZID=America/Edmonton:20271208T140000
DTSTAMP:20260421T073223
CREATED:20250919T162215Z
LAST-MODIFIED:20260312T233231Z
UID:10003556-1828270800-1828274400@www.jdicseniors.ca
SUMMARY:Conversational Russian Club
DESCRIPTION:Practice your conversational Russian with Russian-speakers. Have fun and enjoy new experiences!
URL:https://www.jdicseniors.ca/event/conversational-russian-club-2/2027-12-08/
LOCATION:The Centre\, 10052-117 St. NW\, Edmonton\, Alberta\, T5K 1X2\, Canada
CATEGORIES:Fun & Games
ORGANIZER;CN="JDIC":MAILTO:programmer@jdicseniors.ca
END:VEVENT
BEGIN:VEVENT
DTSTART;TZID=America/Edmonton:20271208T130000
DTEND;TZID=America/Edmonton:20271208T150000
DTSTAMP:20260421T073223
CREATED:20250919T162256Z
LAST-MODIFIED:20260312T233332Z
UID:10003818-1828270800-1828278000@www.jdicseniors.ca
SUMMARY:Chess Club
DESCRIPTION:Join our experienced players to enhance your skills in this strategic game. We have enough chess sets. Come and find new partners for this game.
URL:https://www.jdicseniors.ca/event/chess-club-2/2027-12-08/
LOCATION:The Centre\, 10052-117 St. NW\, Edmonton\, Alberta\, T5K 1X2\, Canada
CATEGORIES:Fun & Games
ATTACH;FMTTYPE=image/jpeg:https://www.jdicseniors.ca/wp-content/uploads/2025/02/jeshoots-com-fzOITuS1DIQ-unsplash.jpg
ORGANIZER;CN="JDIC":MAILTO:programmer@jdicseniors.ca
END:VEVENT
END:VCALENDAR