BEGIN:VCALENDAR
VERSION:2.0
PRODID:-//Jewish Senior Citizen’s Centre - ECPv6.15.17.1//NONSGML v1.0//EN
CALSCALE:GREGORIAN
METHOD:PUBLISH
X-WR-CALNAME:Jewish Senior Citizen’s Centre
X-ORIGINAL-URL:https://www.jdicseniors.ca
X-WR-CALDESC:Events for Jewish Senior Citizen’s Centre
REFRESH-INTERVAL;VALUE=DURATION:PT1H
X-Robots-Tag:noindex
X-PUBLISHED-TTL:PT1H
BEGIN:VTIMEZONE
TZID:America/Edmonton
BEGIN:DAYLIGHT
TZOFFSETFROM:-0700
TZOFFSETTO:-0600
TZNAME:MDT
DTSTART:20260308T090000
END:DAYLIGHT
BEGIN:STANDARD
TZOFFSETFROM:-0600
TZOFFSETTO:-0700
TZNAME:MST
DTSTART:20261101T080000
END:STANDARD
BEGIN:DAYLIGHT
TZOFFSETFROM:-0700
TZOFFSETTO:-0600
TZNAME:MDT
DTSTART:20270314T090000
END:DAYLIGHT
BEGIN:STANDARD
TZOFFSETFROM:-0600
TZOFFSETTO:-0700
TZNAME:MST
DTSTART:20271107T080000
END:STANDARD
BEGIN:DAYLIGHT
TZOFFSETFROM:-0700
TZOFFSETTO:-0600
TZNAME:MDT
DTSTART:20280312T090000
END:DAYLIGHT
BEGIN:STANDARD
TZOFFSETFROM:-0600
TZOFFSETTO:-0700
TZNAME:MST
DTSTART:20281105T080000
END:STANDARD
END:VTIMEZONE
BEGIN:VEVENT
DTSTART;TZID=America/Edmonton:20270322T100000
DTEND;TZID=America/Edmonton:20270322T120000
DTSTAMP:20260420T052800
CREATED:20250919T163856Z
LAST-MODIFIED:20260312T233823Z
UID:10001330-1805709600-1805716800@www.jdicseniors.ca
SUMMARY:Young At Heart Choir Rehersals
DESCRIPTION:Will start rehearsals on Mondays at 10am. \nJoin our wonderful choir! \nChoir fee is $50 for the Fall-Winter period (you will receive a $25 tax receipt). All choir participants must be paid members of the Centre. \nAll choir participants must be paid members of the Centre.
URL:https://www.jdicseniors.ca/event/young-at-heart-choir-rehersals-2-2/2027-03-22/
LOCATION:The Centre\, 10052-117 St. NW\, Edmonton\, Alberta\, T5K 1X2\, Canada
CATEGORIES:Fun & Games
ATTACH;FMTTYPE=image/jpeg:https://www.jdicseniors.ca/wp-content/uploads/2023/12/PHOTO-2023-11-02-14-44-45.jpg
ORGANIZER;CN="JDIC":MAILTO:programmer@jdicseniors.ca
END:VEVENT
BEGIN:VEVENT
DTSTART;TZID=America/Edmonton:20270324T100000
DTEND;TZID=America/Edmonton:20270324T120000
DTSTAMP:20260420T052800
CREATED:20250919T163331Z
LAST-MODIFIED:20260312T233117Z
UID:10002933-1805882400-1805889600@www.jdicseniors.ca
SUMMARY:De’s Crochet Club
DESCRIPTION:Join De and Ninfa every Wednesday to crochet all types of beautiful items. We donate baby blankets & caps which are much needed to welcome new arrivals in Edmonton! Coffee/tea & cookies included.  Please donate your yarns to the Centre.
URL:https://www.jdicseniors.ca/event/des-crochet-club-2/2027-03-24/
LOCATION:The Centre\, 10052-117 St. NW\, Edmonton\, Alberta\, T5K 1X2\, Canada
CATEGORIES:Fun & Games
ATTACH;FMTTYPE=image/jpeg:https://www.jdicseniors.ca/wp-content/uploads/2025/02/nykeya-paige-uka6tfxFL0s-unsplash.jpg
ORGANIZER;CN="JDIC":MAILTO:programmer@jdicseniors.ca
END:VEVENT
BEGIN:VEVENT
DTSTART;TZID=America/Edmonton:20270324T130000
DTEND;TZID=America/Edmonton:20270324T140000
DTSTAMP:20260420T052800
CREATED:20250919T162215Z
LAST-MODIFIED:20260312T233231Z
UID:10003519-1805893200-1805896800@www.jdicseniors.ca
SUMMARY:Conversational Russian Club
DESCRIPTION:Practice your conversational Russian with Russian-speakers. Have fun and enjoy new experiences!
URL:https://www.jdicseniors.ca/event/conversational-russian-club-2/2027-03-24/
LOCATION:The Centre\, 10052-117 St. NW\, Edmonton\, Alberta\, T5K 1X2\, Canada
CATEGORIES:Fun & Games
ORGANIZER;CN="JDIC":MAILTO:programmer@jdicseniors.ca
END:VEVENT
BEGIN:VEVENT
DTSTART;TZID=America/Edmonton:20270324T130000
DTEND;TZID=America/Edmonton:20270324T150000
DTSTAMP:20260420T052800
CREATED:20250919T162256Z
LAST-MODIFIED:20260312T233332Z
UID:10003781-1805893200-1805900400@www.jdicseniors.ca
SUMMARY:Chess Club
DESCRIPTION:Join our experienced players to enhance your skills in this strategic game. We have enough chess sets. Come and find new partners for this game.
URL:https://www.jdicseniors.ca/event/chess-club-2/2027-03-24/
LOCATION:The Centre\, 10052-117 St. NW\, Edmonton\, Alberta\, T5K 1X2\, Canada
CATEGORIES:Fun & Games
ATTACH;FMTTYPE=image/jpeg:https://www.jdicseniors.ca/wp-content/uploads/2025/02/jeshoots-com-fzOITuS1DIQ-unsplash.jpg
ORGANIZER;CN="JDIC":MAILTO:programmer@jdicseniors.ca
END:VEVENT
BEGIN:VEVENT
DTSTART;TZID=America/Edmonton:20270324T130000
DTEND;TZID=America/Edmonton:20270324T150000
DTSTAMP:20260420T052800
CREATED:20250919T163646Z
LAST-MODIFIED:20260312T233418Z
UID:10000533-1805893200-1805900400@www.jdicseniors.ca
SUMMARY:Whimsical Wednesdays
DESCRIPTION:Join a day of Fun\, Friendship & Craft!\nDo you play or want to play Canasta\, Cribbage\, Scrabble\, Mah Jongg or other card/board games?\nThis is a day when you can do whatever your heart desires! \nWhat’s more?\nWe offer a special light lunch that day for $10 only.\nPlease inform the Office about your game of choice!
URL:https://www.jdicseniors.ca/event/whimsical-wednesdays-2/2027-03-24/
LOCATION:The Centre\, 10052-117 St. NW\, Edmonton\, Alberta\, T5K 1X2\, Canada
CATEGORIES:Fun & Games
ATTACH;FMTTYPE=image/jpeg:https://www.jdicseniors.ca/wp-content/uploads/2023/12/pexels-kampus-production-6838584.jpg
ORGANIZER;CN="JDIC":MAILTO:programmer@jdicseniors.ca
END:VEVENT
BEGIN:VEVENT
DTSTART;TZID=America/Edmonton:20270324T133000
DTEND;TZID=America/Edmonton:20270324T153000
DTSTAMP:20260420T052800
CREATED:20250919T162054Z
LAST-MODIFIED:20260312T233350Z
UID:10004043-1805895000-1805902200@www.jdicseniors.ca
SUMMARY:Mamaloshen – Yiddish Club
DESCRIPTION:All interested in conversational Yiddish\, regardless of level\, are welcome. Great atmosphere and a lot of fun!  \nPlease register with the Office to receive the Zoom link for meetings.
URL:https://www.jdicseniors.ca/event/mamaloshen-yiddish-club-2/2027-03-24/
LOCATION:The Centre\, 10052-117 St. NW\, Edmonton\, Alberta\, T5K 1X2\, Canada
CATEGORIES:Fun & Games
ORGANIZER;CN="JDIC":MAILTO:programmer@jdicseniors.ca
END:VEVENT
BEGIN:VEVENT
DTSTART;TZID=America/Edmonton:20270329T100000
DTEND;TZID=America/Edmonton:20270329T120000
DTSTAMP:20260420T052800
CREATED:20250919T163856Z
LAST-MODIFIED:20260312T233823Z
UID:10001331-1806314400-1806321600@www.jdicseniors.ca
SUMMARY:Young At Heart Choir Rehersals
DESCRIPTION:Will start rehearsals on Mondays at 10am. \nJoin our wonderful choir! \nChoir fee is $50 for the Fall-Winter period (you will receive a $25 tax receipt). All choir participants must be paid members of the Centre. \nAll choir participants must be paid members of the Centre.
URL:https://www.jdicseniors.ca/event/young-at-heart-choir-rehersals-2-2/2027-03-29/
LOCATION:The Centre\, 10052-117 St. NW\, Edmonton\, Alberta\, T5K 1X2\, Canada
CATEGORIES:Fun & Games
ATTACH;FMTTYPE=image/jpeg:https://www.jdicseniors.ca/wp-content/uploads/2023/12/PHOTO-2023-11-02-14-44-45.jpg
ORGANIZER;CN="JDIC":MAILTO:programmer@jdicseniors.ca
END:VEVENT
BEGIN:VEVENT
DTSTART;TZID=America/Edmonton:20270330T120000
DTEND;TZID=America/Edmonton:20270330T130000
DTSTAMP:20260420T052800
CREATED:20250919T162605Z
LAST-MODIFIED:20260312T233030Z
UID:10004222-1806408000-1806411600@www.jdicseniors.ca
SUMMARY:Birthday Tuesdays
DESCRIPTION:Every last Tuesday of the month join us to celebrate your friends’ birthdays with music\, special lunch and fun! Sponsor cake or entertainment\, order a special card from the office or create a unique Power Point presentation to surprise your friends!
URL:https://www.jdicseniors.ca/event/birthday-tuesdays-2/2027-03-30/
LOCATION:The Centre\, 10052-117 St. NW\, Edmonton\, Alberta\, T5K 1X2\, Canada
CATEGORIES:Fun & Games,Special Events & Presentations
ATTACH;FMTTYPE=image/jpeg:https://www.jdicseniors.ca/wp-content/uploads/2025/01/isabella-fischer-sQoIRY84a2E-unsplash-scaled.jpg
ORGANIZER;CN="JDIC":MAILTO:programmer@jdicseniors.ca
END:VEVENT
BEGIN:VEVENT
DTSTART;TZID=America/Edmonton:20270331T100000
DTEND;TZID=America/Edmonton:20270331T120000
DTSTAMP:20260420T052800
CREATED:20250919T163331Z
LAST-MODIFIED:20260312T233117Z
UID:10002934-1806487200-1806494400@www.jdicseniors.ca
SUMMARY:De’s Crochet Club
DESCRIPTION:Join De and Ninfa every Wednesday to crochet all types of beautiful items. We donate baby blankets & caps which are much needed to welcome new arrivals in Edmonton! Coffee/tea & cookies included.  Please donate your yarns to the Centre.
URL:https://www.jdicseniors.ca/event/des-crochet-club-2/2027-03-31/
LOCATION:The Centre\, 10052-117 St. NW\, Edmonton\, Alberta\, T5K 1X2\, Canada
CATEGORIES:Fun & Games
ATTACH;FMTTYPE=image/jpeg:https://www.jdicseniors.ca/wp-content/uploads/2025/02/nykeya-paige-uka6tfxFL0s-unsplash.jpg
ORGANIZER;CN="JDIC":MAILTO:programmer@jdicseniors.ca
END:VEVENT
BEGIN:VEVENT
DTSTART;TZID=America/Edmonton:20270331T130000
DTEND;TZID=America/Edmonton:20270331T140000
DTSTAMP:20260420T052800
CREATED:20250919T162215Z
LAST-MODIFIED:20260312T233231Z
UID:10003520-1806498000-1806501600@www.jdicseniors.ca
SUMMARY:Conversational Russian Club
DESCRIPTION:Practice your conversational Russian with Russian-speakers. Have fun and enjoy new experiences!
URL:https://www.jdicseniors.ca/event/conversational-russian-club-2/2027-03-31/
LOCATION:The Centre\, 10052-117 St. NW\, Edmonton\, Alberta\, T5K 1X2\, Canada
CATEGORIES:Fun & Games
ORGANIZER;CN="JDIC":MAILTO:programmer@jdicseniors.ca
END:VEVENT
BEGIN:VEVENT
DTSTART;TZID=America/Edmonton:20270331T130000
DTEND;TZID=America/Edmonton:20270331T150000
DTSTAMP:20260420T052800
CREATED:20250919T162256Z
LAST-MODIFIED:20260312T233332Z
UID:10003782-1806498000-1806505200@www.jdicseniors.ca
SUMMARY:Chess Club
DESCRIPTION:Join our experienced players to enhance your skills in this strategic game. We have enough chess sets. Come and find new partners for this game.
URL:https://www.jdicseniors.ca/event/chess-club-2/2027-03-31/
LOCATION:The Centre\, 10052-117 St. NW\, Edmonton\, Alberta\, T5K 1X2\, Canada
CATEGORIES:Fun & Games
ATTACH;FMTTYPE=image/jpeg:https://www.jdicseniors.ca/wp-content/uploads/2025/02/jeshoots-com-fzOITuS1DIQ-unsplash.jpg
ORGANIZER;CN="JDIC":MAILTO:programmer@jdicseniors.ca
END:VEVENT
BEGIN:VEVENT
DTSTART;TZID=America/Edmonton:20270331T130000
DTEND;TZID=America/Edmonton:20270331T150000
DTSTAMP:20260420T052800
CREATED:20250919T163646Z
LAST-MODIFIED:20260312T233418Z
UID:10000534-1806498000-1806505200@www.jdicseniors.ca
SUMMARY:Whimsical Wednesdays
DESCRIPTION:Join a day of Fun\, Friendship & Craft!\nDo you play or want to play Canasta\, Cribbage\, Scrabble\, Mah Jongg or other card/board games?\nThis is a day when you can do whatever your heart desires! \nWhat’s more?\nWe offer a special light lunch that day for $10 only.\nPlease inform the Office about your game of choice!
URL:https://www.jdicseniors.ca/event/whimsical-wednesdays-2/2027-03-31/
LOCATION:The Centre\, 10052-117 St. NW\, Edmonton\, Alberta\, T5K 1X2\, Canada
CATEGORIES:Fun & Games
ATTACH;FMTTYPE=image/jpeg:https://www.jdicseniors.ca/wp-content/uploads/2023/12/pexels-kampus-production-6838584.jpg
ORGANIZER;CN="JDIC":MAILTO:programmer@jdicseniors.ca
END:VEVENT
BEGIN:VEVENT
DTSTART;TZID=America/Edmonton:20270331T133000
DTEND;TZID=America/Edmonton:20270331T153000
DTSTAMP:20260420T052800
CREATED:20250919T162054Z
LAST-MODIFIED:20260312T233350Z
UID:10004044-1806499800-1806507000@www.jdicseniors.ca
SUMMARY:Mamaloshen – Yiddish Club
DESCRIPTION:All interested in conversational Yiddish\, regardless of level\, are welcome. Great atmosphere and a lot of fun!  \nPlease register with the Office to receive the Zoom link for meetings.
URL:https://www.jdicseniors.ca/event/mamaloshen-yiddish-club-2/2027-03-31/
LOCATION:The Centre\, 10052-117 St. NW\, Edmonton\, Alberta\, T5K 1X2\, Canada
CATEGORIES:Fun & Games
ORGANIZER;CN="JDIC":MAILTO:programmer@jdicseniors.ca
END:VEVENT
BEGIN:VEVENT
DTSTART;TZID=America/Edmonton:20270405T100000
DTEND;TZID=America/Edmonton:20270405T120000
DTSTAMP:20260420T052800
CREATED:20250919T163856Z
LAST-MODIFIED:20260312T233823Z
UID:10001332-1806919200-1806926400@www.jdicseniors.ca
SUMMARY:Young At Heart Choir Rehersals
DESCRIPTION:Will start rehearsals on Mondays at 10am. \nJoin our wonderful choir! \nChoir fee is $50 for the Fall-Winter period (you will receive a $25 tax receipt). All choir participants must be paid members of the Centre. \nAll choir participants must be paid members of the Centre.
URL:https://www.jdicseniors.ca/event/young-at-heart-choir-rehersals-2-2/2027-04-05/
LOCATION:The Centre\, 10052-117 St. NW\, Edmonton\, Alberta\, T5K 1X2\, Canada
CATEGORIES:Fun & Games
ATTACH;FMTTYPE=image/jpeg:https://www.jdicseniors.ca/wp-content/uploads/2023/12/PHOTO-2023-11-02-14-44-45.jpg
ORGANIZER;CN="JDIC":MAILTO:programmer@jdicseniors.ca
END:VEVENT
BEGIN:VEVENT
DTSTART;TZID=America/Edmonton:20270407T100000
DTEND;TZID=America/Edmonton:20270407T120000
DTSTAMP:20260420T052800
CREATED:20250919T163331Z
LAST-MODIFIED:20260312T233117Z
UID:10002935-1807092000-1807099200@www.jdicseniors.ca
SUMMARY:De’s Crochet Club
DESCRIPTION:Join De and Ninfa every Wednesday to crochet all types of beautiful items. We donate baby blankets & caps which are much needed to welcome new arrivals in Edmonton! Coffee/tea & cookies included.  Please donate your yarns to the Centre.
URL:https://www.jdicseniors.ca/event/des-crochet-club-2/2027-04-07/
LOCATION:The Centre\, 10052-117 St. NW\, Edmonton\, Alberta\, T5K 1X2\, Canada
CATEGORIES:Fun & Games
ATTACH;FMTTYPE=image/jpeg:https://www.jdicseniors.ca/wp-content/uploads/2025/02/nykeya-paige-uka6tfxFL0s-unsplash.jpg
ORGANIZER;CN="JDIC":MAILTO:programmer@jdicseniors.ca
END:VEVENT
BEGIN:VEVENT
DTSTART;TZID=America/Edmonton:20270407T130000
DTEND;TZID=America/Edmonton:20270407T140000
DTSTAMP:20260420T052800
CREATED:20250919T162215Z
LAST-MODIFIED:20260312T233231Z
UID:10003521-1807102800-1807106400@www.jdicseniors.ca
SUMMARY:Conversational Russian Club
DESCRIPTION:Practice your conversational Russian with Russian-speakers. Have fun and enjoy new experiences!
URL:https://www.jdicseniors.ca/event/conversational-russian-club-2/2027-04-07/
LOCATION:The Centre\, 10052-117 St. NW\, Edmonton\, Alberta\, T5K 1X2\, Canada
CATEGORIES:Fun & Games
ORGANIZER;CN="JDIC":MAILTO:programmer@jdicseniors.ca
END:VEVENT
BEGIN:VEVENT
DTSTART;TZID=America/Edmonton:20270407T130000
DTEND;TZID=America/Edmonton:20270407T150000
DTSTAMP:20260420T052800
CREATED:20250919T162256Z
LAST-MODIFIED:20260312T233332Z
UID:10003783-1807102800-1807110000@www.jdicseniors.ca
SUMMARY:Chess Club
DESCRIPTION:Join our experienced players to enhance your skills in this strategic game. We have enough chess sets. Come and find new partners for this game.
URL:https://www.jdicseniors.ca/event/chess-club-2/2027-04-07/
LOCATION:The Centre\, 10052-117 St. NW\, Edmonton\, Alberta\, T5K 1X2\, Canada
CATEGORIES:Fun & Games
ATTACH;FMTTYPE=image/jpeg:https://www.jdicseniors.ca/wp-content/uploads/2025/02/jeshoots-com-fzOITuS1DIQ-unsplash.jpg
ORGANIZER;CN="JDIC":MAILTO:programmer@jdicseniors.ca
END:VEVENT
BEGIN:VEVENT
DTSTART;TZID=America/Edmonton:20270407T130000
DTEND;TZID=America/Edmonton:20270407T150000
DTSTAMP:20260420T052800
CREATED:20250919T163646Z
LAST-MODIFIED:20260312T233418Z
UID:10000535-1807102800-1807110000@www.jdicseniors.ca
SUMMARY:Whimsical Wednesdays
DESCRIPTION:Join a day of Fun\, Friendship & Craft!\nDo you play or want to play Canasta\, Cribbage\, Scrabble\, Mah Jongg or other card/board games?\nThis is a day when you can do whatever your heart desires! \nWhat’s more?\nWe offer a special light lunch that day for $10 only.\nPlease inform the Office about your game of choice!
URL:https://www.jdicseniors.ca/event/whimsical-wednesdays-2/2027-04-07/
LOCATION:The Centre\, 10052-117 St. NW\, Edmonton\, Alberta\, T5K 1X2\, Canada
CATEGORIES:Fun & Games
ATTACH;FMTTYPE=image/jpeg:https://www.jdicseniors.ca/wp-content/uploads/2023/12/pexels-kampus-production-6838584.jpg
ORGANIZER;CN="JDIC":MAILTO:programmer@jdicseniors.ca
END:VEVENT
BEGIN:VEVENT
DTSTART;TZID=America/Edmonton:20270407T133000
DTEND;TZID=America/Edmonton:20270407T153000
DTSTAMP:20260420T052800
CREATED:20250919T162054Z
LAST-MODIFIED:20260312T233350Z
UID:10004045-1807104600-1807111800@www.jdicseniors.ca
SUMMARY:Mamaloshen – Yiddish Club
DESCRIPTION:All interested in conversational Yiddish\, regardless of level\, are welcome. Great atmosphere and a lot of fun!  \nPlease register with the Office to receive the Zoom link for meetings.
URL:https://www.jdicseniors.ca/event/mamaloshen-yiddish-club-2/2027-04-07/
LOCATION:The Centre\, 10052-117 St. NW\, Edmonton\, Alberta\, T5K 1X2\, Canada
CATEGORIES:Fun & Games
ORGANIZER;CN="JDIC":MAILTO:programmer@jdicseniors.ca
END:VEVENT
BEGIN:VEVENT
DTSTART;TZID=America/Edmonton:20270412T100000
DTEND;TZID=America/Edmonton:20270412T120000
DTSTAMP:20260420T052800
CREATED:20250919T163856Z
LAST-MODIFIED:20260312T233823Z
UID:10001333-1807524000-1807531200@www.jdicseniors.ca
SUMMARY:Young At Heart Choir Rehersals
DESCRIPTION:Will start rehearsals on Mondays at 10am. \nJoin our wonderful choir! \nChoir fee is $50 for the Fall-Winter period (you will receive a $25 tax receipt). All choir participants must be paid members of the Centre. \nAll choir participants must be paid members of the Centre.
URL:https://www.jdicseniors.ca/event/young-at-heart-choir-rehersals-2-2/2027-04-12/
LOCATION:The Centre\, 10052-117 St. NW\, Edmonton\, Alberta\, T5K 1X2\, Canada
CATEGORIES:Fun & Games
ATTACH;FMTTYPE=image/jpeg:https://www.jdicseniors.ca/wp-content/uploads/2023/12/PHOTO-2023-11-02-14-44-45.jpg
ORGANIZER;CN="JDIC":MAILTO:programmer@jdicseniors.ca
END:VEVENT
BEGIN:VEVENT
DTSTART;TZID=America/Edmonton:20270414T100000
DTEND;TZID=America/Edmonton:20270414T120000
DTSTAMP:20260420T052800
CREATED:20250919T163331Z
LAST-MODIFIED:20260312T233117Z
UID:10002936-1807696800-1807704000@www.jdicseniors.ca
SUMMARY:De’s Crochet Club
DESCRIPTION:Join De and Ninfa every Wednesday to crochet all types of beautiful items. We donate baby blankets & caps which are much needed to welcome new arrivals in Edmonton! Coffee/tea & cookies included.  Please donate your yarns to the Centre.
URL:https://www.jdicseniors.ca/event/des-crochet-club-2/2027-04-14/
LOCATION:The Centre\, 10052-117 St. NW\, Edmonton\, Alberta\, T5K 1X2\, Canada
CATEGORIES:Fun & Games
ATTACH;FMTTYPE=image/jpeg:https://www.jdicseniors.ca/wp-content/uploads/2025/02/nykeya-paige-uka6tfxFL0s-unsplash.jpg
ORGANIZER;CN="JDIC":MAILTO:programmer@jdicseniors.ca
END:VEVENT
BEGIN:VEVENT
DTSTART;TZID=America/Edmonton:20270414T130000
DTEND;TZID=America/Edmonton:20270414T140000
DTSTAMP:20260420T052800
CREATED:20250919T162215Z
LAST-MODIFIED:20260312T233231Z
UID:10003522-1807707600-1807711200@www.jdicseniors.ca
SUMMARY:Conversational Russian Club
DESCRIPTION:Practice your conversational Russian with Russian-speakers. Have fun and enjoy new experiences!
URL:https://www.jdicseniors.ca/event/conversational-russian-club-2/2027-04-14/
LOCATION:The Centre\, 10052-117 St. NW\, Edmonton\, Alberta\, T5K 1X2\, Canada
CATEGORIES:Fun & Games
ORGANIZER;CN="JDIC":MAILTO:programmer@jdicseniors.ca
END:VEVENT
BEGIN:VEVENT
DTSTART;TZID=America/Edmonton:20270414T130000
DTEND;TZID=America/Edmonton:20270414T150000
DTSTAMP:20260420T052800
CREATED:20250919T162256Z
LAST-MODIFIED:20260312T233332Z
UID:10003784-1807707600-1807714800@www.jdicseniors.ca
SUMMARY:Chess Club
DESCRIPTION:Join our experienced players to enhance your skills in this strategic game. We have enough chess sets. Come and find new partners for this game.
URL:https://www.jdicseniors.ca/event/chess-club-2/2027-04-14/
LOCATION:The Centre\, 10052-117 St. NW\, Edmonton\, Alberta\, T5K 1X2\, Canada
CATEGORIES:Fun & Games
ATTACH;FMTTYPE=image/jpeg:https://www.jdicseniors.ca/wp-content/uploads/2025/02/jeshoots-com-fzOITuS1DIQ-unsplash.jpg
ORGANIZER;CN="JDIC":MAILTO:programmer@jdicseniors.ca
END:VEVENT
BEGIN:VEVENT
DTSTART;TZID=America/Edmonton:20270414T130000
DTEND;TZID=America/Edmonton:20270414T150000
DTSTAMP:20260420T052800
CREATED:20250919T163646Z
LAST-MODIFIED:20260312T233418Z
UID:10000536-1807707600-1807714800@www.jdicseniors.ca
SUMMARY:Whimsical Wednesdays
DESCRIPTION:Join a day of Fun\, Friendship & Craft!\nDo you play or want to play Canasta\, Cribbage\, Scrabble\, Mah Jongg or other card/board games?\nThis is a day when you can do whatever your heart desires! \nWhat’s more?\nWe offer a special light lunch that day for $10 only.\nPlease inform the Office about your game of choice!
URL:https://www.jdicseniors.ca/event/whimsical-wednesdays-2/2027-04-14/
LOCATION:The Centre\, 10052-117 St. NW\, Edmonton\, Alberta\, T5K 1X2\, Canada
CATEGORIES:Fun & Games
ATTACH;FMTTYPE=image/jpeg:https://www.jdicseniors.ca/wp-content/uploads/2023/12/pexels-kampus-production-6838584.jpg
ORGANIZER;CN="JDIC":MAILTO:programmer@jdicseniors.ca
END:VEVENT
BEGIN:VEVENT
DTSTART;TZID=America/Edmonton:20270414T133000
DTEND;TZID=America/Edmonton:20270414T153000
DTSTAMP:20260420T052800
CREATED:20250919T162054Z
LAST-MODIFIED:20260312T233350Z
UID:10004046-1807709400-1807716600@www.jdicseniors.ca
SUMMARY:Mamaloshen – Yiddish Club
DESCRIPTION:All interested in conversational Yiddish\, regardless of level\, are welcome. Great atmosphere and a lot of fun!  \nPlease register with the Office to receive the Zoom link for meetings.
URL:https://www.jdicseniors.ca/event/mamaloshen-yiddish-club-2/2027-04-14/
LOCATION:The Centre\, 10052-117 St. NW\, Edmonton\, Alberta\, T5K 1X2\, Canada
CATEGORIES:Fun & Games
ORGANIZER;CN="JDIC":MAILTO:programmer@jdicseniors.ca
END:VEVENT
BEGIN:VEVENT
DTSTART;TZID=America/Edmonton:20270419T100000
DTEND;TZID=America/Edmonton:20270419T120000
DTSTAMP:20260420T052800
CREATED:20250919T163856Z
LAST-MODIFIED:20260312T233823Z
UID:10001334-1808128800-1808136000@www.jdicseniors.ca
SUMMARY:Young At Heart Choir Rehersals
DESCRIPTION:Will start rehearsals on Mondays at 10am. \nJoin our wonderful choir! \nChoir fee is $50 for the Fall-Winter period (you will receive a $25 tax receipt). All choir participants must be paid members of the Centre. \nAll choir participants must be paid members of the Centre.
URL:https://www.jdicseniors.ca/event/young-at-heart-choir-rehersals-2-2/2027-04-19/
LOCATION:The Centre\, 10052-117 St. NW\, Edmonton\, Alberta\, T5K 1X2\, Canada
CATEGORIES:Fun & Games
ATTACH;FMTTYPE=image/jpeg:https://www.jdicseniors.ca/wp-content/uploads/2023/12/PHOTO-2023-11-02-14-44-45.jpg
ORGANIZER;CN="JDIC":MAILTO:programmer@jdicseniors.ca
END:VEVENT
BEGIN:VEVENT
DTSTART;TZID=America/Edmonton:20270421T100000
DTEND;TZID=America/Edmonton:20270421T120000
DTSTAMP:20260420T052800
CREATED:20250919T163331Z
LAST-MODIFIED:20260312T233117Z
UID:10002937-1808301600-1808308800@www.jdicseniors.ca
SUMMARY:De’s Crochet Club
DESCRIPTION:Join De and Ninfa every Wednesday to crochet all types of beautiful items. We donate baby blankets & caps which are much needed to welcome new arrivals in Edmonton! Coffee/tea & cookies included.  Please donate your yarns to the Centre.
URL:https://www.jdicseniors.ca/event/des-crochet-club-2/2027-04-21/
LOCATION:The Centre\, 10052-117 St. NW\, Edmonton\, Alberta\, T5K 1X2\, Canada
CATEGORIES:Fun & Games
ATTACH;FMTTYPE=image/jpeg:https://www.jdicseniors.ca/wp-content/uploads/2025/02/nykeya-paige-uka6tfxFL0s-unsplash.jpg
ORGANIZER;CN="JDIC":MAILTO:programmer@jdicseniors.ca
END:VEVENT
BEGIN:VEVENT
DTSTART;TZID=America/Edmonton:20270421T130000
DTEND;TZID=America/Edmonton:20270421T140000
DTSTAMP:20260420T052800
CREATED:20250919T162215Z
LAST-MODIFIED:20260312T233231Z
UID:10003523-1808312400-1808316000@www.jdicseniors.ca
SUMMARY:Conversational Russian Club
DESCRIPTION:Practice your conversational Russian with Russian-speakers. Have fun and enjoy new experiences!
URL:https://www.jdicseniors.ca/event/conversational-russian-club-2/2027-04-21/
LOCATION:The Centre\, 10052-117 St. NW\, Edmonton\, Alberta\, T5K 1X2\, Canada
CATEGORIES:Fun & Games
ORGANIZER;CN="JDIC":MAILTO:programmer@jdicseniors.ca
END:VEVENT
BEGIN:VEVENT
DTSTART;TZID=America/Edmonton:20270421T130000
DTEND;TZID=America/Edmonton:20270421T150000
DTSTAMP:20260420T052800
CREATED:20250919T162256Z
LAST-MODIFIED:20260312T233332Z
UID:10003785-1808312400-1808319600@www.jdicseniors.ca
SUMMARY:Chess Club
DESCRIPTION:Join our experienced players to enhance your skills in this strategic game. We have enough chess sets. Come and find new partners for this game.
URL:https://www.jdicseniors.ca/event/chess-club-2/2027-04-21/
LOCATION:The Centre\, 10052-117 St. NW\, Edmonton\, Alberta\, T5K 1X2\, Canada
CATEGORIES:Fun & Games
ATTACH;FMTTYPE=image/jpeg:https://www.jdicseniors.ca/wp-content/uploads/2025/02/jeshoots-com-fzOITuS1DIQ-unsplash.jpg
ORGANIZER;CN="JDIC":MAILTO:programmer@jdicseniors.ca
END:VEVENT
BEGIN:VEVENT
DTSTART;TZID=America/Edmonton:20270421T130000
DTEND;TZID=America/Edmonton:20270421T150000
DTSTAMP:20260420T052800
CREATED:20250919T163646Z
LAST-MODIFIED:20260312T233418Z
UID:10000537-1808312400-1808319600@www.jdicseniors.ca
SUMMARY:Whimsical Wednesdays
DESCRIPTION:Join a day of Fun\, Friendship & Craft!\nDo you play or want to play Canasta\, Cribbage\, Scrabble\, Mah Jongg or other card/board games?\nThis is a day when you can do whatever your heart desires! \nWhat’s more?\nWe offer a special light lunch that day for $10 only.\nPlease inform the Office about your game of choice!
URL:https://www.jdicseniors.ca/event/whimsical-wednesdays-2/2027-04-21/
LOCATION:The Centre\, 10052-117 St. NW\, Edmonton\, Alberta\, T5K 1X2\, Canada
CATEGORIES:Fun & Games
ATTACH;FMTTYPE=image/jpeg:https://www.jdicseniors.ca/wp-content/uploads/2023/12/pexels-kampus-production-6838584.jpg
ORGANIZER;CN="JDIC":MAILTO:programmer@jdicseniors.ca
END:VEVENT
END:VCALENDAR