BEGIN:VCALENDAR
VERSION:2.0
PRODID:-//Jewish Senior Citizen’s Centre - ECPv6.15.17.1//NONSGML v1.0//EN
CALSCALE:GREGORIAN
METHOD:PUBLISH
X-ORIGINAL-URL:https://www.jdicseniors.ca
X-WR-CALDESC:Events for Jewish Senior Citizen’s Centre
REFRESH-INTERVAL;VALUE=DURATION:PT1H
X-Robots-Tag:noindex
X-PUBLISHED-TTL:PT1H
BEGIN:VTIMEZONE
TZID:America/Edmonton
BEGIN:DAYLIGHT
TZOFFSETFROM:-0700
TZOFFSETTO:-0600
TZNAME:MDT
DTSTART:20250309T090000
END:DAYLIGHT
BEGIN:STANDARD
TZOFFSETFROM:-0600
TZOFFSETTO:-0700
TZNAME:MST
DTSTART:20251102T080000
END:STANDARD
BEGIN:DAYLIGHT
TZOFFSETFROM:-0700
TZOFFSETTO:-0600
TZNAME:MDT
DTSTART:20260308T090000
END:DAYLIGHT
BEGIN:STANDARD
TZOFFSETFROM:-0600
TZOFFSETTO:-0700
TZNAME:MST
DTSTART:20261101T080000
END:STANDARD
BEGIN:DAYLIGHT
TZOFFSETFROM:-0700
TZOFFSETTO:-0600
TZNAME:MDT
DTSTART:20270314T090000
END:DAYLIGHT
BEGIN:STANDARD
TZOFFSETFROM:-0600
TZOFFSETTO:-0700
TZNAME:MST
DTSTART:20271107T080000
END:STANDARD
END:VTIMEZONE
BEGIN:VEVENT
DTSTART;TZID=America/Edmonton:20260510T110000
DTEND;TZID=America/Edmonton:20260510T120000
DTSTAMP:20260419T111849
CREATED:20260314T205724Z
LAST-MODIFIED:20260314T205724Z
UID:10005960-1778410800-1778414400@www.jdicseniors.ca
SUMMARY:Mother’s Day Brunch with Young At Heart Choir
DESCRIPTION:MORE INFO COMING SOON!
URL:https://www.jdicseniors.ca/event/mothers-day-brunch-with-young-at-heart-choir/
LOCATION:The Centre\, 10052-117 St. NW\, Edmonton\, Alberta\, T5K 1X2\, Canada
CATEGORIES:Performance
ORGANIZER;CN="JDIC":MAILTO:programmer@jdicseniors.ca
END:VEVENT
END:VCALENDAR