BEGIN:VCALENDAR
VERSION:2.0
PRODID:-//Jewish Senior Citizen’s Centre - ECPv6.15.17.1//NONSGML v1.0//EN
CALSCALE:GREGORIAN
METHOD:PUBLISH
X-WR-CALNAME:Jewish Senior Citizen’s Centre
X-ORIGINAL-URL:https://www.jdicseniors.ca
X-WR-CALDESC:Events for Jewish Senior Citizen’s Centre
REFRESH-INTERVAL;VALUE=DURATION:PT1H
X-Robots-Tag:noindex
X-PUBLISHED-TTL:PT1H
BEGIN:VTIMEZONE
TZID:America/Edmonton
BEGIN:DAYLIGHT
TZOFFSETFROM:-0700
TZOFFSETTO:-0600
TZNAME:MDT
DTSTART:20230312T090000
END:DAYLIGHT
BEGIN:STANDARD
TZOFFSETFROM:-0600
TZOFFSETTO:-0700
TZNAME:MST
DTSTART:20231105T080000
END:STANDARD
BEGIN:DAYLIGHT
TZOFFSETFROM:-0700
TZOFFSETTO:-0600
TZNAME:MDT
DTSTART:20240310T090000
END:DAYLIGHT
BEGIN:STANDARD
TZOFFSETFROM:-0600
TZOFFSETTO:-0700
TZNAME:MST
DTSTART:20241103T080000
END:STANDARD
BEGIN:DAYLIGHT
TZOFFSETFROM:-0700
TZOFFSETTO:-0600
TZNAME:MDT
DTSTART:20250309T090000
END:DAYLIGHT
BEGIN:STANDARD
TZOFFSETFROM:-0600
TZOFFSETTO:-0700
TZNAME:MST
DTSTART:20251102T080000
END:STANDARD
END:VTIMEZONE
BEGIN:VEVENT
DTSTART;VALUE=DATE:20240719
DTEND;VALUE=DATE:20240720
DTSTAMP:20260419T060051
CREATED:20240628T163218Z
LAST-MODIFIED:20240628T163218Z
UID:10002225-1721347200-1721433599@www.jdicseniors.ca
SUMMARY:Lunch Menu | July 19
DESCRIPTION:6p.m. Pre-Shabbat Dinner
URL:https://www.jdicseniors.ca/event/lunch-menu-july-19/
LOCATION:The Centre\, 10052-117 St. NW\, Edmonton\, Alberta\, T5K 1X2\, Canada
CATEGORIES:Menu
ORGANIZER;CN="JDIC":MAILTO:programmer@jdicseniors.ca
END:VEVENT
BEGIN:VEVENT
DTSTART;TZID=America/Edmonton:20240719T180000
DTEND;TZID=America/Edmonton:20240719T210000
DTSTAMP:20260419T060051
CREATED:20240509T204015Z
LAST-MODIFIED:20240509T204015Z
UID:10002094-1721412000-1721422800@www.jdicseniors.ca
SUMMARY:Pre-Shabbat Dinner
DESCRIPTION:Where beautiful traditions & new friends meet! Bert Malo will do pre-Shabbat formalities for us.Menu\nNo-Chicken-Chicken Soup with Matza Ball\nBaked Fish with Roasted Potatoes\nBrussel Sprouts\nGarden Salad\nApple Strudel\nChallah & Challah Buns\nPlease reserve your seat before July 11\nFee per guest:\nAdults $45						Youth $30\nChildren under 6 $5\nRed or white wine will be available for $6 per glass or $30 per bottle.
URL:https://www.jdicseniors.ca/event/pre-shabbat-dinner/
LOCATION:The Centre\, 10052-117 St. NW\, Edmonton\, Alberta\, T5K 1X2\, Canada
CATEGORIES:Menu,Special Events & Presentations
ORGANIZER;CN="JDIC":MAILTO:programmer@jdicseniors.ca
END:VEVENT
END:VCALENDAR