BEGIN:VCALENDAR
VERSION:2.0
PRODID:-//Jewish Senior Citizen’s Centre - ECPv6.15.17.1//NONSGML v1.0//EN
CALSCALE:GREGORIAN
METHOD:PUBLISH
X-WR-CALNAME:Jewish Senior Citizen’s Centre
X-ORIGINAL-URL:https://www.jdicseniors.ca
X-WR-CALDESC:Events for Jewish Senior Citizen’s Centre
REFRESH-INTERVAL;VALUE=DURATION:PT1H
X-Robots-Tag:noindex
X-PUBLISHED-TTL:PT1H
BEGIN:VTIMEZONE
TZID:America/Edmonton
BEGIN:DAYLIGHT
TZOFFSETFROM:-0700
TZOFFSETTO:-0600
TZNAME:MDT
DTSTART:20230312T090000
END:DAYLIGHT
BEGIN:STANDARD
TZOFFSETFROM:-0600
TZOFFSETTO:-0700
TZNAME:MST
DTSTART:20231105T080000
END:STANDARD
BEGIN:DAYLIGHT
TZOFFSETFROM:-0700
TZOFFSETTO:-0600
TZNAME:MDT
DTSTART:20240310T090000
END:DAYLIGHT
BEGIN:STANDARD
TZOFFSETFROM:-0600
TZOFFSETTO:-0700
TZNAME:MST
DTSTART:20241103T080000
END:STANDARD
BEGIN:DAYLIGHT
TZOFFSETFROM:-0700
TZOFFSETTO:-0600
TZNAME:MDT
DTSTART:20250309T090000
END:DAYLIGHT
BEGIN:STANDARD
TZOFFSETFROM:-0600
TZOFFSETTO:-0700
TZNAME:MST
DTSTART:20251102T080000
END:STANDARD
END:VTIMEZONE
BEGIN:VEVENT
DTSTART;VALUE=DATE:20240620
DTEND;VALUE=DATE:20240621
DTSTAMP:20260419T090616
CREATED:20240509T195621Z
LAST-MODIFIED:20240509T195621Z
UID:10002051-1718841600-1718927999@www.jdicseniors.ca
SUMMARY:Lunch Menu | June 20
DESCRIPTION:BorschtPotato Kugel\nSalad/Dessert
URL:https://www.jdicseniors.ca/event/lunch-menu-june-20/
LOCATION:Alberta
CATEGORIES:Menu
END:VEVENT
BEGIN:VEVENT
DTSTART;TZID=America/Edmonton:20240620T110000
DTEND;TZID=America/Edmonton:20240620T120000
DTSTAMP:20260419T090616
CREATED:20231204T224311Z
LAST-MODIFIED:20240904T200650Z
UID:10000124-1718881200-1718884800@www.jdicseniors.ca
SUMMARY:Muscle in Motion with Anna Kratochvil
DESCRIPTION:Use Balls\, Bands & Weights to Exercise & Laugh\nThursdays @ 11:00a.m. \nhttps://us02web.Zoom.us/j/82287922466 \nFee: $7 drop-in or card of 10 classes $60
URL:https://www.jdicseniors.ca/event/muscle-in-motion-with-anna-kratochvil-2-2-2-2-2-2-2-2-2-2/2024-06-20/
LOCATION:Zoom
CATEGORIES:Health & Wellness
ATTACH;FMTTYPE=image/jpeg:https://www.jdicseniors.ca/wp-content/uploads/2023/12/PHOTO-2024-03-01-21-56-45.jpg
ORGANIZER;CN="JDIC":MAILTO:programmer@jdicseniors.ca
END:VEVENT
BEGIN:VEVENT
DTSTART;TZID=America/Edmonton:20240620T130000
DTEND;TZID=America/Edmonton:20240620T150000
DTSTAMP:20260419T090616
CREATED:20240509T203959Z
LAST-MODIFIED:20240509T203959Z
UID:10002087-1718888400-1718895600@www.jdicseniors.ca
SUMMARY:AI Ethics: It matters to everyone.
DESCRIPTION:Join Katrina Ingram\, the Founder & CEO of Ethically Aligned AI\, to learn about Artificial Intelligence (AI). AI  is everywhere. We are all being scored\, surveilled and assessed by these data driven systems. In this talk\, you’ll get some clarity on the many issues that we need to grapple with when it comes to navigating our AI present and future.
URL:https://www.jdicseniors.ca/event/ai-ethics-it-matters-to-everyone/
LOCATION:The Centre\, 10052-117 St. NW\, Edmonton\, Alberta\, T5K 1X2\, Canada
CATEGORIES:Special Events & Presentations
ORGANIZER;CN="JDIC":MAILTO:programmer@jdicseniors.ca
END:VEVENT
END:VCALENDAR