BEGIN:VCALENDAR
VERSION:2.0
PRODID:-//Jewish Senior Citizen’s Centre - ECPv6.15.17.1//NONSGML v1.0//EN
CALSCALE:GREGORIAN
METHOD:PUBLISH
X-WR-CALNAME:Jewish Senior Citizen’s Centre
X-ORIGINAL-URL:https://www.jdicseniors.ca
X-WR-CALDESC:Events for Jewish Senior Citizen’s Centre
REFRESH-INTERVAL;VALUE=DURATION:PT1H
X-Robots-Tag:noindex
X-PUBLISHED-TTL:PT1H
BEGIN:VTIMEZONE
TZID:America/Edmonton
BEGIN:DAYLIGHT
TZOFFSETFROM:-0700
TZOFFSETTO:-0600
TZNAME:MDT
DTSTART:20230312T090000
END:DAYLIGHT
BEGIN:STANDARD
TZOFFSETFROM:-0600
TZOFFSETTO:-0700
TZNAME:MST
DTSTART:20231105T080000
END:STANDARD
BEGIN:DAYLIGHT
TZOFFSETFROM:-0700
TZOFFSETTO:-0600
TZNAME:MDT
DTSTART:20240310T090000
END:DAYLIGHT
BEGIN:STANDARD
TZOFFSETFROM:-0600
TZOFFSETTO:-0700
TZNAME:MST
DTSTART:20241103T080000
END:STANDARD
BEGIN:DAYLIGHT
TZOFFSETFROM:-0700
TZOFFSETTO:-0600
TZNAME:MDT
DTSTART:20250309T090000
END:DAYLIGHT
BEGIN:STANDARD
TZOFFSETFROM:-0600
TZOFFSETTO:-0700
TZNAME:MST
DTSTART:20251102T080000
END:STANDARD
END:VTIMEZONE
BEGIN:VEVENT
DTSTART;VALUE=DATE:20240619
DTEND;VALUE=DATE:20240620
DTSTAMP:20260419T071949
CREATED:20240509T195623Z
LAST-MODIFIED:20240509T195623Z
UID:10002052-1718755200-1718841599@www.jdicseniors.ca
SUMMARY:Lunch Menu | June 19
DESCRIPTION:Surprise Lunch
URL:https://www.jdicseniors.ca/event/lunch-menu-june-19/
LOCATION:Alberta
CATEGORIES:Menu
END:VEVENT
BEGIN:VEVENT
DTSTART;TZID=America/Edmonton:20240619T120000
DTEND;TZID=America/Edmonton:20240619T140000
DTSTAMP:20260419T071949
CREATED:20240605T191723Z
LAST-MODIFIED:20240605T203130Z
UID:10002211-1718798400-1718805600@www.jdicseniors.ca
SUMMARY:Bees and Neighbours: A Talk on City Pollinators and Urban Prairies
DESCRIPTION:Jewish Senior Citizen’s Centre Presents\nBees and Neighbours\nA Talk on City Pollinators and Urban Prairies\nJoin us for the delicious lunch and stay for the presentation by ecology writer Stephen Humphrey\, author of Paths of Pollen. \nHe will present a talk\, with pictures\, about the diverse community of pollinators buzzing around cities and the plants they visit. He will discuss efforts by cities\, conservationists and scientists to create “pollination corridors\,” flower-filled expressways for urban pollinators. He will also talk about prairies\, and attempts to restore and preserve these threatened habitats in Canadian cities. \nStephen Humphrey is a writer\, radio contributor\, and citizen naturalist. He has worked on audio documentaries for CBC Radio’s IDEAS\, such as “Planet You\,” about the human microbiome\, “Generation Mars\,” and “Dancing In The Dark: The Intelligence of Bees\,” which was short-listed for the prestigious New York Festival Award. His five-line bee poems\, accompanied by videos and photos\, are part of the living art project\, Resonating Bodies. \nPlease register by Monday\, June 17 via phone 780-488-4241 or email programmer@jdicseniors.ca
URL:https://www.jdicseniors.ca/event/bees-and-neighbours-a-talk-on-city-pollinators-and-urban-prairies/
LOCATION:The Centre\, 10052-117 St. NW\, Edmonton\, Alberta\, T5K 1X2\, Canada
CATEGORIES:Lunch & Learn,Special Events & Presentations
ATTACH;FMTTYPE=image/jpeg:https://www.jdicseniors.ca/wp-content/uploads/2024/06/bees-and-neighbours.jpg
ORGANIZER;CN="JDIC":MAILTO:programmer@jdicseniors.ca
END:VEVENT
BEGIN:VEVENT
DTSTART;TZID=America/Edmonton:20240619T130000
DTEND;TZID=America/Edmonton:20240619T140000
DTSTAMP:20260419T071949
CREATED:20240327T211919Z
LAST-MODIFIED:20240327T211919Z
UID:10001981-1718802000-1718805600@www.jdicseniors.ca
SUMMARY:Ikebana Classes
DESCRIPTION:The classes will resume  on Wednesday\, March 6 at 1p.m.  \nPlease contact our Ikebana Master Brenda for details \nikebanaclub@gmail.com\, 780-803-4481
URL:https://www.jdicseniors.ca/event/ikebana-classes/2024-06-19/
LOCATION:Alberta
CATEGORIES:Fun & Games
ATTACH;FMTTYPE=image/jpeg:https://www.jdicseniors.ca/wp-content/uploads/2024/03/image8-2.jpg
END:VEVENT
BEGIN:VEVENT
DTSTART;TZID=America/Edmonton:20240619T130000
DTEND;TZID=America/Edmonton:20240619T150000
DTSTAMP:20260419T071949
CREATED:20231204T221158Z
LAST-MODIFIED:20240904T201805Z
UID:10000389-1718802000-1718809200@www.jdicseniors.ca
SUMMARY:Whimsical Wednesdays
DESCRIPTION:Join a day of Fun\, Friendship & Craft!\nDo you play or want to play Canasta\, Cribbage\, Scrabble\, Mah Jongg or other card/board games?\nThis is a day when you can do whatever your heart desires! \nWhat’s more?\nWe offer a special light lunch that day for $10 only.\nPlease inform the Office about your game of choice!
URL:https://www.jdicseniors.ca/event/whimsical-wednesdays/2024-06-19/
LOCATION:The Centre\, 10052-117 St. NW\, Edmonton\, Alberta\, T5K 1X2\, Canada
CATEGORIES:Fun & Games
ATTACH;FMTTYPE=image/jpeg:https://www.jdicseniors.ca/wp-content/uploads/2023/12/pexels-kampus-production-6838584.jpg
ORGANIZER;CN="JDIC":MAILTO:programmer@jdicseniors.ca
END:VEVENT
END:VCALENDAR