BEGIN:VCALENDAR
VERSION:2.0
PRODID:-//Jewish Senior Citizen’s Centre - ECPv6.15.17.1//NONSGML v1.0//EN
CALSCALE:GREGORIAN
METHOD:PUBLISH
X-WR-CALNAME:Jewish Senior Citizen’s Centre
X-ORIGINAL-URL:https://www.jdicseniors.ca
X-WR-CALDESC:Events for Jewish Senior Citizen’s Centre
REFRESH-INTERVAL;VALUE=DURATION:PT1H
X-Robots-Tag:noindex
X-PUBLISHED-TTL:PT1H
BEGIN:VTIMEZONE
TZID:America/Edmonton
BEGIN:DAYLIGHT
TZOFFSETFROM:-0700
TZOFFSETTO:-0600
TZNAME:MDT
DTSTART:20230312T090000
END:DAYLIGHT
BEGIN:STANDARD
TZOFFSETFROM:-0600
TZOFFSETTO:-0700
TZNAME:MST
DTSTART:20231105T080000
END:STANDARD
BEGIN:DAYLIGHT
TZOFFSETFROM:-0700
TZOFFSETTO:-0600
TZNAME:MDT
DTSTART:20240310T090000
END:DAYLIGHT
BEGIN:STANDARD
TZOFFSETFROM:-0600
TZOFFSETTO:-0700
TZNAME:MST
DTSTART:20241103T080000
END:STANDARD
BEGIN:DAYLIGHT
TZOFFSETFROM:-0700
TZOFFSETTO:-0600
TZNAME:MDT
DTSTART:20250309T090000
END:DAYLIGHT
BEGIN:STANDARD
TZOFFSETFROM:-0600
TZOFFSETTO:-0700
TZNAME:MST
DTSTART:20251102T080000
END:STANDARD
END:VTIMEZONE
BEGIN:VEVENT
DTSTART;VALUE=DATE:20240514
DTEND;VALUE=DATE:20240515
DTSTAMP:20260419T091456
CREATED:20240509T195709Z
LAST-MODIFIED:20240509T195709Z
UID:10002073-1715644800-1715731199@www.jdicseniors.ca
SUMMARY:Lunch Menu | May 14
DESCRIPTION:Carrot SoupFrittata\nSalad/Dessert
URL:https://www.jdicseniors.ca/event/lunch-menu-may-14/
LOCATION:Alberta
CATEGORIES:Menu
END:VEVENT
BEGIN:VEVENT
DTSTART;TZID=America/Edmonton:20240514T104500
DTEND;TZID=America/Edmonton:20240514T114500
DTSTAMP:20260419T091456
CREATED:20231204T224310Z
LAST-MODIFIED:20240904T201856Z
UID:10000649-1715683500-1715687100@www.jdicseniors.ca
SUMMARY:Use it or Lose it With Bonnie Austen
DESCRIPTION:Use it or Lose it With Bonnie Austen\nCardio & Strength training\, Flexibility & Balance & Laugher \nTuesdays @10:45a.m.\nhttps://us02web.Zoom.us/j/89274775349 \nFee: $7 drop-in or card of 10 classes $60
URL:https://www.jdicseniors.ca/event/use-it-or-lose-it-with-bonnie-austen-2/2024-05-14/
LOCATION:Zoom
CATEGORIES:Health & Wellness
ATTACH;FMTTYPE=image/png:https://www.jdicseniors.ca/wp-content/uploads/2023/12/Screen-Shot-2023-12-04-at-4.45.12-PM.png
ORGANIZER;CN="JDIC":MAILTO:programmer@jdicseniors.ca
END:VEVENT
BEGIN:VEVENT
DTSTART;TZID=America/Edmonton:20240514T130000
DTEND;TZID=America/Edmonton:20240514T150000
DTSTAMP:20260419T091456
CREATED:20240327T212821Z
LAST-MODIFIED:20240510T202042Z
UID:10001987-1715691600-1715698800@www.jdicseniors.ca
SUMMARY:Technology: will it save\, serve or sink us? With professor Emeritus David Wangler
DESCRIPTION:The idea that technology might be less than beneficial or even harmful is surprising for many of us. Those who strongly support technology repeatedly point to and argue for its many benefits. These are indeed present and expanding but what is seldom noted is the fact that technology does many obvious things FOR us but it also does things TO us which are seldom acknowledged or discussed and may result in a world where we are influenced or controlled by the technology we have created. \nWhere do we go from here? And how will we protect this fragile world from our own destructive powers? \nFee: $45 for the four-week course Please register ASAP
URL:https://www.jdicseniors.ca/event/technology-will-it-save-serve-or-sink-us-with-professor-emeritus-david-wangler/2024-05-14/
LOCATION:Alberta
CATEGORIES:Special Events & Presentations
END:VEVENT
END:VCALENDAR