BEGIN:VCALENDAR
VERSION:2.0
PRODID:-//Jewish Senior Citizen’s Centre - ECPv6.15.17.1//NONSGML v1.0//EN
CALSCALE:GREGORIAN
METHOD:PUBLISH
X-ORIGINAL-URL:https://www.jdicseniors.ca
X-WR-CALDESC:Events for Jewish Senior Citizen’s Centre
REFRESH-INTERVAL;VALUE=DURATION:PT1H
X-Robots-Tag:noindex
X-PUBLISHED-TTL:PT1H
BEGIN:VTIMEZONE
TZID:America/Edmonton
BEGIN:DAYLIGHT
TZOFFSETFROM:-0700
TZOFFSETTO:-0600
TZNAME:MDT
DTSTART:20230312T090000
END:DAYLIGHT
BEGIN:STANDARD
TZOFFSETFROM:-0600
TZOFFSETTO:-0700
TZNAME:MST
DTSTART:20231105T080000
END:STANDARD
BEGIN:DAYLIGHT
TZOFFSETFROM:-0700
TZOFFSETTO:-0600
TZNAME:MDT
DTSTART:20240310T090000
END:DAYLIGHT
BEGIN:STANDARD
TZOFFSETFROM:-0600
TZOFFSETTO:-0700
TZNAME:MST
DTSTART:20241103T080000
END:STANDARD
BEGIN:DAYLIGHT
TZOFFSETFROM:-0700
TZOFFSETTO:-0600
TZNAME:MDT
DTSTART:20250309T090000
END:DAYLIGHT
BEGIN:STANDARD
TZOFFSETFROM:-0600
TZOFFSETTO:-0700
TZNAME:MST
DTSTART:20251102T080000
END:STANDARD
END:VTIMEZONE
BEGIN:VEVENT
DTSTART;VALUE=DATE:20240512
DTEND;VALUE=DATE:20240513
DTSTAMP:20260419T091620
CREATED:20240509T195709Z
LAST-MODIFIED:20240509T195709Z
UID:10002075-1715472000-1715558399@www.jdicseniors.ca
SUMMARY:Lunch Menu | May 12
DESCRIPTION:11a.m.Mother’s Day Brunch
URL:https://www.jdicseniors.ca/event/lunch-menu-may-12/
LOCATION:Alberta
CATEGORIES:Menu
END:VEVENT
BEGIN:VEVENT
DTSTART;TZID=America/Edmonton:20240512T110000
DTEND;TZID=America/Edmonton:20240512T130000
DTSTAMP:20260419T091620
CREATED:20240327T212137Z
LAST-MODIFIED:20240327T212137Z
UID:10001983-1715511600-1715518800@www.jdicseniors.ca
SUMMARY:Mother’s Day Brunch with Concert
DESCRIPTION:Sunday\, May 12 at 11a.m.\nBring the dearest people in your life to enjoy a delicious brunch with complimentary Mimosa and admire the Woodwind Quintet of The Royal Canadian Artillery Band. \nFee: $36 per person
URL:https://www.jdicseniors.ca/event/mothers-day-brunch-with-concert/
LOCATION:The Centre\, 10052-117 St. NW\, Edmonton\, Alberta\, T5K 1X2\, Canada
ATTACH;FMTTYPE=image/png:https://www.jdicseniors.ca/wp-content/uploads/2024/03/image29.png
END:VEVENT
END:VCALENDAR