BEGIN:VCALENDAR
VERSION:2.0
PRODID:-//Jewish Senior Citizen’s Centre - ECPv6.15.17.1//NONSGML v1.0//EN
CALSCALE:GREGORIAN
METHOD:PUBLISH
X-ORIGINAL-URL:https://www.jdicseniors.ca
X-WR-CALDESC:Events for Jewish Senior Citizen’s Centre
REFRESH-INTERVAL;VALUE=DURATION:PT1H
X-Robots-Tag:noindex
X-PUBLISHED-TTL:PT1H
BEGIN:VTIMEZONE
TZID:America/Edmonton
BEGIN:DAYLIGHT
TZOFFSETFROM:-0700
TZOFFSETTO:-0600
TZNAME:MDT
DTSTART:20230312T090000
END:DAYLIGHT
BEGIN:STANDARD
TZOFFSETFROM:-0600
TZOFFSETTO:-0700
TZNAME:MST
DTSTART:20231105T080000
END:STANDARD
BEGIN:DAYLIGHT
TZOFFSETFROM:-0700
TZOFFSETTO:-0600
TZNAME:MDT
DTSTART:20240310T090000
END:DAYLIGHT
BEGIN:STANDARD
TZOFFSETFROM:-0600
TZOFFSETTO:-0700
TZNAME:MST
DTSTART:20241103T080000
END:STANDARD
BEGIN:DAYLIGHT
TZOFFSETFROM:-0700
TZOFFSETTO:-0600
TZNAME:MDT
DTSTART:20250309T090000
END:DAYLIGHT
BEGIN:STANDARD
TZOFFSETFROM:-0600
TZOFFSETTO:-0700
TZNAME:MST
DTSTART:20251102T080000
END:STANDARD
END:VTIMEZONE
BEGIN:VEVENT
DTSTART;VALUE=DATE:20240416
DTEND;VALUE=DATE:20240417
DTSTAMP:20260419T105505
CREATED:20240327T195013Z
LAST-MODIFIED:20240327T195013Z
UID:10001820-1713225600-1713311999@www.jdicseniors.ca
SUMMARY:Lunch Menu | Apr 16
DESCRIPTION:Lentil SoupSpaghetti Bolognese\nSalad/Dessert
URL:https://www.jdicseniors.ca/event/lunch-menu-apr-16/
LOCATION:The Centre\, 10052-117 St. NW\, Edmonton\, Alberta\, T5K 1X2\, Canada
CATEGORIES:Menu
ORGANIZER;CN="JDIC":MAILTO:programmer@jdicseniors.ca
END:VEVENT
BEGIN:VEVENT
DTSTART;TZID=America/Edmonton:20240416T104500
DTEND;TZID=America/Edmonton:20240416T114500
DTSTAMP:20260419T105505
CREATED:20231204T224310Z
LAST-MODIFIED:20240904T201856Z
UID:10000645-1713264300-1713267900@www.jdicseniors.ca
SUMMARY:Use it or Lose it With Bonnie Austen
DESCRIPTION:Use it or Lose it With Bonnie Austen\nCardio & Strength training\, Flexibility & Balance & Laugher \nTuesdays @10:45a.m.\nhttps://us02web.Zoom.us/j/89274775349 \nFee: $7 drop-in or card of 10 classes $60
URL:https://www.jdicseniors.ca/event/use-it-or-lose-it-with-bonnie-austen-2/2024-04-16/
LOCATION:Zoom
CATEGORIES:Health & Wellness
ATTACH;FMTTYPE=image/png:https://www.jdicseniors.ca/wp-content/uploads/2023/12/Screen-Shot-2023-12-04-at-4.45.12-PM.png
ORGANIZER;CN="JDIC":MAILTO:programmer@jdicseniors.ca
END:VEVENT
BEGIN:VEVENT
DTSTART;TZID=America/Edmonton:20240416T120000
DTEND;TZID=America/Edmonton:20240416T130000
DTSTAMP:20260419T105505
CREATED:20240327T210812Z
LAST-MODIFIED:20240327T210812Z
UID:10001972-1713268800-1713272400@www.jdicseniors.ca
SUMMARY:Saving Money at the Grocery Store
DESCRIPTION:On Tuesday\, April 16 at 12p.m.\nKristen\, our very own Nutritionist\, will share tips and tricks for affording a healthy diet without breaking the bank. We’ll also explore various funding sources available for seniors’ nutrition needs. Attendees will leave with valuable information and more money in their pockets.
URL:https://www.jdicseniors.ca/event/saving-money-at-the-grocery-store/
LOCATION:Alberta
CATEGORIES:Lunch & Learn
ATTACH;FMTTYPE=image/png:https://www.jdicseniors.ca/wp-content/uploads/2024/03/Screen-Shot-2024-03-27-at-3.07.28-PM.png
END:VEVENT
END:VCALENDAR