BEGIN:VCALENDAR
VERSION:2.0
PRODID:-//Jewish Senior Citizen’s Centre - ECPv6.15.17.1//NONSGML v1.0//EN
CALSCALE:GREGORIAN
METHOD:PUBLISH
X-ORIGINAL-URL:https://www.jdicseniors.ca
X-WR-CALDESC:Events for Jewish Senior Citizen’s Centre
REFRESH-INTERVAL;VALUE=DURATION:PT1H
X-Robots-Tag:noindex
X-PUBLISHED-TTL:PT1H
BEGIN:VTIMEZONE
TZID:America/Edmonton
BEGIN:DAYLIGHT
TZOFFSETFROM:-0700
TZOFFSETTO:-0600
TZNAME:MDT
DTSTART:20230312T090000
END:DAYLIGHT
BEGIN:STANDARD
TZOFFSETFROM:-0600
TZOFFSETTO:-0700
TZNAME:MST
DTSTART:20231105T080000
END:STANDARD
BEGIN:DAYLIGHT
TZOFFSETFROM:-0700
TZOFFSETTO:-0600
TZNAME:MDT
DTSTART:20240310T090000
END:DAYLIGHT
BEGIN:STANDARD
TZOFFSETFROM:-0600
TZOFFSETTO:-0700
TZNAME:MST
DTSTART:20241103T080000
END:STANDARD
BEGIN:DAYLIGHT
TZOFFSETFROM:-0700
TZOFFSETTO:-0600
TZNAME:MDT
DTSTART:20250309T090000
END:DAYLIGHT
BEGIN:STANDARD
TZOFFSETFROM:-0600
TZOFFSETTO:-0700
TZNAME:MST
DTSTART:20251102T080000
END:STANDARD
END:VTIMEZONE
BEGIN:VEVENT
DTSTART;VALUE=DATE:20240409
DTEND;VALUE=DATE:20240410
DTSTAMP:20260419T123426
CREATED:20240327T194958Z
LAST-MODIFIED:20240327T194958Z
UID:10001815-1712620800-1712707199@www.jdicseniors.ca
SUMMARY:Lunch Menu | Apr 9
DESCRIPTION:Bean Soup Frittata\nSalad/Dessert
URL:https://www.jdicseniors.ca/event/lunch-menu-apr-9/
LOCATION:The Centre\, 10052-117 St. NW\, Edmonton\, Alberta\, T5K 1X2\, Canada
CATEGORIES:Menu
ORGANIZER;CN="JDIC":MAILTO:programmer@jdicseniors.ca
END:VEVENT
BEGIN:VEVENT
DTSTART;TZID=America/Edmonton:20240409T104500
DTEND;TZID=America/Edmonton:20240409T114500
DTSTAMP:20260419T123426
CREATED:20231204T224310Z
LAST-MODIFIED:20240904T201856Z
UID:10000644-1712659500-1712663100@www.jdicseniors.ca
SUMMARY:Use it or Lose it With Bonnie Austen
DESCRIPTION:Use it or Lose it With Bonnie Austen\nCardio & Strength training\, Flexibility & Balance & Laugher \nTuesdays @10:45a.m.\nhttps://us02web.Zoom.us/j/89274775349 \nFee: $7 drop-in or card of 10 classes $60
URL:https://www.jdicseniors.ca/event/use-it-or-lose-it-with-bonnie-austen-2/2024-04-09/
LOCATION:Zoom
CATEGORIES:Health & Wellness
ATTACH;FMTTYPE=image/png:https://www.jdicseniors.ca/wp-content/uploads/2023/12/Screen-Shot-2023-12-04-at-4.45.12-PM.png
ORGANIZER;CN="JDIC":MAILTO:programmer@jdicseniors.ca
END:VEVENT
BEGIN:VEVENT
DTSTART;TZID=America/Edmonton:20240409T130000
DTEND;TZID=America/Edmonton:20240409T150000
DTSTAMP:20260419T123426
CREATED:20240327T210112Z
LAST-MODIFIED:20240327T210112Z
UID:10001967-1712667600-1712674800@www.jdicseniors.ca
SUMMARY:Let’s Chat About Palliative Care
DESCRIPTION:On Tuesday\, April 9 1p.m. -3p.m.\nDr. Robin Fainsinger graduated from the University of Cape Town in South Africa in 1981. He and his wife immigrated to Canada in 1985 and lived in rural Saskatchewan for a number of years\, where Dr. Fainsinger worked as a Family Practitioner. \nDr. Fainsinger obtained the CCFP in 1990 and completed the first fellowship in palliative care medicine at the University of Alberta in the same year. Since then\, he has worked with the Palliative Care Program at the Edmonton General Hospital and Grey Nuns Hospital. He is active in education and research\, and has published articles on a number of palliative care topics\, with an interest in dehydration\, delirium and sedation at the end of life. His present research focus is on developing the Edmonton Classification System for Cancer Pain (ECS-CP). He has over 180 publications in journals and book chapters.
URL:https://www.jdicseniors.ca/event/lets-chat-about-palliative-care/
LOCATION:The Centre\, 10052-117 St. NW\, Edmonton\, Alberta\, T5K 1X2\, Canada
CATEGORIES:Special Events & Presentations
END:VEVENT
END:VCALENDAR