BEGIN:VCALENDAR
VERSION:2.0
PRODID:-//Jewish Senior Citizen’s Centre - ECPv6.15.17.1//NONSGML v1.0//EN
CALSCALE:GREGORIAN
METHOD:PUBLISH
X-ORIGINAL-URL:https://www.jdicseniors.ca
X-WR-CALDESC:Events for Jewish Senior Citizen’s Centre
REFRESH-INTERVAL;VALUE=DURATION:PT1H
X-Robots-Tag:noindex
X-PUBLISHED-TTL:PT1H
BEGIN:VTIMEZONE
TZID:America/Edmonton
BEGIN:DAYLIGHT
TZOFFSETFROM:-0700
TZOFFSETTO:-0600
TZNAME:MDT
DTSTART:20230312T090000
END:DAYLIGHT
BEGIN:STANDARD
TZOFFSETFROM:-0600
TZOFFSETTO:-0700
TZNAME:MST
DTSTART:20231105T080000
END:STANDARD
BEGIN:DAYLIGHT
TZOFFSETFROM:-0700
TZOFFSETTO:-0600
TZNAME:MDT
DTSTART:20240310T090000
END:DAYLIGHT
BEGIN:STANDARD
TZOFFSETFROM:-0600
TZOFFSETTO:-0700
TZNAME:MST
DTSTART:20241103T080000
END:STANDARD
BEGIN:DAYLIGHT
TZOFFSETFROM:-0700
TZOFFSETTO:-0600
TZNAME:MDT
DTSTART:20250309T090000
END:DAYLIGHT
BEGIN:STANDARD
TZOFFSETFROM:-0600
TZOFFSETTO:-0700
TZNAME:MST
DTSTART:20251102T080000
END:STANDARD
END:VTIMEZONE
BEGIN:VEVENT
DTSTART;VALUE=DATE:20240407
DTEND;VALUE=DATE:20240408
DTSTAMP:20260419T105506
CREATED:20240327T194943Z
LAST-MODIFIED:20240327T194943Z
UID:10001813-1712448000-1712534399@www.jdicseniors.ca
SUMMARY:Lunch Menu | Apr 7
DESCRIPTION:4pmWhisky tasting
URL:https://www.jdicseniors.ca/event/lunch-menu-apr-7/
LOCATION:The Centre\, 10052-117 St. NW\, Edmonton\, Alberta\, T5K 1X2\, Canada
CATEGORIES:Menu
ORGANIZER;CN="JDIC":MAILTO:programmer@jdicseniors.ca
END:VEVENT
BEGIN:VEVENT
DTSTART;TZID=America/Edmonton:20240407T160000
DTEND;TZID=America/Edmonton:20240407T170000
DTSTAMP:20260419T105506
CREATED:20240327T202504Z
LAST-MODIFIED:20240328T174800Z
UID:10001895-1712505600-1712509200@www.jdicseniors.ca
SUMMARY:Friends Gather & Whisky Tasting
DESCRIPTION:Join Jon Whisky Neighbour\, a Canadian Whisky enthusiast who loves to share his passion in this liquid of life! \nHe believes learning to appreciate whisky is a life-long journey. \nHe brings a wealth of experience and a keen understanding of the process! We are proud to offer a selection of Whisky from all over the world!  \nYour ticket of $54 per guest will include a presentation\, 5 different whisky samples pared with special treats\, dessert reception and entertainment. \nLimited Seating\, RSVP\nby Thursday\, March 28 with payment.
URL:https://www.jdicseniors.ca/event/friends-gather-whisky-tasting/
LOCATION:Alberta
CATEGORIES:Special Events & Presentations
ATTACH;FMTTYPE=image/jpeg:https://www.jdicseniors.ca/wp-content/uploads/2024/03/adam-jaime-dmkmrNptMpw-unsplash-1.jpg
END:VEVENT
END:VCALENDAR