BEGIN:VCALENDAR
VERSION:2.0
PRODID:-//Jewish Senior Citizen’s Centre - ECPv6.15.17.1//NONSGML v1.0//EN
CALSCALE:GREGORIAN
METHOD:PUBLISH
X-ORIGINAL-URL:https://www.jdicseniors.ca
X-WR-CALDESC:Events for Jewish Senior Citizen’s Centre
REFRESH-INTERVAL;VALUE=DURATION:PT1H
X-Robots-Tag:noindex
X-PUBLISHED-TTL:PT1H
BEGIN:VTIMEZONE
TZID:America/Edmonton
BEGIN:DAYLIGHT
TZOFFSETFROM:-0700
TZOFFSETTO:-0600
TZNAME:MDT
DTSTART:20230312T090000
END:DAYLIGHT
BEGIN:STANDARD
TZOFFSETFROM:-0600
TZOFFSETTO:-0700
TZNAME:MST
DTSTART:20231105T080000
END:STANDARD
BEGIN:DAYLIGHT
TZOFFSETFROM:-0700
TZOFFSETTO:-0600
TZNAME:MDT
DTSTART:20240310T090000
END:DAYLIGHT
BEGIN:STANDARD
TZOFFSETFROM:-0600
TZOFFSETTO:-0700
TZNAME:MST
DTSTART:20241103T080000
END:STANDARD
BEGIN:DAYLIGHT
TZOFFSETFROM:-0700
TZOFFSETTO:-0600
TZNAME:MDT
DTSTART:20250309T090000
END:DAYLIGHT
BEGIN:STANDARD
TZOFFSETFROM:-0600
TZOFFSETTO:-0700
TZNAME:MST
DTSTART:20251102T080000
END:STANDARD
END:VTIMEZONE
BEGIN:VEVENT
DTSTART;VALUE=DATE:20240326
DTEND;VALUE=DATE:20240327
DTSTAMP:20260419T124348
CREATED:20240327T194928Z
LAST-MODIFIED:20240327T194928Z
UID:10001807-1711411200-1711497599@www.jdicseniors.ca
SUMMARY:Lunch Menu | Mar 26
DESCRIPTION:Birthday LunchSquash Soup\nTuna Pattie & Fries\nSalad/Dessert
URL:https://www.jdicseniors.ca/event/lunch-menu-mar-26/
LOCATION:The Centre\, 10052-117 St. NW\, Edmonton\, Alberta\, T5K 1X2\, Canada
CATEGORIES:Menu
ORGANIZER;CN="JDIC":MAILTO:programmer@jdicseniors.ca
END:VEVENT
BEGIN:VEVENT
DTSTART;TZID=America/Edmonton:20240326T104500
DTEND;TZID=America/Edmonton:20240326T114500
DTSTAMP:20260419T124348
CREATED:20231204T224310Z
LAST-MODIFIED:20240904T201856Z
UID:10000642-1711449900-1711453500@www.jdicseniors.ca
SUMMARY:Use it or Lose it With Bonnie Austen
DESCRIPTION:Use it or Lose it With Bonnie Austen\nCardio & Strength training\, Flexibility & Balance & Laugher \nTuesdays @10:45a.m.\nhttps://us02web.Zoom.us/j/89274775349 \nFee: $7 drop-in or card of 10 classes $60
URL:https://www.jdicseniors.ca/event/use-it-or-lose-it-with-bonnie-austen-2/2024-03-26/
LOCATION:Zoom
CATEGORIES:Health & Wellness
ATTACH;FMTTYPE=image/png:https://www.jdicseniors.ca/wp-content/uploads/2023/12/Screen-Shot-2023-12-04-at-4.45.12-PM.png
ORGANIZER;CN="JDIC":MAILTO:programmer@jdicseniors.ca
END:VEVENT
BEGIN:VEVENT
DTSTART;TZID=America/Edmonton:20240326T130000
DTEND;TZID=America/Edmonton:20240326T140000
DTSTAMP:20260419T124348
CREATED:20240327T211019Z
LAST-MODIFIED:20240327T211019Z
UID:10001973-1711458000-1711461600@www.jdicseniors.ca
SUMMARY:Understanding Investment Management Fees with Your Financial Institution With Wei Woo\, Investment Advisor\, CIM\, EPC
DESCRIPTION:On Tuesday\, March 26 at 1p.m.\nAn increasing number of banks and investment firms’ clients are demanding more clarity on the type of investment fees they are paying directly or indirectly\, as well as to why. Come join Wei Woo as we explore this very relevant and important issue in depth. There will also be discussions on fee based accounts\, and if they are truly beneficial to your situation
URL:https://www.jdicseniors.ca/event/understanding-investment-management-fees-with-your-financial-institution-with-wei-woo-investment-advisor-cim-epc/
LOCATION:Alberta
CATEGORIES:Lunch & Learn
END:VEVENT
END:VCALENDAR